BEGIN:VCALENDAR
VERSION:2.0
PRODID:-//Temple Shaaray Tefila - ECPv6.15.20//NONSGML v1.0//EN
CALSCALE:GREGORIAN
METHOD:PUBLISH
X-WR-CALNAME:Temple Shaaray Tefila
X-ORIGINAL-URL:https://www.shaaraytefila.org
X-WR-CALDESC:Events for Temple Shaaray Tefila
REFRESH-INTERVAL;VALUE=DURATION:PT1H
X-Robots-Tag:noindex
X-PUBLISHED-TTL:PT1H
BEGIN:VTIMEZONE
TZID:America/New_York
BEGIN:DAYLIGHT
TZOFFSETFROM:-0500
TZOFFSETTO:-0400
TZNAME:EDT
DTSTART:20240310T070000
END:DAYLIGHT
BEGIN:STANDARD
TZOFFSETFROM:-0400
TZOFFSETTO:-0500
TZNAME:EST
DTSTART:20241103T060000
END:STANDARD
BEGIN:DAYLIGHT
TZOFFSETFROM:-0500
TZOFFSETTO:-0400
TZNAME:EDT
DTSTART:20250309T070000
END:DAYLIGHT
BEGIN:STANDARD
TZOFFSETFROM:-0400
TZOFFSETTO:-0500
TZNAME:EST
DTSTART:20251102T060000
END:STANDARD
BEGIN:DAYLIGHT
TZOFFSETFROM:-0500
TZOFFSETTO:-0400
TZNAME:EDT
DTSTART:20260308T070000
END:DAYLIGHT
BEGIN:STANDARD
TZOFFSETFROM:-0400
TZOFFSETTO:-0500
TZNAME:EST
DTSTART:20261101T060000
END:STANDARD
END:VTIMEZONE
BEGIN:VEVENT
DTSTART;VALUE=DATE:20251114
DTEND;VALUE=DATE:20251115
DTSTAMP:20260422T184834
CREATED:20250909T153422Z
LAST-MODIFIED:20250909T154734Z
UID:10001429-1763078400-1763164799@www.shaaraytefila.org
SUMMARY:Kristallnacht Service
DESCRIPTION:
URL:https://www.shaaraytefila.org/event/kristallnacht-service/
ATTACH;FMTTYPE=image/jpeg:https://www.shaaraytefila.org/wp-content/uploads/2025/04/Yiskor-candle.jpg
END:VEVENT
BEGIN:VEVENT
DTSTART;VALUE=DATE:20251114
DTEND;VALUE=DATE:20251115
DTSTAMP:20260422T184834
CREATED:20250909T153354Z
LAST-MODIFIED:20251028T133620Z
UID:10001428-1763078400-1763164799@www.shaaraytefila.org
SUMMARY:Dinner Recognizing HHD Volunteers
DESCRIPTION:Join us for a special Shabbat Dinner as we thank our High Holiday volunteers. Volunteers are our guests—everyone is welcome! Please let us know you are coming! RSVP
URL:https://www.shaaraytefila.org/event/dinner-recognizing-hhd-volunteers/
ATTACH;FMTTYPE=image/png:https://www.shaaraytefila.org/wp-content/uploads/2023/10/ShabbatDinner.png
END:VEVENT
BEGIN:VEVENT
DTSTART;VALUE=DATE:20251114
DTEND;VALUE=DATE:20251115
DTSTAMP:20260422T184834
CREATED:20250909T153318Z
LAST-MODIFIED:20251028T133528Z
UID:10001427-1763078400-1763164799@www.shaaraytefila.org
SUMMARY:TOT Shabbat
DESCRIPTION:Join us at 5:30pm to 6:00pm in the Sanctuary for a family friendly musical service.
URL:https://www.shaaraytefila.org/event/tot-shabbat-4/
ATTACH;FMTTYPE=image/jpeg:https://www.shaaraytefila.org/wp-content/uploads/2022/08/220708_Cantor_Ines_013.jpg
END:VEVENT
BEGIN:VEVENT
DTSTART;VALUE=DATE:20251113
DTEND;VALUE=DATE:20251114
DTSTAMP:20260422T184834
CREATED:20250909T153252Z
LAST-MODIFIED:20251106T215603Z
UID:10001426-1762992000-1763078399@www.shaaraytefila.org
SUMMARY:Shopping at Shaaray
DESCRIPTION:[vc_row][vc_column][vc_single_image image=”5364″ img_size=”Large” css=””][/vc_column][/vc_row]
URL:https://www.shaaraytefila.org/event/shopping-at-shaaray-2/
ATTACH;FMTTYPE=image/jpeg:https://www.shaaraytefila.org/wp-content/uploads/2025/09/SHOPPING-GREEN.JPG.jpeg
END:VEVENT
BEGIN:VEVENT
DTSTART;TZID=America/New_York:20251112T000000
DTEND;TZID=America/New_York:20251112T123000
DTSTAMP:20260422T184834
CREATED:20250811T191332Z
LAST-MODIFIED:20250811T191333Z
UID:10001311-1762905600-1762950600@www.shaaraytefila.org
SUMMARY:Shul Stitchers
DESCRIPTION:We are getting together on the second Wednesday of every month at 11:00AM in the JHC.  Please bring your needles and hooks and yarn. \nAs most of you are aware\, our mission/mitzvah is to knit/crochet blankets\, hats and scarves for those in need.  If you have a favorite organization that is in need of our knitted/crocheted items\, please let us know at the meeting.
URL:https://www.shaaraytefila.org/event/shul-stichers-2-2-4/2025-11-12/
ATTACH;FMTTYPE=image/png:https://www.shaaraytefila.org/wp-content/uploads/2025/01/Shul-Stitchers.png
END:VEVENT
BEGIN:VEVENT
DTSTART;VALUE=DATE:20251110
DTEND;VALUE=DATE:20251111
DTSTAMP:20260422T184834
CREATED:20250909T165221Z
LAST-MODIFIED:20250916T195720Z
UID:10001438-1762732800-1762819199@www.shaaraytefila.org
SUMMARY:Lunch & Learn
DESCRIPTION:As Reform Judaism began and grew in Europe and the United States in the 19th and early 20th centuries\, our movement’s founders experimented with a spectrum of possibilities and many carry on today. “When Shabbat Was on Sunday: The Rise and Growth of Reform Judaism\,” will explore the origins of our movement\, including the re-introduction of instrumental music\, replacing B’nai Mitzvah with confirmation\, moving Shabbat services to Sunday\, and other experiments and innovations. Join Temple members and Rabbi Ross\, Mondays November  3 and 10 from 12:00 to 1:00 PM for a look at our past and lively discussion. Bring your own lunch. The Temple will provide beverages. \n  \nRSVP: \nhttps://shaaraytefila.shulcloud.com/form/RSVP%20for%20Lunch%20&%20Learn
URL:https://www.shaaraytefila.org/event/lunch-learn-2/
ATTACH;FMTTYPE=image/jpeg:https://www.shaaraytefila.org/wp-content/uploads/2024/06/Rabbi-Dennis-Ross-photo-1-scaled.jpg
END:VEVENT
BEGIN:VEVENT
DTSTART;TZID=America/New_York:20251108T085000
DTEND;TZID=America/New_York:20251108T100000
DTSTAMP:20260422T184834
CREATED:20250109T193216Z
LAST-MODIFIED:20250109T204947Z
UID:10000365-1762591800-1762596000@www.shaaraytefila.org
SUMMARY:Torah Study
DESCRIPTION:Torah Study In Person every Saturday \n8:50am Minyan 9am Torah Study \nAnd on Zoom – see our newsletter
URL:https://www.shaaraytefila.org/event/torah-study/2025-11-08/
ATTACH;FMTTYPE=image/jpeg:https://www.shaaraytefila.org/wp-content/uploads/2024/09/torah-scrolls.jpg
LOCATION:https://www.shaaraytefila.org/event/torah-study/2025-11-08/
END:VEVENT
BEGIN:VEVENT
DTSTART;VALUE=DATE:20251108
DTEND;VALUE=DATE:20251109
DTSTAMP:20260422T184834
CREATED:20250909T153156Z
LAST-MODIFIED:20251030T170636Z
UID:10001425-1762560000-1762646399@www.shaaraytefila.org
SUMMARY:Sisterhood Beatles Cover Band Dance Party-MOVED TO MARCH 14th\, 2026
DESCRIPTION:[vc_row][vc_column][vc_column_text css=””] \nEVENT POSTPONED – MORE DETAILS TO FOLLOW\n\nCOME TOGETHER: TEMPLE SHAARAY TEFILA TURNS 50! \nSAVE THE DATE FOR OUR CELEBRATION FEATURING “THE DAY TRIPPERS” – A LIVE BEATLES EXPERIENCE\n\nMark your calendars for a fabulous evening of live music and dancing…\n\nWHEN: THIS EVENT HAS BEEN POSTPONED – STAY TUNED FOR A DATE\n\nWHERE: TST Social Hall\n\nWHAT: A 50th anniversary event\, featuring “The Day Trippers\,” a high-energy Beatles tribute band\n\nAll you need is love...Let’s celebrate our incredible community\, and start this GOLDEN YEAR with peace\, love and a little help from our friends.\n\nFood\, fun and fab four vibes await. Don’t miss it – it’s gonna be a hard day’s night\, and you deserve to enjoy every minute.\n\nThis event is brought to you by the TST Sisterhood\n[/vc_column_text][/vc_column][/vc_row]
URL:https://www.shaaraytefila.org/event/sisterhood-beatles-cover-band-dance-party/
ATTACH;FMTTYPE=image/png:https://www.shaaraytefila.org/wp-content/uploads/2025/09/TST-Sisterhood-Flyer-1.png
END:VEVENT
BEGIN:VEVENT
DTSTART;TZID=America/New_York:20251107T190000
DTEND;TZID=America/New_York:20251107T200000
DTSTAMP:20260422T184834
CREATED:20241110T092727Z
LAST-MODIFIED:20241121T203315Z
UID:10000108-1762542000-1762545600@www.shaaraytefila.org
SUMMARY:Shabbat Service & Oneg
DESCRIPTION:
URL:https://www.shaaraytefila.org/event/shabbat-5/2025-11-07/
CATEGORIES:Worship
ATTACH;FMTTYPE=image/jpeg:https://www.shaaraytefila.org/wp-content/uploads/2024/11/challah-cropped.jpg
END:VEVENT
BEGIN:VEVENT
DTSTART;TZID=America/New_York:20251106T080000
DTEND;TZID=America/New_York:20251106T170000
DTSTAMP:20260422T184834
CREATED:20251014T191145Z
LAST-MODIFIED:20251022T211450Z
UID:10001441-1762416000-1762448400@www.shaaraytefila.org
SUMMARY:"The Ethics of the IDF"  - An Evening with Joel Chasnoff
DESCRIPTION:[vc_row][vc_column][vc_column_text css=””]An Evening with Joel Chasnoff – November 6th\, 7:30 PM \nJoin for a discussion with former IDF soldier\, podcaster and best selling author of Israel 201 Joel Chasnoff in which we explore the complexity of IDF moral dilemmas. Participants will receive a double-sided\, full-color PDF that includes the core text of the IDF’s Purity of Arms\, real-life dilemmas faced by IDF soldiers\, and relevant Torah passages that form the ethical backbone of these discussions. RSVP[/vc_column_text][/vc_column][/vc_row]
URL:https://www.shaaraytefila.org/event/the-ethics-of-the-idf-an-evening-with-joel-chasnoff/
ATTACH;FMTTYPE=application/pdf:https://www.shaaraytefila.org/wp-content/uploads/2025/10/Flyer_Shaaray-Tefila_Nov-6-1.pdf
END:VEVENT
BEGIN:VEVENT
DTSTART;TZID=America/New_York:20251104T193000
DTEND;TZID=America/New_York:20251104T203000
DTSTAMP:20260422T184834
CREATED:20251028T201212Z
LAST-MODIFIED:20251028T201212Z
UID:10001034-1762284600-1762288200@www.shaaraytefila.org
SUMMARY:Rabbi Greenberg Forum
DESCRIPTION:*NOTE: New day and time! \nJoin Rabbi Greenberg for his weekly forum on Zoom!
URL:https://www.shaaraytefila.org/event/rabbi-greenberg-forum-10/
ATTACH;FMTTYPE=image/jpeg:https://www.shaaraytefila.org/wp-content/uploads/2024/09/Rabbi-David-Greenberg-cropped-e1736453527301.jpg
END:VEVENT
BEGIN:VEVENT
DTSTART;TZID=America/New_York:20251103T190000
DTEND;TZID=America/New_York:20251103T203000
DTSTAMP:20260422T184834
CREATED:20251014T192004Z
LAST-MODIFIED:20251027T231552Z
UID:10001442-1762196400-1762201800@www.shaaraytefila.org
SUMMARY:A Discussion with Rabbi Kronish
DESCRIPTION:PEACEBUILDING AND PEACEMAKING BETWEEN ISRAELIS AND PALESTINIANS: WHY PEACE MAY STILL BE POSSIBLE?  \nStories Behind the News in Israel: From an American-Israeli Jew Who Has Lived in Israel for 46 years
URL:https://www.shaaraytefila.org/event/a-discussion-with-rabbi-kronish/
ATTACH;FMTTYPE=image/jpeg:https://www.shaaraytefila.org/wp-content/uploads/2025/10/2021-August-22-Ron-Kronish-headshot-273-scaled.jpg
END:VEVENT
BEGIN:VEVENT
DTSTART;VALUE=DATE:20251103
DTEND;VALUE=DATE:20251104
DTSTAMP:20260422T184834
CREATED:20250909T165135Z
LAST-MODIFIED:20250909T170249Z
UID:10001437-1762128000-1762214399@www.shaaraytefila.org
SUMMARY:Lunch & Learn
DESCRIPTION:As Reform Judaism began and grew in Europe and the United States in the 19th and early 20th centuries\, our movement’s founders experimented with a spectrum of possibilities and many carry on today. “When Shabbat Was on Sunday: The Rise and Growth of Reform Judaism\,” will explore the origins of our movement\, including the re-introduction of instrumental music\, replacing B’nai Mitzvah with confirmation\, moving Shabbat services to Sunday\, and other experiments and innovations. Join Temple members and Rabbi Ross\, Mondays November  3 and 10 from 12:00 to 1:00 PM for a look at our past and lively discussion. Bring your own lunch. The Temple will provide beverages. \n  \nRSVP: \nhttps://shaaraytefila.shulcloud.com/form/RSVP%20for%20Lunch%20&%20Learn
URL:https://www.shaaraytefila.org/event/lunch-learn/
ATTACH;FMTTYPE=image/jpeg:https://www.shaaraytefila.org/wp-content/uploads/2024/06/Rabbi-Dennis-Ross-photo-1-scaled.jpg
END:VEVENT
BEGIN:VEVENT
DTSTART;VALUE=DATE:20251102
DTEND;VALUE=DATE:20251103
DTSTAMP:20260422T184834
CREATED:20250909T151002Z
LAST-MODIFIED:20251030T170545Z
UID:10001421-1762041600-1762127999@www.shaaraytefila.org
SUMMARY:Lower East Side Food Tour-Postponed
DESCRIPTION:Lower East Side Walking Food Tour \nSponsored by Shaaray Tefilia Talks  \n\nSave the date and reserve your spot now…Join Nice Guy Food Tours on a walking food tour of the Lower East Side. We will explore an area of Manhattan that is the heart of New York’s immigrant history. You will learn about the area’s rich history while indulging in many of its famous\, delicious eats! Enjoy everything from doughnuts to the best pastrami ever. We will hit six delicious spots on this three hour walking tour from Katz’s Deli to Doughnut Planet.  \nOn the Lower East Side Food Tour\, you will: \n\nTaste authentic local favorites: Indulge in classic dishes like bagels\, pickles\, and pastrami that have defined the neighborhood’s culinary legacy.\nSee landmarks of NYC’s immigrant history: Walk past historic synagogues\, tenements\, and bustling markets that tell the story of the city’s early settlers.\nHear the stories of resilience and community: Learn how waves of immigrants shaped the Lower East Side into the cultural hub it is today.\nExperience the vibrant atmosphere: Immerse yourself in the sights\, sounds\, and energy of one of NYC’s most diverse and storied neighborhoods.\n\nMeet at 10:00 am on Sunday\, November 2nd in the Lower East Side (exact location TBD). \n$118.00 per person \n$136 non-members \nSpace is limited. RSVP by 10/15 \nAdditional info: \nBefore we get to the food\, let us paint you a picture of this unique experience. On this Lower East Side Walking Food Tour\, we explore an area going through more changes than any other in Manhattan. At one time\, the Lower East Side was the most densely-populated place on earth and also a hub for shopping. These days\, you can witness an up-and-coming hip neighborhood that’s a combination of old and new school – one that’s rich in history and stacked with famous eats. \nYour tour guide is a real New Yorker who will show you all the best food on this tour. \nIn terms of LES history\, you learn about the pushcart culture of the early 1900s. And\, of course\, you get to taste some of the most delicious food the city has to offer! Savor the best pastrami ever\, and satisfy your sweet or your sour tooth. Speaking of the latter\, you literally get yourself into a pickle on this tour! Bring your appetite! \nRSVP: \nhttps://shaaraytefila.shulcloud.com/form/Lower%20East%20Side%20Food%20Tour
URL:https://www.shaaraytefila.org/event/lower-east-side-food-tour/
ATTACH;FMTTYPE=image/jpeg:https://www.shaaraytefila.org/wp-content/uploads/2025/09/IMG_3440-scaled.jpg
END:VEVENT
BEGIN:VEVENT
DTSTART;TZID=America/New_York:20251101T085000
DTEND;TZID=America/New_York:20251101T100000
DTSTAMP:20260422T184834
CREATED:20250109T193216Z
LAST-MODIFIED:20250109T204947Z
UID:10000364-1761987000-1761991200@www.shaaraytefila.org
SUMMARY:Torah Study
DESCRIPTION:Torah Study In Person every Saturday \n8:50am Minyan 9am Torah Study \nAnd on Zoom – see our newsletter
URL:https://www.shaaraytefila.org/event/torah-study/2025-11-01/
ATTACH;FMTTYPE=image/jpeg:https://www.shaaraytefila.org/wp-content/uploads/2024/09/torah-scrolls.jpg
LOCATION:https://www.shaaraytefila.org/event/torah-study/2025-11-01/
END:VEVENT
BEGIN:VEVENT
DTSTART;TZID=America/New_York:20251031T190000
DTEND;TZID=America/New_York:20251031T200000
DTSTAMP:20260422T184834
CREATED:20241110T092727Z
LAST-MODIFIED:20241121T203315Z
UID:10000107-1761937200-1761940800@www.shaaraytefila.org
SUMMARY:Shabbat Service & Oneg
DESCRIPTION:
URL:https://www.shaaraytefila.org/event/shabbat-5/2025-10-31/
CATEGORIES:Worship
ATTACH;FMTTYPE=image/jpeg:https://www.shaaraytefila.org/wp-content/uploads/2024/11/challah-cropped.jpg
END:VEVENT
BEGIN:VEVENT
DTSTART;TZID=America/New_York:20251028T193000
DTEND;TZID=America/New_York:20251028T203000
DTSTAMP:20260422T184834
CREATED:20251028T133354Z
LAST-MODIFIED:20251028T200448Z
UID:10001033-1761679800-1761683400@www.shaaraytefila.org
SUMMARY:Rabbi Greenberg Forum
DESCRIPTION:CANCELED TONIGHT! \nJoin Rabbi Greenberg for his weekly forum on Zoom!
URL:https://www.shaaraytefila.org/event/rabbi-greenberg-forum-8-2-2-6/
ATTACH;FMTTYPE=image/jpeg:https://www.shaaraytefila.org/wp-content/uploads/2024/09/Rabbi-David-Greenberg-cropped-e1736453527301.jpg
LOCATION:https://www.shaaraytefila.org/event/rabbi-greenberg-forum-8-2-2-6/
END:VEVENT
BEGIN:VEVENT
DTSTART;TZID=America/New_York:20251026T080000
DTEND;TZID=America/New_York:20251026T135900
DTSTAMP:20260422T184834
CREATED:20251003T151523Z
LAST-MODIFIED:20251003T151523Z
UID:10001440-1761465600-1761487140@www.shaaraytefila.org
SUMMARY:Blood Drive
DESCRIPTION:[vc_row][vc_column][vc_column_text css=””]October 26th is our annual blood drive. Please use this QR code to sign up: \n \nor sign up at https://donate.nybc.org/donor/schedules/drive_schedule/328639\n[/vc_column_text][/vc_column][/vc_row]
URL:https://www.shaaraytefila.org/event/blooddrive/
CATEGORIES:Social Action
ATTACH;FMTTYPE=image/jpeg:https://www.shaaraytefila.org/wp-content/uploads/2025/09/Blood-Drive.jpg
END:VEVENT
BEGIN:VEVENT
DTSTART;TZID=America/New_York:20251025T085000
DTEND;TZID=America/New_York:20251025T100000
DTSTAMP:20260422T184834
CREATED:20250109T193216Z
LAST-MODIFIED:20250109T204947Z
UID:10000363-1761382200-1761386400@www.shaaraytefila.org
SUMMARY:Torah Study
DESCRIPTION:Torah Study In Person every Saturday \n8:50am Minyan 9am Torah Study \nAnd on Zoom – see our newsletter
URL:https://www.shaaraytefila.org/event/torah-study/2025-10-25/
ATTACH;FMTTYPE=image/jpeg:https://www.shaaraytefila.org/wp-content/uploads/2024/09/torah-scrolls.jpg
LOCATION:https://www.shaaraytefila.org/event/torah-study/2025-10-25/
END:VEVENT
BEGIN:VEVENT
DTSTART;TZID=America/New_York:20251024T190000
DTEND;TZID=America/New_York:20251024T200000
DTSTAMP:20260422T184834
CREATED:20251020T183329Z
LAST-MODIFIED:20251020T183333Z
UID:10000106-1761332400-1761336000@www.shaaraytefila.org
SUMMARY:Shabbat Service & Oneg Honoring Rabbi Greenberg
DESCRIPTION:Please join us for a special Shabbat where we reflect on 50 years at Shaaray Tefila and honor Rabbi Greenberg. \n  \nIf you would like to make a donation to Temple in honor of Rabbi David Greenberg\, please use the QR code below or go directly to shaaraytefila.org/donate \n 
URL:https://www.shaaraytefila.org/event/shabbat-5-15/
CATEGORIES:Worship
ATTACH;FMTTYPE=image/jpeg:https://www.shaaraytefila.org/wp-content/uploads/2024/11/challah-cropped.jpg
END:VEVENT
BEGIN:VEVENT
DTSTART;TZID=America/New_York:20251024T173000
DTEND;TZID=America/New_York:20251024T190000
DTSTAMP:20260422T184834
CREATED:20250909T152353Z
LAST-MODIFIED:20251020T183708Z
UID:10001423-1761327000-1761332400@www.shaaraytefila.org
SUMMARY:Dinner Honoring Rabbi Greenberg
DESCRIPTION:[vc_row][vc_column][vc_column_text css=””]Celebrate 50 Years at a Dinner Honoring Rabbi David Greenberg  \nFriday\, October 24\, 2025\,  \nShabbat Dinner – 5:30 PM  CLOSED\nCatered by one of our favorite caterers\, with special toasts in honor of Rabbi Greenberg \nShabbat Service – 7:00 PM\nInspiring speakers\, musical tributes & special performances \nPlease join us for this milestone celebration of Rabbi Greenberg’s leadership and 50 years of service to our Temple Shaaray Tefila community. \nDINNER IS AT CAPACITY\, Please join us for Shabbat Services and Oneg.
URL:https://www.shaaraytefila.org/event/dinner-honoring-rabbi-greenberg/
ATTACH;FMTTYPE=image/jpeg:https://www.shaaraytefila.org/wp-content/uploads/2025/01/Rabbi-David-Greenberg-cropped-e1736453527301.jpg
END:VEVENT
BEGIN:VEVENT
DTSTART;TZID=America/New_York:20251024T163000
DTEND;TZID=America/New_York:20251024T173000
DTSTAMP:20260422T184834
CREATED:20250911T162544Z
LAST-MODIFIED:20251020T184921Z
UID:10001439-1761323400-1761327000@www.shaaraytefila.org
SUMMARY:Proclamation Day
DESCRIPTION:[vc_row][vc_column][vc_column_text css=””]Join us as the Temple is recognized for our anniversary by our local politicians and special guests for 50 years of service in the Community.  We also will kick-off a special :Month of Service”.  .[/vc_column_text][/vc_column][/vc_row]
URL:https://www.shaaraytefila.org/event/proclamation-day-and-month-of-service-kick-off/
END:VEVENT
BEGIN:VEVENT
DTSTART;TZID=America/New_York:20251021T193000
DTEND;TZID=America/New_York:20251021T203000
DTSTAMP:20260422T184834
CREATED:20250317T182218Z
LAST-MODIFIED:20250317T182219Z
UID:10001032-1761075000-1761078600@www.shaaraytefila.org
SUMMARY:Rabbi Greenberg Forum
DESCRIPTION:*NOTE: New day and time! \nJoin Rabbi Greenberg for his weekly forum on Zoom!
URL:https://www.shaaraytefila.org/event/rabbi-greenberg-forum-8-2-2/2025-10-21/
ATTACH;FMTTYPE=image/jpeg:https://www.shaaraytefila.org/wp-content/uploads/2024/09/Rabbi-David-Greenberg-cropped-e1736453527301.jpg
LOCATION:https://www.shaaraytefila.org/event/rabbi-greenberg-forum-8-2-2/2025-10-21/
END:VEVENT
BEGIN:VEVENT
DTSTART;VALUE=DATE:20251019
DTEND;VALUE=DATE:20251020
DTSTAMP:20260422T184834
CREATED:20250908T214854Z
LAST-MODIFIED:20251003T152839Z
UID:10001420-1760832000-1760918399@www.shaaraytefila.org
SUMMARY:Cafe Shaaray
DESCRIPTION:Cafe Shaaray\, 10 AM in the Youth Lounge. Please join Rabbinic Intern Ranata Shlobin for a Cafe Shaaray event exploring what Jewish tradition has to offer to adult caregivers of aging parents. We will be exploring Jewish texts and recent trends. All are welcome.
URL:https://www.shaaraytefila.org/event/cafe-shaaray-2/
ATTACH;FMTTYPE=image/png:https://www.shaaraytefila.org/wp-content/uploads/2025/01/CAFE-SHAARAY.png
END:VEVENT
BEGIN:VEVENT
DTSTART;TZID=America/New_York:20251018T085000
DTEND;TZID=America/New_York:20251018T100000
DTSTAMP:20260422T184834
CREATED:20250109T193216Z
LAST-MODIFIED:20250109T204947Z
UID:10000362-1760777400-1760781600@www.shaaraytefila.org
SUMMARY:Torah Study
DESCRIPTION:Torah Study In Person every Saturday \n8:50am Minyan 9am Torah Study \nAnd on Zoom – see our newsletter
URL:https://www.shaaraytefila.org/event/torah-study/2025-10-18/
ATTACH;FMTTYPE=image/jpeg:https://www.shaaraytefila.org/wp-content/uploads/2024/09/torah-scrolls.jpg
LOCATION:https://www.shaaraytefila.org/event/torah-study/2025-10-18/
END:VEVENT
BEGIN:VEVENT
DTSTART;TZID=America/New_York:20251017T190000
DTEND;TZID=America/New_York:20251017T200000
DTSTAMP:20260422T184834
CREATED:20241110T092727Z
LAST-MODIFIED:20241121T203315Z
UID:10000105-1760727600-1760731200@www.shaaraytefila.org
SUMMARY:Shabbat Service & Oneg
DESCRIPTION:
URL:https://www.shaaraytefila.org/event/shabbat-5/2025-10-17/
CATEGORIES:Worship
ATTACH;FMTTYPE=image/jpeg:https://www.shaaraytefila.org/wp-content/uploads/2024/11/challah-cropped.jpg
END:VEVENT
BEGIN:VEVENT
DTSTART;VALUE=DATE:20251017
DTEND;VALUE=DATE:20251018
DTSTAMP:20260422T184834
CREATED:20250908T214728Z
LAST-MODIFIED:20250908T215822Z
UID:10001419-1760659200-1760745599@www.shaaraytefila.org
SUMMARY:Consecration Dinner and Simchat Torah Shabbat
DESCRIPTION:
URL:https://www.shaaraytefila.org/event/consecration-dinner-and-simchat-torah-shabbat/
ATTACH;FMTTYPE=image/jpeg:https://www.shaaraytefila.org/wp-content/uploads/2019/10/simchat.jpg
END:VEVENT
BEGIN:VEVENT
DTSTART;TZID=America/New_York:20251014T193000
DTEND;TZID=America/New_York:20251014T203000
DTSTAMP:20260422T184834
CREATED:20250317T182218Z
LAST-MODIFIED:20250317T182219Z
UID:10001031-1760470200-1760473800@www.shaaraytefila.org
SUMMARY:Rabbi Greenberg Forum
DESCRIPTION:*NOTE: New day and time! \nJoin Rabbi Greenberg for his weekly forum on Zoom!
URL:https://www.shaaraytefila.org/event/rabbi-greenberg-forum-8-2-2/2025-10-14/
ATTACH;FMTTYPE=image/jpeg:https://www.shaaraytefila.org/wp-content/uploads/2024/09/Rabbi-David-Greenberg-cropped-e1736453527301.jpg
LOCATION:https://www.shaaraytefila.org/event/rabbi-greenberg-forum-8-2-2/2025-10-14/
END:VEVENT
BEGIN:VEVENT
DTSTART;VALUE=DATE:20251014
DTEND;VALUE=DATE:20251015
DTSTAMP:20260422T184834
CREATED:20250908T214507Z
LAST-MODIFIED:20250908T215627Z
UID:10001418-1760400000-1760486399@www.shaaraytefila.org
SUMMARY:William Louis Dreyfus Museum tour
DESCRIPTION:Private docent-led tour of\nThe Williams Louis-Dreyfus Foundation Museum \nLimited to the first 30 registrants. \nTuesday\, October 14th\, 2025\nBreakfast at the Temple 9:45 am\nMuseum Tour 11 am\n211 Kisco Ave\, Mt Kisco\, NY 10549 \nCost: $18 Members/$36 non-members \nRSVP: \nhttps://shaaraytefila.shulcloud.com/form/the-william-louis-dreyfus-foundation-museum-tour.html
URL:https://www.shaaraytefila.org/event/william-louis-dreyfus-museum-tour/
ATTACH;FMTTYPE=image/png:https://www.shaaraytefila.org/wp-content/uploads/2025/09/logo-wld.png
END:VEVENT
BEGIN:VEVENT
DTSTART;TZID=America/New_York:20251011T085000
DTEND;TZID=America/New_York:20251011T100000
DTSTAMP:20260422T184834
CREATED:20250109T193216Z
LAST-MODIFIED:20250109T204947Z
UID:10000361-1760172600-1760176800@www.shaaraytefila.org
SUMMARY:Torah Study
DESCRIPTION:Torah Study In Person every Saturday \n8:50am Minyan 9am Torah Study \nAnd on Zoom – see our newsletter
URL:https://www.shaaraytefila.org/event/torah-study/2025-10-11/
ATTACH;FMTTYPE=image/jpeg:https://www.shaaraytefila.org/wp-content/uploads/2024/09/torah-scrolls.jpg
LOCATION:https://www.shaaraytefila.org/event/torah-study/2025-10-11/
END:VEVENT
END:VCALENDAR