BEGIN:VCALENDAR
VERSION:2.0
PRODID:-//Temple Shaaray Tefila - ECPv6.15.20//NONSGML v1.0//EN
CALSCALE:GREGORIAN
METHOD:PUBLISH
X-ORIGINAL-URL:https://www.shaaraytefila.org
X-WR-CALDESC:Events for Temple Shaaray Tefila
REFRESH-INTERVAL;VALUE=DURATION:PT1H
X-Robots-Tag:noindex
X-PUBLISHED-TTL:PT1H
BEGIN:VTIMEZONE
TZID:America/New_York
BEGIN:DAYLIGHT
TZOFFSETFROM:-0500
TZOFFSETTO:-0400
TZNAME:EDT
DTSTART:20240310T070000
END:DAYLIGHT
BEGIN:STANDARD
TZOFFSETFROM:-0400
TZOFFSETTO:-0500
TZNAME:EST
DTSTART:20241103T060000
END:STANDARD
BEGIN:DAYLIGHT
TZOFFSETFROM:-0500
TZOFFSETTO:-0400
TZNAME:EDT
DTSTART:20250309T070000
END:DAYLIGHT
BEGIN:STANDARD
TZOFFSETFROM:-0400
TZOFFSETTO:-0500
TZNAME:EST
DTSTART:20251102T060000
END:STANDARD
BEGIN:DAYLIGHT
TZOFFSETFROM:-0500
TZOFFSETTO:-0400
TZNAME:EDT
DTSTART:20260308T070000
END:DAYLIGHT
BEGIN:STANDARD
TZOFFSETFROM:-0400
TZOFFSETTO:-0500
TZNAME:EST
DTSTART:20261101T060000
END:STANDARD
END:VTIMEZONE
BEGIN:VEVENT
DTSTART;TZID=America/New_York:20251226T190000
DTEND;TZID=America/New_York:20251226T200000
DTSTAMP:20260422T153438
CREATED:20241110T092727Z
LAST-MODIFIED:20241121T203315Z
UID:10000115-1766775600-1766779200@www.shaaraytefila.org
SUMMARY:Shabbat Service & Oneg
DESCRIPTION:
URL:https://www.shaaraytefila.org/event/shabbat-5/2025-12-26/
CATEGORIES:Worship
ATTACH;FMTTYPE=image/jpeg:https://www.shaaraytefila.org/wp-content/uploads/2024/11/challah-cropped.jpg
END:VEVENT
BEGIN:VEVENT
DTSTART;TZID=America/New_York:20251220T085000
DTEND;TZID=America/New_York:20251220T100000
DTSTAMP:20260422T153438
CREATED:20250109T193216Z
LAST-MODIFIED:20250109T204947Z
UID:10000371-1766220600-1766224800@www.shaaraytefila.org
SUMMARY:Torah Study
DESCRIPTION:Torah Study In Person every Saturday \n8:50am Minyan 9am Torah Study \nAnd on Zoom – see our newsletter
URL:https://www.shaaraytefila.org/event/torah-study/2025-12-20/
ATTACH;FMTTYPE=image/jpeg:https://www.shaaraytefila.org/wp-content/uploads/2024/09/torah-scrolls.jpg
LOCATION:https://www.shaaraytefila.org/event/torah-study/2025-12-20/
END:VEVENT
BEGIN:VEVENT
DTSTART;TZID=America/New_York:20251219T190000
DTEND;TZID=America/New_York:20251219T200000
DTSTAMP:20260422T153438
CREATED:20241110T092727Z
LAST-MODIFIED:20241121T203315Z
UID:10000114-1766170800-1766174400@www.shaaraytefila.org
SUMMARY:Shabbat Service & Oneg
DESCRIPTION:
URL:https://www.shaaraytefila.org/event/shabbat-5/2025-12-19/
CATEGORIES:Worship
ATTACH;FMTTYPE=image/jpeg:https://www.shaaraytefila.org/wp-content/uploads/2024/11/challah-cropped.jpg
END:VEVENT
BEGIN:VEVENT
DTSTART;VALUE=DATE:20251214
DTEND;VALUE=DATE:20251215
DTSTAMP:20260422T153438
CREATED:20250909T153841Z
LAST-MODIFIED:20251114T192943Z
UID:10001436-1765670400-1765756799@www.shaaraytefila.org
SUMMARY:Night of Light
DESCRIPTION:Night of Light – Sunday\, December 14th\, service at 3:30 PM \nJoin us in the sanctuary to begin the evening with a short and meaningful Hanukkah service\, featuring music by the klezmer band\, choir and all school children. After the service\, we’ll light up the night together with crafts\, fire pits for s’mores\, telescopes for stargazing\, face painting\, balloon artists\, delicious food\, hot chocolate\, beer\, wine\, and more! RSVP\, Signup
URL:https://www.shaaraytefila.org/event/night-of-light-2/
ATTACH;FMTTYPE=image/jpeg:https://www.shaaraytefila.org/wp-content/uploads/2019/08/Night-of-Light-Photo-1-top-of-article-.jpg
END:VEVENT
BEGIN:VEVENT
DTSTART;TZID=America/New_York:20251213T085000
DTEND;TZID=America/New_York:20251213T100000
DTSTAMP:20260422T153438
CREATED:20250109T193216Z
LAST-MODIFIED:20250109T204947Z
UID:10000370-1765615800-1765620000@www.shaaraytefila.org
SUMMARY:Torah Study
DESCRIPTION:Torah Study In Person every Saturday \n8:50am Minyan 9am Torah Study \nAnd on Zoom – see our newsletter
URL:https://www.shaaraytefila.org/event/torah-study/2025-12-13/
ATTACH;FMTTYPE=image/jpeg:https://www.shaaraytefila.org/wp-content/uploads/2024/09/torah-scrolls.jpg
LOCATION:https://www.shaaraytefila.org/event/torah-study/2025-12-13/
END:VEVENT
BEGIN:VEVENT
DTSTART;TZID=America/New_York:20251212T190000
DTEND;TZID=America/New_York:20251212T200000
DTSTAMP:20260422T153438
CREATED:20241110T092727Z
LAST-MODIFIED:20241121T203315Z
UID:10000113-1765566000-1765569600@www.shaaraytefila.org
SUMMARY:Shabbat Service & Oneg
DESCRIPTION:
URL:https://www.shaaraytefila.org/event/shabbat-5/2025-12-12/
CATEGORIES:Worship
ATTACH;FMTTYPE=image/jpeg:https://www.shaaraytefila.org/wp-content/uploads/2024/11/challah-cropped.jpg
END:VEVENT
BEGIN:VEVENT
DTSTART;VALUE=DATE:20251212
DTEND;VALUE=DATE:20251213
DTSTAMP:20260422T153438
CREATED:20250909T153755Z
LAST-MODIFIED:20250909T163232Z
UID:10001435-1765497600-1765583999@www.shaaraytefila.org
SUMMARY:TOT Shabbat
DESCRIPTION:
URL:https://www.shaaraytefila.org/event/tot-shabbat-5/
ATTACH;FMTTYPE=image/jpeg:https://www.shaaraytefila.org/wp-content/uploads/2022/08/220708_Cantor_Ines_013.jpg
END:VEVENT
BEGIN:VEVENT
DTSTART;TZID=America/New_York:20251211T120000
DTEND;TZID=America/New_York:20251211T170000
DTSTAMP:20260422T153438
CREATED:20251204T193239Z
LAST-MODIFIED:20251211T163205Z
UID:10001525-1765454400-1765472400@www.shaaraytefila.org
SUMMARY:TST Book Club: The Stolen Queen by Fiona Davis
DESCRIPTION:[vc_row][vc_column][vc_column_text css=””]The Stolen Queen by Fiona Davis\nPresenter Evelyn Johnson\nA 1936 Anthropology student\, charlotte\, is given a prize position at a dig in Egypt’s Valley of the Kings.. After a great tragedy Charlotte leaves Egypt vowing never to return. Moving to 1978 New York City\, we find Charlotte working at the Met at the department of Egyptian Art. During the evening of the Met’s celebrated Gala one of the art collection’s artifacts goes missing. Charlotte teams up with one other worker and may need to return to Egypt to find the missing relic.[/vc_column_text][/vc_column][/vc_row]
URL:https://www.shaaraytefila.org/event/tst-book-club-the-stolen-queen-by-fiona-davis/
ATTACH;FMTTYPE=image/jpeg:https://www.shaaraytefila.org/wp-content/uploads/2025/12/211025454.jpg
END:VEVENT
BEGIN:VEVENT
DTSTART;VALUE=DATE:20251210
DTEND;VALUE=DATE:20251211
DTSTAMP:20260422T153438
CREATED:20250909T151802Z
LAST-MODIFIED:20251114T192845Z
UID:10001422-1765324800-1765411199@www.shaaraytefila.org
SUMMARY:Black & White Cookie Making with the Zaro's-SOLD OUT
DESCRIPTION:Join us for a sweet evening in the kitchen with the Zaro family\, masters of the iconic New York black & white cookie. Learn their tips and techniques as you bake alongside them\, then enjoy your creations fresh from the oven. \nThis fun\, hands-on program is perfect for all ages—come with friends\, family\, or on your own.
URL:https://www.shaaraytefila.org/event/black-white-cookie-making-with-the-zaros/
ATTACH;FMTTYPE=image/jpeg:https://www.shaaraytefila.org/wp-content/uploads/2025/09/Zaros_LockUp_DarkRoast.jpeg
END:VEVENT
BEGIN:VEVENT
DTSTART;TZID=America/New_York:20251210T000000
DTEND;TZID=America/New_York:20251210T123000
DTSTAMP:20260422T153438
CREATED:20250811T191332Z
LAST-MODIFIED:20250811T191333Z
UID:10001312-1765324800-1765369800@www.shaaraytefila.org
SUMMARY:Shul Stitchers
DESCRIPTION:We are getting together on the second Wednesday of every month at 11:00AM in the JHC.  Please bring your needles and hooks and yarn. \nAs most of you are aware\, our mission/mitzvah is to knit/crochet blankets\, hats and scarves for those in need.  If you have a favorite organization that is in need of our knitted/crocheted items\, please let us know at the meeting.
URL:https://www.shaaraytefila.org/event/shul-stichers-2-2-4/2025-12-10/
ATTACH;FMTTYPE=image/png:https://www.shaaraytefila.org/wp-content/uploads/2025/01/Shul-Stitchers.png
END:VEVENT
BEGIN:VEVENT
DTSTART;VALUE=DATE:20251207
DTEND;VALUE=DATE:20251208
DTSTAMP:20260422T153438
CREATED:20250909T153734Z
LAST-MODIFIED:20251114T192758Z
UID:10001434-1765065600-1765151999@www.shaaraytefila.org
SUMMARY:Cafe Shaaray
DESCRIPTION:Join Rabbinic Intern Ranata Shlobin as we dive into talmudic texts on how to best be there for those who are sick\, in line with our Jewish value of bikkur holim. All are welcome. \n  \n10:00 a.m. to 11:00 a.m. in the youth lounge for bagels\, coffee\, and conversation.
URL:https://www.shaaraytefila.org/event/cafe-shaaray-3/
ATTACH;FMTTYPE=image/png:https://www.shaaraytefila.org/wp-content/uploads/2025/01/CAFE-SHAARAY.png
END:VEVENT
BEGIN:VEVENT
DTSTART;TZID=America/New_York:20251206T085000
DTEND;TZID=America/New_York:20251206T100000
DTSTAMP:20260422T153438
CREATED:20250109T193216Z
LAST-MODIFIED:20250109T204947Z
UID:10000369-1765011000-1765015200@www.shaaraytefila.org
SUMMARY:Torah Study
DESCRIPTION:Torah Study In Person every Saturday \n8:50am Minyan 9am Torah Study \nAnd on Zoom – see our newsletter
URL:https://www.shaaraytefila.org/event/torah-study/2025-12-06/
ATTACH;FMTTYPE=image/jpeg:https://www.shaaraytefila.org/wp-content/uploads/2024/09/torah-scrolls.jpg
LOCATION:https://www.shaaraytefila.org/event/torah-study/2025-12-06/
END:VEVENT
BEGIN:VEVENT
DTSTART;TZID=America/New_York:20251205T190000
DTEND;TZID=America/New_York:20251205T200000
DTSTAMP:20260422T153438
CREATED:20241110T092727Z
LAST-MODIFIED:20241121T203315Z
UID:10000112-1764961200-1764964800@www.shaaraytefila.org
SUMMARY:Shabbat Service & Oneg
DESCRIPTION:
URL:https://www.shaaraytefila.org/event/shabbat-5/2025-12-05/
CATEGORIES:Worship
ATTACH;FMTTYPE=image/jpeg:https://www.shaaraytefila.org/wp-content/uploads/2024/11/challah-cropped.jpg
END:VEVENT
BEGIN:VEVENT
DTSTART;TZID=America/New_York:20251202T165000
DTEND;TZID=America/New_York:20251202T190000
DTSTAMP:20260422T153438
CREATED:20250708T221144Z
LAST-MODIFIED:20251105T160748Z
UID:10001401-1764694200-1764702000@www.shaaraytefila.org
SUMMARY:Interfaith Food Pantry: Volunteers Needed
DESCRIPTION:The Pantry (formerlyMount Kisco Interfaith Food Pantry) provides a critical service for those who lack the resources to feed themselves or their families. Please join us to to help those in need.
URL:https://www.shaaraytefila.org/event/interfaith-food-pantry-volunteers-needed-3/
CATEGORIES:Community,Social Action
ATTACH;FMTTYPE=image/jpeg:https://www.shaaraytefila.org/wp-content/uploads/2025/11/Pantry.jpg
END:VEVENT
BEGIN:VEVENT
DTSTART;TZID=America/New_York:20251129T085000
DTEND;TZID=America/New_York:20251129T100000
DTSTAMP:20260422T153438
CREATED:20250109T193216Z
LAST-MODIFIED:20250109T204947Z
UID:10000368-1764406200-1764410400@www.shaaraytefila.org
SUMMARY:Torah Study
DESCRIPTION:Torah Study In Person every Saturday \n8:50am Minyan 9am Torah Study \nAnd on Zoom – see our newsletter
URL:https://www.shaaraytefila.org/event/torah-study/2025-11-29/
ATTACH;FMTTYPE=image/jpeg:https://www.shaaraytefila.org/wp-content/uploads/2024/09/torah-scrolls.jpg
LOCATION:https://www.shaaraytefila.org/event/torah-study/2025-11-29/
END:VEVENT
BEGIN:VEVENT
DTSTART;TZID=America/New_York:20251128T190000
DTEND;TZID=America/New_York:20251128T200000
DTSTAMP:20260422T153438
CREATED:20241110T092727Z
LAST-MODIFIED:20241121T203315Z
UID:10000111-1764356400-1764360000@www.shaaraytefila.org
SUMMARY:Shabbat Service & Oneg
DESCRIPTION:
URL:https://www.shaaraytefila.org/event/shabbat-5/2025-11-28/
CATEGORIES:Worship
ATTACH;FMTTYPE=image/jpeg:https://www.shaaraytefila.org/wp-content/uploads/2024/11/challah-cropped.jpg
END:VEVENT
BEGIN:VEVENT
DTSTART;VALUE=DATE:20251123
DTEND;VALUE=DATE:20251124
DTSTAMP:20260422T153438
CREATED:20250909T153527Z
LAST-MODIFIED:20250909T153527Z
UID:10001431-1763856000-1763942399@www.shaaraytefila.org
SUMMARY:Interfaith Service
DESCRIPTION:
URL:https://www.shaaraytefila.org/event/interfaith-service/
END:VEVENT
BEGIN:VEVENT
DTSTART;TZID=America/New_York:20251122T085000
DTEND;TZID=America/New_York:20251122T100000
DTSTAMP:20260422T153438
CREATED:20250109T193216Z
LAST-MODIFIED:20250109T204947Z
UID:10000367-1763801400-1763805600@www.shaaraytefila.org
SUMMARY:Torah Study
DESCRIPTION:Torah Study In Person every Saturday \n8:50am Minyan 9am Torah Study \nAnd on Zoom – see our newsletter
URL:https://www.shaaraytefila.org/event/torah-study/2025-11-22/
ATTACH;FMTTYPE=image/jpeg:https://www.shaaraytefila.org/wp-content/uploads/2024/09/torah-scrolls.jpg
LOCATION:https://www.shaaraytefila.org/event/torah-study/2025-11-22/
END:VEVENT
BEGIN:VEVENT
DTSTART;VALUE=DATE:20251122
DTEND;VALUE=DATE:20251128
DTSTAMP:20260422T153438
CREATED:20250909T153623Z
LAST-MODIFIED:20251027T173717Z
UID:10001432-1763769600-1764287999@www.shaaraytefila.org
SUMMARY:Thanksgiving Cooking/Volunteering
DESCRIPTION:[vc_row][vc_column][vc_column_text]Thanksgiving Cooking/Volunteering[/vc_column_text][/vc_column][/vc_row][vc_row][vc_column][vc_column_text css=””] \nEach year our community provides meals to over 4\,000 people in Westchester\, Fairfield\, and the Bronx. Beginning Saturday\, November 23rd\, hundreds of volunteers shop\, cook and prepare food (and Thanksgiving cards). There are so many ways to be involved. Make a financial donation HERE\, or use the Signup Genius form to sign up to cook\, shop\, deliver\, etc. WE NEED YOUR HELP to make this holiday special for our neighbors in need! \n[/vc_column_text][/vc_column][/vc_row]
URL:https://www.shaaraytefila.org/event/thanksgiving-cooking-volunteering/
CATEGORIES:Social Action
ATTACH;FMTTYPE=image/jpeg:https://www.shaaraytefila.org/wp-content/uploads/2024/10/thanksgiving-2024-scaled.jpg
END:VEVENT
BEGIN:VEVENT
DTSTART;TZID=America/New_York:20251121T190000
DTEND;TZID=America/New_York:20251121T200000
DTSTAMP:20260422T153438
CREATED:20250909T155014Z
LAST-MODIFIED:20250909T155014Z
UID:10000110-1763751600-1763755200@www.shaaraytefila.org
SUMMARY:Shabbat Service & Oneg
DESCRIPTION:Shabbat culminating a month of service
URL:https://www.shaaraytefila.org/event/shabbat-5-14/
CATEGORIES:Worship
ATTACH;FMTTYPE=image/jpeg:https://www.shaaraytefila.org/wp-content/uploads/2024/11/challah-cropped.jpg
END:VEVENT
BEGIN:VEVENT
DTSTART;TZID=America/New_York:20251121T190000
DTEND;TZID=America/New_York:20251121T200000
DTSTAMP:20260422T153438
CREATED:20241110T092727Z
LAST-MODIFIED:20241121T203315Z
UID:10001443-1763751600-1763755200@www.shaaraytefila.org
SUMMARY:Shabbat Service & Oneg
DESCRIPTION:
URL:https://www.shaaraytefila.org/event/shabbat-5/2025-11-21/
CATEGORIES:Worship
ATTACH;FMTTYPE=image/jpeg:https://www.shaaraytefila.org/wp-content/uploads/2024/11/challah-cropped.jpg
END:VEVENT
BEGIN:VEVENT
DTSTART;TZID=America/New_York:20251120T183000
DTEND;TZID=America/New_York:20251120T193000
DTSTAMP:20260422T153438
CREATED:20251031T142232Z
LAST-MODIFIED:20251031T142635Z
UID:10001511-1763663400-1763667000@www.shaaraytefila.org
SUMMARY:Semi-Annual Meeting of the Congregation
DESCRIPTION:
URL:https://www.shaaraytefila.org/event/semi-annual-meeting-of-the-congregation/
ATTACH;FMTTYPE=image/jpeg:https://www.shaaraytefila.org/wp-content/uploads/2025/10/gavel.jpg
END:VEVENT
BEGIN:VEVENT
DTSTART;TZID=America/New_York:20251115T085000
DTEND;TZID=America/New_York:20251115T100000
DTSTAMP:20260422T153438
CREATED:20250109T193216Z
LAST-MODIFIED:20250109T204947Z
UID:10000366-1763196600-1763200800@www.shaaraytefila.org
SUMMARY:Torah Study
DESCRIPTION:Torah Study In Person every Saturday \n8:50am Minyan 9am Torah Study \nAnd on Zoom – see our newsletter
URL:https://www.shaaraytefila.org/event/torah-study/2025-11-15/
ATTACH;FMTTYPE=image/jpeg:https://www.shaaraytefila.org/wp-content/uploads/2024/09/torah-scrolls.jpg
LOCATION:https://www.shaaraytefila.org/event/torah-study/2025-11-15/
END:VEVENT
BEGIN:VEVENT
DTSTART;TZID=America/New_York:20251114T190000
DTEND;TZID=America/New_York:20251114T200000
DTSTAMP:20260422T153438
CREATED:20241110T092727Z
LAST-MODIFIED:20241121T203315Z
UID:10000109-1763146800-1763150400@www.shaaraytefila.org
SUMMARY:Shabbat Service & Oneg
DESCRIPTION:
URL:https://www.shaaraytefila.org/event/shabbat-5/2025-11-14/
CATEGORIES:Worship
ATTACH;FMTTYPE=image/jpeg:https://www.shaaraytefila.org/wp-content/uploads/2024/11/challah-cropped.jpg
END:VEVENT
BEGIN:VEVENT
DTSTART;VALUE=DATE:20251114
DTEND;VALUE=DATE:20251115
DTSTAMP:20260422T153438
CREATED:20250909T153422Z
LAST-MODIFIED:20250909T154734Z
UID:10001429-1763078400-1763164799@www.shaaraytefila.org
SUMMARY:Kristallnacht Service
DESCRIPTION:
URL:https://www.shaaraytefila.org/event/kristallnacht-service/
ATTACH;FMTTYPE=image/jpeg:https://www.shaaraytefila.org/wp-content/uploads/2025/04/Yiskor-candle.jpg
END:VEVENT
BEGIN:VEVENT
DTSTART;VALUE=DATE:20251114
DTEND;VALUE=DATE:20251115
DTSTAMP:20260422T153438
CREATED:20250909T153354Z
LAST-MODIFIED:20251028T133620Z
UID:10001428-1763078400-1763164799@www.shaaraytefila.org
SUMMARY:Dinner Recognizing HHD Volunteers
DESCRIPTION:Join us for a special Shabbat Dinner as we thank our High Holiday volunteers. Volunteers are our guests—everyone is welcome! Please let us know you are coming! RSVP
URL:https://www.shaaraytefila.org/event/dinner-recognizing-hhd-volunteers/
ATTACH;FMTTYPE=image/png:https://www.shaaraytefila.org/wp-content/uploads/2023/10/ShabbatDinner.png
END:VEVENT
BEGIN:VEVENT
DTSTART;VALUE=DATE:20251114
DTEND;VALUE=DATE:20251115
DTSTAMP:20260422T153438
CREATED:20250909T153318Z
LAST-MODIFIED:20251028T133528Z
UID:10001427-1763078400-1763164799@www.shaaraytefila.org
SUMMARY:TOT Shabbat
DESCRIPTION:Join us at 5:30pm to 6:00pm in the Sanctuary for a family friendly musical service.
URL:https://www.shaaraytefila.org/event/tot-shabbat-4/
ATTACH;FMTTYPE=image/jpeg:https://www.shaaraytefila.org/wp-content/uploads/2022/08/220708_Cantor_Ines_013.jpg
END:VEVENT
BEGIN:VEVENT
DTSTART;VALUE=DATE:20251113
DTEND;VALUE=DATE:20251114
DTSTAMP:20260422T153438
CREATED:20250909T153252Z
LAST-MODIFIED:20251106T215603Z
UID:10001426-1762992000-1763078399@www.shaaraytefila.org
SUMMARY:Shopping at Shaaray
DESCRIPTION:[vc_row][vc_column][vc_single_image image=”5364″ img_size=”Large” css=””][/vc_column][/vc_row]
URL:https://www.shaaraytefila.org/event/shopping-at-shaaray-2/
ATTACH;FMTTYPE=image/jpeg:https://www.shaaraytefila.org/wp-content/uploads/2025/09/SHOPPING-GREEN.JPG.jpeg
END:VEVENT
BEGIN:VEVENT
DTSTART;TZID=America/New_York:20251112T000000
DTEND;TZID=America/New_York:20251112T123000
DTSTAMP:20260422T153438
CREATED:20250811T191332Z
LAST-MODIFIED:20250811T191333Z
UID:10001311-1762905600-1762950600@www.shaaraytefila.org
SUMMARY:Shul Stitchers
DESCRIPTION:We are getting together on the second Wednesday of every month at 11:00AM in the JHC.  Please bring your needles and hooks and yarn. \nAs most of you are aware\, our mission/mitzvah is to knit/crochet blankets\, hats and scarves for those in need.  If you have a favorite organization that is in need of our knitted/crocheted items\, please let us know at the meeting.
URL:https://www.shaaraytefila.org/event/shul-stichers-2-2-4/2025-11-12/
ATTACH;FMTTYPE=image/png:https://www.shaaraytefila.org/wp-content/uploads/2025/01/Shul-Stitchers.png
END:VEVENT
BEGIN:VEVENT
DTSTART;VALUE=DATE:20251110
DTEND;VALUE=DATE:20251111
DTSTAMP:20260422T153438
CREATED:20250909T165221Z
LAST-MODIFIED:20250916T195720Z
UID:10001438-1762732800-1762819199@www.shaaraytefila.org
SUMMARY:Lunch & Learn
DESCRIPTION:As Reform Judaism began and grew in Europe and the United States in the 19th and early 20th centuries\, our movement’s founders experimented with a spectrum of possibilities and many carry on today. “When Shabbat Was on Sunday: The Rise and Growth of Reform Judaism\,” will explore the origins of our movement\, including the re-introduction of instrumental music\, replacing B’nai Mitzvah with confirmation\, moving Shabbat services to Sunday\, and other experiments and innovations. Join Temple members and Rabbi Ross\, Mondays November  3 and 10 from 12:00 to 1:00 PM for a look at our past and lively discussion. Bring your own lunch. The Temple will provide beverages. \n  \nRSVP: \nhttps://shaaraytefila.shulcloud.com/form/RSVP%20for%20Lunch%20&%20Learn
URL:https://www.shaaraytefila.org/event/lunch-learn-2/
ATTACH;FMTTYPE=image/jpeg:https://www.shaaraytefila.org/wp-content/uploads/2024/06/Rabbi-Dennis-Ross-photo-1-scaled.jpg
END:VEVENT
END:VCALENDAR