BEGIN:VCALENDAR
VERSION:2.0
PRODID:-//Temple Shaaray Tefila - ECPv6.15.20//NONSGML v1.0//EN
CALSCALE:GREGORIAN
METHOD:PUBLISH
X-ORIGINAL-URL:https://www.shaaraytefila.org
X-WR-CALDESC:Events for Temple Shaaray Tefila
REFRESH-INTERVAL;VALUE=DURATION:PT1H
X-Robots-Tag:noindex
X-PUBLISHED-TTL:PT1H
BEGIN:VTIMEZONE
TZID:America/New_York
BEGIN:DAYLIGHT
TZOFFSETFROM:-0500
TZOFFSETTO:-0400
TZNAME:EDT
DTSTART:20260308T070000
END:DAYLIGHT
BEGIN:STANDARD
TZOFFSETFROM:-0400
TZOFFSETTO:-0500
TZNAME:EST
DTSTART:20261101T060000
END:STANDARD
BEGIN:DAYLIGHT
TZOFFSETFROM:-0500
TZOFFSETTO:-0400
TZNAME:EDT
DTSTART:20270314T070000
END:DAYLIGHT
BEGIN:STANDARD
TZOFFSETFROM:-0400
TZOFFSETTO:-0500
TZNAME:EST
DTSTART:20271107T060000
END:STANDARD
BEGIN:DAYLIGHT
TZOFFSETFROM:-0500
TZOFFSETTO:-0400
TZNAME:EDT
DTSTART:20280312T070000
END:DAYLIGHT
BEGIN:STANDARD
TZOFFSETFROM:-0400
TZOFFSETTO:-0500
TZNAME:EST
DTSTART:20281105T060000
END:STANDARD
BEGIN:DAYLIGHT
TZOFFSETFROM:-0500
TZOFFSETTO:-0400
TZNAME:EDT
DTSTART:20290311T070000
END:DAYLIGHT
BEGIN:STANDARD
TZOFFSETFROM:-0400
TZOFFSETTO:-0500
TZNAME:EST
DTSTART:20291104T060000
END:STANDARD
END:VTIMEZONE
BEGIN:VEVENT
DTSTART;TZID=America/New_York:20271023T085000
DTEND;TZID=America/New_York:20271023T100000
DTSTAMP:20260425T093809
CREATED:20250109T193216Z
LAST-MODIFIED:20250109T204947Z
UID:10000467-1824281400-1824285600@www.shaaraytefila.org
SUMMARY:Torah Study
DESCRIPTION:Torah Study In Person every Saturday \n8:50am Minyan 9am Torah Study \nAnd on Zoom – see our newsletter
URL:https://www.shaaraytefila.org/event/torah-study/2027-10-23/
ATTACH;FMTTYPE=image/jpeg:https://www.shaaraytefila.org/wp-content/uploads/2024/09/torah-scrolls.jpg
LOCATION:https://www.shaaraytefila.org/event/torah-study/2027-10-23/
END:VEVENT
BEGIN:VEVENT
DTSTART;TZID=America/New_York:20271029T190000
DTEND;TZID=America/New_York:20271029T200000
DTSTAMP:20260425T093809
CREATED:20241110T092727Z
LAST-MODIFIED:20241121T203315Z
UID:10000211-1824836400-1824840000@www.shaaraytefila.org
SUMMARY:Shabbat Service & Oneg
DESCRIPTION:
URL:https://www.shaaraytefila.org/event/shabbat-5/2027-10-29/
CATEGORIES:Worship
ATTACH;FMTTYPE=image/jpeg:https://www.shaaraytefila.org/wp-content/uploads/2024/11/challah-cropped.jpg
END:VEVENT
BEGIN:VEVENT
DTSTART;TZID=America/New_York:20271030T085000
DTEND;TZID=America/New_York:20271030T100000
DTSTAMP:20260425T093809
CREATED:20250109T193216Z
LAST-MODIFIED:20250109T204947Z
UID:10000468-1824886200-1824890400@www.shaaraytefila.org
SUMMARY:Torah Study
DESCRIPTION:Torah Study In Person every Saturday \n8:50am Minyan 9am Torah Study \nAnd on Zoom – see our newsletter
URL:https://www.shaaraytefila.org/event/torah-study/2027-10-30/
ATTACH;FMTTYPE=image/jpeg:https://www.shaaraytefila.org/wp-content/uploads/2024/09/torah-scrolls.jpg
LOCATION:https://www.shaaraytefila.org/event/torah-study/2027-10-30/
END:VEVENT
BEGIN:VEVENT
DTSTART;TZID=America/New_York:20271105T190000
DTEND;TZID=America/New_York:20271105T200000
DTSTAMP:20260425T093809
CREATED:20241110T092727Z
LAST-MODIFIED:20241121T203315Z
UID:10000212-1825441200-1825444800@www.shaaraytefila.org
SUMMARY:Shabbat Service & Oneg
DESCRIPTION:
URL:https://www.shaaraytefila.org/event/shabbat-5/2027-11-05/
CATEGORIES:Worship
ATTACH;FMTTYPE=image/jpeg:https://www.shaaraytefila.org/wp-content/uploads/2024/11/challah-cropped.jpg
END:VEVENT
BEGIN:VEVENT
DTSTART;TZID=America/New_York:20271106T085000
DTEND;TZID=America/New_York:20271106T100000
DTSTAMP:20260425T093809
CREATED:20250109T193216Z
LAST-MODIFIED:20250109T204947Z
UID:10000469-1825491000-1825495200@www.shaaraytefila.org
SUMMARY:Torah Study
DESCRIPTION:Torah Study In Person every Saturday \n8:50am Minyan 9am Torah Study \nAnd on Zoom – see our newsletter
URL:https://www.shaaraytefila.org/event/torah-study/2027-11-06/
ATTACH;FMTTYPE=image/jpeg:https://www.shaaraytefila.org/wp-content/uploads/2024/09/torah-scrolls.jpg
LOCATION:https://www.shaaraytefila.org/event/torah-study/2027-11-06/
END:VEVENT
BEGIN:VEVENT
DTSTART;TZID=America/New_York:20271110T000000
DTEND;TZID=America/New_York:20271110T123000
DTSTAMP:20260425T093809
CREATED:20250811T191332Z
LAST-MODIFIED:20250811T191333Z
UID:10001335-1825804800-1825849800@www.shaaraytefila.org
SUMMARY:Shul Stitchers
DESCRIPTION:We are getting together on the second Wednesday of every month at 11:00AM in the JHC.  Please bring your needles and hooks and yarn. \nAs most of you are aware\, our mission/mitzvah is to knit/crochet blankets\, hats and scarves for those in need.  If you have a favorite organization that is in need of our knitted/crocheted items\, please let us know at the meeting.
URL:https://www.shaaraytefila.org/event/shul-stichers-2-2-4/2027-11-10/
ATTACH;FMTTYPE=image/png:https://www.shaaraytefila.org/wp-content/uploads/2025/01/Shul-Stitchers.png
END:VEVENT
BEGIN:VEVENT
DTSTART;TZID=America/New_York:20271112T190000
DTEND;TZID=America/New_York:20271112T200000
DTSTAMP:20260425T093809
CREATED:20241110T092727Z
LAST-MODIFIED:20241121T203315Z
UID:10000213-1826046000-1826049600@www.shaaraytefila.org
SUMMARY:Shabbat Service & Oneg
DESCRIPTION:
URL:https://www.shaaraytefila.org/event/shabbat-5/2027-11-12/
CATEGORIES:Worship
ATTACH;FMTTYPE=image/jpeg:https://www.shaaraytefila.org/wp-content/uploads/2024/11/challah-cropped.jpg
END:VEVENT
BEGIN:VEVENT
DTSTART;TZID=America/New_York:20271113T085000
DTEND;TZID=America/New_York:20271113T100000
DTSTAMP:20260425T093809
CREATED:20250109T193216Z
LAST-MODIFIED:20250109T204947Z
UID:10000470-1826095800-1826100000@www.shaaraytefila.org
SUMMARY:Torah Study
DESCRIPTION:Torah Study In Person every Saturday \n8:50am Minyan 9am Torah Study \nAnd on Zoom – see our newsletter
URL:https://www.shaaraytefila.org/event/torah-study/2027-11-13/
ATTACH;FMTTYPE=image/jpeg:https://www.shaaraytefila.org/wp-content/uploads/2024/09/torah-scrolls.jpg
LOCATION:https://www.shaaraytefila.org/event/torah-study/2027-11-13/
END:VEVENT
BEGIN:VEVENT
DTSTART;TZID=America/New_York:20271119T190000
DTEND;TZID=America/New_York:20271119T200000
DTSTAMP:20260425T093809
CREATED:20241110T092727Z
LAST-MODIFIED:20241121T203315Z
UID:10000214-1826650800-1826654400@www.shaaraytefila.org
SUMMARY:Shabbat Service & Oneg
DESCRIPTION:
URL:https://www.shaaraytefila.org/event/shabbat-5/2027-11-19/
CATEGORIES:Worship
ATTACH;FMTTYPE=image/jpeg:https://www.shaaraytefila.org/wp-content/uploads/2024/11/challah-cropped.jpg
END:VEVENT
BEGIN:VEVENT
DTSTART;TZID=America/New_York:20271120T085000
DTEND;TZID=America/New_York:20271120T100000
DTSTAMP:20260425T093809
CREATED:20250109T193216Z
LAST-MODIFIED:20250109T204947Z
UID:10000471-1826700600-1826704800@www.shaaraytefila.org
SUMMARY:Torah Study
DESCRIPTION:Torah Study In Person every Saturday \n8:50am Minyan 9am Torah Study \nAnd on Zoom – see our newsletter
URL:https://www.shaaraytefila.org/event/torah-study/2027-11-20/
ATTACH;FMTTYPE=image/jpeg:https://www.shaaraytefila.org/wp-content/uploads/2024/09/torah-scrolls.jpg
LOCATION:https://www.shaaraytefila.org/event/torah-study/2027-11-20/
END:VEVENT
BEGIN:VEVENT
DTSTART;TZID=America/New_York:20271126T190000
DTEND;TZID=America/New_York:20271126T200000
DTSTAMP:20260425T093809
CREATED:20241110T092727Z
LAST-MODIFIED:20241121T203315Z
UID:10000215-1827255600-1827259200@www.shaaraytefila.org
SUMMARY:Shabbat Service & Oneg
DESCRIPTION:
URL:https://www.shaaraytefila.org/event/shabbat-5/2027-11-26/
CATEGORIES:Worship
ATTACH;FMTTYPE=image/jpeg:https://www.shaaraytefila.org/wp-content/uploads/2024/11/challah-cropped.jpg
END:VEVENT
BEGIN:VEVENT
DTSTART;TZID=America/New_York:20271127T085000
DTEND;TZID=America/New_York:20271127T100000
DTSTAMP:20260425T093809
CREATED:20250109T193216Z
LAST-MODIFIED:20250109T204947Z
UID:10000472-1827305400-1827309600@www.shaaraytefila.org
SUMMARY:Torah Study
DESCRIPTION:Torah Study In Person every Saturday \n8:50am Minyan 9am Torah Study \nAnd on Zoom – see our newsletter
URL:https://www.shaaraytefila.org/event/torah-study/2027-11-27/
ATTACH;FMTTYPE=image/jpeg:https://www.shaaraytefila.org/wp-content/uploads/2024/09/torah-scrolls.jpg
LOCATION:https://www.shaaraytefila.org/event/torah-study/2027-11-27/
END:VEVENT
BEGIN:VEVENT
DTSTART;TZID=America/New_York:20271203T190000
DTEND;TZID=America/New_York:20271203T200000
DTSTAMP:20260425T093809
CREATED:20241110T092727Z
LAST-MODIFIED:20241121T203315Z
UID:10000216-1827860400-1827864000@www.shaaraytefila.org
SUMMARY:Shabbat Service & Oneg
DESCRIPTION:
URL:https://www.shaaraytefila.org/event/shabbat-5/2027-12-03/
CATEGORIES:Worship
ATTACH;FMTTYPE=image/jpeg:https://www.shaaraytefila.org/wp-content/uploads/2024/11/challah-cropped.jpg
END:VEVENT
BEGIN:VEVENT
DTSTART;TZID=America/New_York:20271204T085000
DTEND;TZID=America/New_York:20271204T100000
DTSTAMP:20260425T093809
CREATED:20250109T193216Z
LAST-MODIFIED:20250109T204947Z
UID:10000473-1827910200-1827914400@www.shaaraytefila.org
SUMMARY:Torah Study
DESCRIPTION:Torah Study In Person every Saturday \n8:50am Minyan 9am Torah Study \nAnd on Zoom – see our newsletter
URL:https://www.shaaraytefila.org/event/torah-study/2027-12-04/
ATTACH;FMTTYPE=image/jpeg:https://www.shaaraytefila.org/wp-content/uploads/2024/09/torah-scrolls.jpg
LOCATION:https://www.shaaraytefila.org/event/torah-study/2027-12-04/
END:VEVENT
BEGIN:VEVENT
DTSTART;TZID=America/New_York:20271208T000000
DTEND;TZID=America/New_York:20271208T123000
DTSTAMP:20260425T093809
CREATED:20250811T191332Z
LAST-MODIFIED:20250811T191333Z
UID:10001336-1828224000-1828269000@www.shaaraytefila.org
SUMMARY:Shul Stitchers
DESCRIPTION:We are getting together on the second Wednesday of every month at 11:00AM in the JHC.  Please bring your needles and hooks and yarn. \nAs most of you are aware\, our mission/mitzvah is to knit/crochet blankets\, hats and scarves for those in need.  If you have a favorite organization that is in need of our knitted/crocheted items\, please let us know at the meeting.
URL:https://www.shaaraytefila.org/event/shul-stichers-2-2-4/2027-12-08/
ATTACH;FMTTYPE=image/png:https://www.shaaraytefila.org/wp-content/uploads/2025/01/Shul-Stitchers.png
END:VEVENT
BEGIN:VEVENT
DTSTART;TZID=America/New_York:20271210T190000
DTEND;TZID=America/New_York:20271210T200000
DTSTAMP:20260425T093809
CREATED:20241110T092727Z
LAST-MODIFIED:20241121T203315Z
UID:10000217-1828465200-1828468800@www.shaaraytefila.org
SUMMARY:Shabbat Service & Oneg
DESCRIPTION:
URL:https://www.shaaraytefila.org/event/shabbat-5/2027-12-10/
CATEGORIES:Worship
ATTACH;FMTTYPE=image/jpeg:https://www.shaaraytefila.org/wp-content/uploads/2024/11/challah-cropped.jpg
END:VEVENT
BEGIN:VEVENT
DTSTART;TZID=America/New_York:20271211T085000
DTEND;TZID=America/New_York:20271211T100000
DTSTAMP:20260425T093809
CREATED:20250109T193216Z
LAST-MODIFIED:20250109T204947Z
UID:10000474-1828515000-1828519200@www.shaaraytefila.org
SUMMARY:Torah Study
DESCRIPTION:Torah Study In Person every Saturday \n8:50am Minyan 9am Torah Study \nAnd on Zoom – see our newsletter
URL:https://www.shaaraytefila.org/event/torah-study/2027-12-11/
ATTACH;FMTTYPE=image/jpeg:https://www.shaaraytefila.org/wp-content/uploads/2024/09/torah-scrolls.jpg
LOCATION:https://www.shaaraytefila.org/event/torah-study/2027-12-11/
END:VEVENT
BEGIN:VEVENT
DTSTART;TZID=America/New_York:20271217T190000
DTEND;TZID=America/New_York:20271217T200000
DTSTAMP:20260425T093809
CREATED:20241110T092727Z
LAST-MODIFIED:20241121T203315Z
UID:10000218-1829070000-1829073600@www.shaaraytefila.org
SUMMARY:Shabbat Service & Oneg
DESCRIPTION:
URL:https://www.shaaraytefila.org/event/shabbat-5/2027-12-17/
CATEGORIES:Worship
ATTACH;FMTTYPE=image/jpeg:https://www.shaaraytefila.org/wp-content/uploads/2024/11/challah-cropped.jpg
END:VEVENT
BEGIN:VEVENT
DTSTART;TZID=America/New_York:20271218T085000
DTEND;TZID=America/New_York:20271218T100000
DTSTAMP:20260425T093809
CREATED:20250109T193216Z
LAST-MODIFIED:20250109T204947Z
UID:10000475-1829119800-1829124000@www.shaaraytefila.org
SUMMARY:Torah Study
DESCRIPTION:Torah Study In Person every Saturday \n8:50am Minyan 9am Torah Study \nAnd on Zoom – see our newsletter
URL:https://www.shaaraytefila.org/event/torah-study/2027-12-18/
ATTACH;FMTTYPE=image/jpeg:https://www.shaaraytefila.org/wp-content/uploads/2024/09/torah-scrolls.jpg
LOCATION:https://www.shaaraytefila.org/event/torah-study/2027-12-18/
END:VEVENT
BEGIN:VEVENT
DTSTART;TZID=America/New_York:20271224T190000
DTEND;TZID=America/New_York:20271224T200000
DTSTAMP:20260425T093809
CREATED:20241110T092727Z
LAST-MODIFIED:20241121T203315Z
UID:10000219-1829674800-1829678400@www.shaaraytefila.org
SUMMARY:Shabbat Service & Oneg
DESCRIPTION:
URL:https://www.shaaraytefila.org/event/shabbat-5/2027-12-24/
CATEGORIES:Worship
ATTACH;FMTTYPE=image/jpeg:https://www.shaaraytefila.org/wp-content/uploads/2024/11/challah-cropped.jpg
END:VEVENT
BEGIN:VEVENT
DTSTART;TZID=America/New_York:20271225T085000
DTEND;TZID=America/New_York:20271225T100000
DTSTAMP:20260425T093809
CREATED:20250109T193216Z
LAST-MODIFIED:20250109T204947Z
UID:10000476-1829724600-1829728800@www.shaaraytefila.org
SUMMARY:Torah Study
DESCRIPTION:Torah Study In Person every Saturday \n8:50am Minyan 9am Torah Study \nAnd on Zoom – see our newsletter
URL:https://www.shaaraytefila.org/event/torah-study/2027-12-25/
ATTACH;FMTTYPE=image/jpeg:https://www.shaaraytefila.org/wp-content/uploads/2024/09/torah-scrolls.jpg
LOCATION:https://www.shaaraytefila.org/event/torah-study/2027-12-25/
END:VEVENT
BEGIN:VEVENT
DTSTART;TZID=America/New_York:20271231T190000
DTEND;TZID=America/New_York:20271231T200000
DTSTAMP:20260425T093809
CREATED:20241110T092727Z
LAST-MODIFIED:20241121T203315Z
UID:10000220-1830279600-1830283200@www.shaaraytefila.org
SUMMARY:Shabbat Service & Oneg
DESCRIPTION:
URL:https://www.shaaraytefila.org/event/shabbat-5/2027-12-31/
CATEGORIES:Worship
ATTACH;FMTTYPE=image/jpeg:https://www.shaaraytefila.org/wp-content/uploads/2024/11/challah-cropped.jpg
END:VEVENT
BEGIN:VEVENT
DTSTART;TZID=America/New_York:20280101T085000
DTEND;TZID=America/New_York:20280101T100000
DTSTAMP:20260425T093809
CREATED:20250109T193216Z
LAST-MODIFIED:20250109T204947Z
UID:10000477-1830329400-1830333600@www.shaaraytefila.org
SUMMARY:Torah Study
DESCRIPTION:Torah Study In Person every Saturday \n8:50am Minyan 9am Torah Study \nAnd on Zoom – see our newsletter
URL:https://www.shaaraytefila.org/event/torah-study/2028-01-01/
ATTACH;FMTTYPE=image/jpeg:https://www.shaaraytefila.org/wp-content/uploads/2024/09/torah-scrolls.jpg
LOCATION:https://www.shaaraytefila.org/event/torah-study/2028-01-01/
END:VEVENT
BEGIN:VEVENT
DTSTART;TZID=America/New_York:20280107T190000
DTEND;TZID=America/New_York:20280107T200000
DTSTAMP:20260425T093809
CREATED:20241110T092727Z
LAST-MODIFIED:20241121T203315Z
UID:10000221-1830884400-1830888000@www.shaaraytefila.org
SUMMARY:Shabbat Service & Oneg
DESCRIPTION:
URL:https://www.shaaraytefila.org/event/shabbat-5/2028-01-07/
CATEGORIES:Worship
ATTACH;FMTTYPE=image/jpeg:https://www.shaaraytefila.org/wp-content/uploads/2024/11/challah-cropped.jpg
END:VEVENT
BEGIN:VEVENT
DTSTART;TZID=America/New_York:20280108T085000
DTEND;TZID=America/New_York:20280108T100000
DTSTAMP:20260425T093809
CREATED:20250109T193216Z
LAST-MODIFIED:20250109T204947Z
UID:10000478-1830934200-1830938400@www.shaaraytefila.org
SUMMARY:Torah Study
DESCRIPTION:Torah Study In Person every Saturday \n8:50am Minyan 9am Torah Study \nAnd on Zoom – see our newsletter
URL:https://www.shaaraytefila.org/event/torah-study/2028-01-08/
ATTACH;FMTTYPE=image/jpeg:https://www.shaaraytefila.org/wp-content/uploads/2024/09/torah-scrolls.jpg
LOCATION:https://www.shaaraytefila.org/event/torah-study/2028-01-08/
END:VEVENT
BEGIN:VEVENT
DTSTART;TZID=America/New_York:20280112T000000
DTEND;TZID=America/New_York:20280112T123000
DTSTAMP:20260425T093809
CREATED:20250811T191332Z
LAST-MODIFIED:20250811T191333Z
UID:10001337-1831248000-1831293000@www.shaaraytefila.org
SUMMARY:Shul Stitchers
DESCRIPTION:We are getting together on the second Wednesday of every month at 11:00AM in the JHC.  Please bring your needles and hooks and yarn. \nAs most of you are aware\, our mission/mitzvah is to knit/crochet blankets\, hats and scarves for those in need.  If you have a favorite organization that is in need of our knitted/crocheted items\, please let us know at the meeting.
URL:https://www.shaaraytefila.org/event/shul-stichers-2-2-4/2028-01-12/
ATTACH;FMTTYPE=image/png:https://www.shaaraytefila.org/wp-content/uploads/2025/01/Shul-Stitchers.png
END:VEVENT
BEGIN:VEVENT
DTSTART;TZID=America/New_York:20280114T190000
DTEND;TZID=America/New_York:20280114T200000
DTSTAMP:20260425T093809
CREATED:20241110T092727Z
LAST-MODIFIED:20241121T203315Z
UID:10000222-1831489200-1831492800@www.shaaraytefila.org
SUMMARY:Shabbat Service & Oneg
DESCRIPTION:
URL:https://www.shaaraytefila.org/event/shabbat-5/2028-01-14/
CATEGORIES:Worship
ATTACH;FMTTYPE=image/jpeg:https://www.shaaraytefila.org/wp-content/uploads/2024/11/challah-cropped.jpg
END:VEVENT
BEGIN:VEVENT
DTSTART;TZID=America/New_York:20280115T085000
DTEND;TZID=America/New_York:20280115T100000
DTSTAMP:20260425T093809
CREATED:20250109T193216Z
LAST-MODIFIED:20250109T204947Z
UID:10000479-1831539000-1831543200@www.shaaraytefila.org
SUMMARY:Torah Study
DESCRIPTION:Torah Study In Person every Saturday \n8:50am Minyan 9am Torah Study \nAnd on Zoom – see our newsletter
URL:https://www.shaaraytefila.org/event/torah-study/2028-01-15/
ATTACH;FMTTYPE=image/jpeg:https://www.shaaraytefila.org/wp-content/uploads/2024/09/torah-scrolls.jpg
LOCATION:https://www.shaaraytefila.org/event/torah-study/2028-01-15/
END:VEVENT
BEGIN:VEVENT
DTSTART;TZID=America/New_York:20280121T190000
DTEND;TZID=America/New_York:20280121T200000
DTSTAMP:20260425T093809
CREATED:20241110T092727Z
LAST-MODIFIED:20241121T203315Z
UID:10000223-1832094000-1832097600@www.shaaraytefila.org
SUMMARY:Shabbat Service & Oneg
DESCRIPTION:
URL:https://www.shaaraytefila.org/event/shabbat-5/2028-01-21/
CATEGORIES:Worship
ATTACH;FMTTYPE=image/jpeg:https://www.shaaraytefila.org/wp-content/uploads/2024/11/challah-cropped.jpg
END:VEVENT
BEGIN:VEVENT
DTSTART;TZID=America/New_York:20280122T085000
DTEND;TZID=America/New_York:20280122T100000
DTSTAMP:20260425T093809
CREATED:20250109T193216Z
LAST-MODIFIED:20250109T204947Z
UID:10000480-1832143800-1832148000@www.shaaraytefila.org
SUMMARY:Torah Study
DESCRIPTION:Torah Study In Person every Saturday \n8:50am Minyan 9am Torah Study \nAnd on Zoom – see our newsletter
URL:https://www.shaaraytefila.org/event/torah-study/2028-01-22/
ATTACH;FMTTYPE=image/jpeg:https://www.shaaraytefila.org/wp-content/uploads/2024/09/torah-scrolls.jpg
LOCATION:https://www.shaaraytefila.org/event/torah-study/2028-01-22/
END:VEVENT
END:VCALENDAR