BEGIN:VCALENDAR
VERSION:2.0
PRODID:-//Temple Shaaray Tefila - ECPv6.15.20//NONSGML v1.0//EN
CALSCALE:GREGORIAN
METHOD:PUBLISH
X-ORIGINAL-URL:https://www.shaaraytefila.org
X-WR-CALDESC:Events for Temple Shaaray Tefila
REFRESH-INTERVAL;VALUE=DURATION:PT1H
X-Robots-Tag:noindex
X-PUBLISHED-TTL:PT1H
BEGIN:VTIMEZONE
TZID:America/New_York
BEGIN:DAYLIGHT
TZOFFSETFROM:-0500
TZOFFSETTO:-0400
TZNAME:EDT
DTSTART:20260308T070000
END:DAYLIGHT
BEGIN:STANDARD
TZOFFSETFROM:-0400
TZOFFSETTO:-0500
TZNAME:EST
DTSTART:20261101T060000
END:STANDARD
BEGIN:DAYLIGHT
TZOFFSETFROM:-0500
TZOFFSETTO:-0400
TZNAME:EDT
DTSTART:20270314T070000
END:DAYLIGHT
BEGIN:STANDARD
TZOFFSETFROM:-0400
TZOFFSETTO:-0500
TZNAME:EST
DTSTART:20271107T060000
END:STANDARD
BEGIN:DAYLIGHT
TZOFFSETFROM:-0500
TZOFFSETTO:-0400
TZNAME:EDT
DTSTART:20280312T070000
END:DAYLIGHT
BEGIN:STANDARD
TZOFFSETFROM:-0400
TZOFFSETTO:-0500
TZNAME:EST
DTSTART:20281105T060000
END:STANDARD
END:VTIMEZONE
BEGIN:VEVENT
DTSTART;TZID=America/New_York:20270414T000000
DTEND;TZID=America/New_York:20270414T123000
DTSTAMP:20260423T012623
CREATED:20250811T191332Z
LAST-MODIFIED:20250811T191333Z
UID:10001328-1807660800-1807705800@www.shaaraytefila.org
SUMMARY:Shul Stitchers
DESCRIPTION:We are getting together on the second Wednesday of every month at 11:00AM in the JHC.  Please bring your needles and hooks and yarn. \nAs most of you are aware\, our mission/mitzvah is to knit/crochet blankets\, hats and scarves for those in need.  If you have a favorite organization that is in need of our knitted/crocheted items\, please let us know at the meeting.
URL:https://www.shaaraytefila.org/event/shul-stichers-2-2-4/2027-04-14/
ATTACH;FMTTYPE=image/png:https://www.shaaraytefila.org/wp-content/uploads/2025/01/Shul-Stitchers.png
END:VEVENT
BEGIN:VEVENT
DTSTART;TZID=America/New_York:20270416T190000
DTEND;TZID=America/New_York:20270416T200000
DTSTAMP:20260423T012623
CREATED:20241110T092727Z
LAST-MODIFIED:20241121T203315Z
UID:10000183-1807902000-1807905600@www.shaaraytefila.org
SUMMARY:Shabbat Service & Oneg
DESCRIPTION:
URL:https://www.shaaraytefila.org/event/shabbat-5/2027-04-16/
CATEGORIES:Worship
ATTACH;FMTTYPE=image/jpeg:https://www.shaaraytefila.org/wp-content/uploads/2024/11/challah-cropped.jpg
END:VEVENT
BEGIN:VEVENT
DTSTART;TZID=America/New_York:20270417T085000
DTEND;TZID=America/New_York:20270417T100000
DTSTAMP:20260423T012623
CREATED:20250109T193216Z
LAST-MODIFIED:20250109T204947Z
UID:10000440-1807951800-1807956000@www.shaaraytefila.org
SUMMARY:Torah Study
DESCRIPTION:Torah Study In Person every Saturday \n8:50am Minyan 9am Torah Study \nAnd on Zoom – see our newsletter
URL:https://www.shaaraytefila.org/event/torah-study/2027-04-17/
ATTACH;FMTTYPE=image/jpeg:https://www.shaaraytefila.org/wp-content/uploads/2024/09/torah-scrolls.jpg
LOCATION:https://www.shaaraytefila.org/event/torah-study/2027-04-17/
END:VEVENT
BEGIN:VEVENT
DTSTART;TZID=America/New_York:20270423T190000
DTEND;TZID=America/New_York:20270423T200000
DTSTAMP:20260423T012623
CREATED:20241110T092727Z
LAST-MODIFIED:20241121T203315Z
UID:10000184-1808506800-1808510400@www.shaaraytefila.org
SUMMARY:Shabbat Service & Oneg
DESCRIPTION:
URL:https://www.shaaraytefila.org/event/shabbat-5/2027-04-23/
CATEGORIES:Worship
ATTACH;FMTTYPE=image/jpeg:https://www.shaaraytefila.org/wp-content/uploads/2024/11/challah-cropped.jpg
END:VEVENT
BEGIN:VEVENT
DTSTART;TZID=America/New_York:20270424T085000
DTEND;TZID=America/New_York:20270424T100000
DTSTAMP:20260423T012623
CREATED:20250109T193216Z
LAST-MODIFIED:20250109T204947Z
UID:10000441-1808556600-1808560800@www.shaaraytefila.org
SUMMARY:Torah Study
DESCRIPTION:Torah Study In Person every Saturday \n8:50am Minyan 9am Torah Study \nAnd on Zoom – see our newsletter
URL:https://www.shaaraytefila.org/event/torah-study/2027-04-24/
ATTACH;FMTTYPE=image/jpeg:https://www.shaaraytefila.org/wp-content/uploads/2024/09/torah-scrolls.jpg
LOCATION:https://www.shaaraytefila.org/event/torah-study/2027-04-24/
END:VEVENT
BEGIN:VEVENT
DTSTART;TZID=America/New_York:20270430T190000
DTEND;TZID=America/New_York:20270430T200000
DTSTAMP:20260423T012623
CREATED:20241110T092727Z
LAST-MODIFIED:20241121T203315Z
UID:10000185-1809111600-1809115200@www.shaaraytefila.org
SUMMARY:Shabbat Service & Oneg
DESCRIPTION:
URL:https://www.shaaraytefila.org/event/shabbat-5/2027-04-30/
CATEGORIES:Worship
ATTACH;FMTTYPE=image/jpeg:https://www.shaaraytefila.org/wp-content/uploads/2024/11/challah-cropped.jpg
END:VEVENT
BEGIN:VEVENT
DTSTART;TZID=America/New_York:20270501T085000
DTEND;TZID=America/New_York:20270501T100000
DTSTAMP:20260423T012623
CREATED:20250109T193216Z
LAST-MODIFIED:20250109T204947Z
UID:10000442-1809161400-1809165600@www.shaaraytefila.org
SUMMARY:Torah Study
DESCRIPTION:Torah Study In Person every Saturday \n8:50am Minyan 9am Torah Study \nAnd on Zoom – see our newsletter
URL:https://www.shaaraytefila.org/event/torah-study/2027-05-01/
ATTACH;FMTTYPE=image/jpeg:https://www.shaaraytefila.org/wp-content/uploads/2024/09/torah-scrolls.jpg
LOCATION:https://www.shaaraytefila.org/event/torah-study/2027-05-01/
END:VEVENT
BEGIN:VEVENT
DTSTART;TZID=America/New_York:20270507T190000
DTEND;TZID=America/New_York:20270507T200000
DTSTAMP:20260423T012623
CREATED:20241110T092727Z
LAST-MODIFIED:20241121T203315Z
UID:10000186-1809716400-1809720000@www.shaaraytefila.org
SUMMARY:Shabbat Service & Oneg
DESCRIPTION:
URL:https://www.shaaraytefila.org/event/shabbat-5/2027-05-07/
CATEGORIES:Worship
ATTACH;FMTTYPE=image/jpeg:https://www.shaaraytefila.org/wp-content/uploads/2024/11/challah-cropped.jpg
END:VEVENT
BEGIN:VEVENT
DTSTART;TZID=America/New_York:20270508T085000
DTEND;TZID=America/New_York:20270508T100000
DTSTAMP:20260423T012623
CREATED:20250109T193216Z
LAST-MODIFIED:20250109T204947Z
UID:10000443-1809766200-1809770400@www.shaaraytefila.org
SUMMARY:Torah Study
DESCRIPTION:Torah Study In Person every Saturday \n8:50am Minyan 9am Torah Study \nAnd on Zoom – see our newsletter
URL:https://www.shaaraytefila.org/event/torah-study/2027-05-08/
ATTACH;FMTTYPE=image/jpeg:https://www.shaaraytefila.org/wp-content/uploads/2024/09/torah-scrolls.jpg
LOCATION:https://www.shaaraytefila.org/event/torah-study/2027-05-08/
END:VEVENT
BEGIN:VEVENT
DTSTART;TZID=America/New_York:20270512T000000
DTEND;TZID=America/New_York:20270512T123000
DTSTAMP:20260423T012623
CREATED:20250811T191332Z
LAST-MODIFIED:20250811T191333Z
UID:10001329-1810080000-1810125000@www.shaaraytefila.org
SUMMARY:Shul Stitchers
DESCRIPTION:We are getting together on the second Wednesday of every month at 11:00AM in the JHC.  Please bring your needles and hooks and yarn. \nAs most of you are aware\, our mission/mitzvah is to knit/crochet blankets\, hats and scarves for those in need.  If you have a favorite organization that is in need of our knitted/crocheted items\, please let us know at the meeting.
URL:https://www.shaaraytefila.org/event/shul-stichers-2-2-4/2027-05-12/
ATTACH;FMTTYPE=image/png:https://www.shaaraytefila.org/wp-content/uploads/2025/01/Shul-Stitchers.png
END:VEVENT
BEGIN:VEVENT
DTSTART;TZID=America/New_York:20270514T190000
DTEND;TZID=America/New_York:20270514T200000
DTSTAMP:20260423T012623
CREATED:20241110T092727Z
LAST-MODIFIED:20241121T203315Z
UID:10000187-1810321200-1810324800@www.shaaraytefila.org
SUMMARY:Shabbat Service & Oneg
DESCRIPTION:
URL:https://www.shaaraytefila.org/event/shabbat-5/2027-05-14/
CATEGORIES:Worship
ATTACH;FMTTYPE=image/jpeg:https://www.shaaraytefila.org/wp-content/uploads/2024/11/challah-cropped.jpg
END:VEVENT
BEGIN:VEVENT
DTSTART;TZID=America/New_York:20270515T085000
DTEND;TZID=America/New_York:20270515T100000
DTSTAMP:20260423T012623
CREATED:20250109T193216Z
LAST-MODIFIED:20250109T204947Z
UID:10000444-1810371000-1810375200@www.shaaraytefila.org
SUMMARY:Torah Study
DESCRIPTION:Torah Study In Person every Saturday \n8:50am Minyan 9am Torah Study \nAnd on Zoom – see our newsletter
URL:https://www.shaaraytefila.org/event/torah-study/2027-05-15/
ATTACH;FMTTYPE=image/jpeg:https://www.shaaraytefila.org/wp-content/uploads/2024/09/torah-scrolls.jpg
LOCATION:https://www.shaaraytefila.org/event/torah-study/2027-05-15/
END:VEVENT
BEGIN:VEVENT
DTSTART;TZID=America/New_York:20270521T190000
DTEND;TZID=America/New_York:20270521T200000
DTSTAMP:20260423T012623
CREATED:20241110T092727Z
LAST-MODIFIED:20241121T203315Z
UID:10000188-1810926000-1810929600@www.shaaraytefila.org
SUMMARY:Shabbat Service & Oneg
DESCRIPTION:
URL:https://www.shaaraytefila.org/event/shabbat-5/2027-05-21/
CATEGORIES:Worship
ATTACH;FMTTYPE=image/jpeg:https://www.shaaraytefila.org/wp-content/uploads/2024/11/challah-cropped.jpg
END:VEVENT
BEGIN:VEVENT
DTSTART;TZID=America/New_York:20270522T085000
DTEND;TZID=America/New_York:20270522T100000
DTSTAMP:20260423T012623
CREATED:20250109T193216Z
LAST-MODIFIED:20250109T204947Z
UID:10000445-1810975800-1810980000@www.shaaraytefila.org
SUMMARY:Torah Study
DESCRIPTION:Torah Study In Person every Saturday \n8:50am Minyan 9am Torah Study \nAnd on Zoom – see our newsletter
URL:https://www.shaaraytefila.org/event/torah-study/2027-05-22/
ATTACH;FMTTYPE=image/jpeg:https://www.shaaraytefila.org/wp-content/uploads/2024/09/torah-scrolls.jpg
LOCATION:https://www.shaaraytefila.org/event/torah-study/2027-05-22/
END:VEVENT
BEGIN:VEVENT
DTSTART;TZID=America/New_York:20270528T190000
DTEND;TZID=America/New_York:20270528T200000
DTSTAMP:20260423T012623
CREATED:20241110T092727Z
LAST-MODIFIED:20241121T203315Z
UID:10000189-1811530800-1811534400@www.shaaraytefila.org
SUMMARY:Shabbat Service & Oneg
DESCRIPTION:
URL:https://www.shaaraytefila.org/event/shabbat-5/2027-05-28/
CATEGORIES:Worship
ATTACH;FMTTYPE=image/jpeg:https://www.shaaraytefila.org/wp-content/uploads/2024/11/challah-cropped.jpg
END:VEVENT
BEGIN:VEVENT
DTSTART;TZID=America/New_York:20270529T085000
DTEND;TZID=America/New_York:20270529T100000
DTSTAMP:20260423T012623
CREATED:20250109T193216Z
LAST-MODIFIED:20250109T204947Z
UID:10000446-1811580600-1811584800@www.shaaraytefila.org
SUMMARY:Torah Study
DESCRIPTION:Torah Study In Person every Saturday \n8:50am Minyan 9am Torah Study \nAnd on Zoom – see our newsletter
URL:https://www.shaaraytefila.org/event/torah-study/2027-05-29/
ATTACH;FMTTYPE=image/jpeg:https://www.shaaraytefila.org/wp-content/uploads/2024/09/torah-scrolls.jpg
LOCATION:https://www.shaaraytefila.org/event/torah-study/2027-05-29/
END:VEVENT
BEGIN:VEVENT
DTSTART;TZID=America/New_York:20270604T190000
DTEND;TZID=America/New_York:20270604T200000
DTSTAMP:20260423T012623
CREATED:20241110T092727Z
LAST-MODIFIED:20241121T203315Z
UID:10000190-1812135600-1812139200@www.shaaraytefila.org
SUMMARY:Shabbat Service & Oneg
DESCRIPTION:
URL:https://www.shaaraytefila.org/event/shabbat-5/2027-06-04/
CATEGORIES:Worship
ATTACH;FMTTYPE=image/jpeg:https://www.shaaraytefila.org/wp-content/uploads/2024/11/challah-cropped.jpg
END:VEVENT
BEGIN:VEVENT
DTSTART;TZID=America/New_York:20270605T085000
DTEND;TZID=America/New_York:20270605T100000
DTSTAMP:20260423T012623
CREATED:20250109T193216Z
LAST-MODIFIED:20250109T204947Z
UID:10000447-1812185400-1812189600@www.shaaraytefila.org
SUMMARY:Torah Study
DESCRIPTION:Torah Study In Person every Saturday \n8:50am Minyan 9am Torah Study \nAnd on Zoom – see our newsletter
URL:https://www.shaaraytefila.org/event/torah-study/2027-06-05/
ATTACH;FMTTYPE=image/jpeg:https://www.shaaraytefila.org/wp-content/uploads/2024/09/torah-scrolls.jpg
LOCATION:https://www.shaaraytefila.org/event/torah-study/2027-06-05/
END:VEVENT
BEGIN:VEVENT
DTSTART;TZID=America/New_York:20270609T000000
DTEND;TZID=America/New_York:20270609T123000
DTSTAMP:20260423T012623
CREATED:20250811T191332Z
LAST-MODIFIED:20250811T191333Z
UID:10001330-1812499200-1812544200@www.shaaraytefila.org
SUMMARY:Shul Stitchers
DESCRIPTION:We are getting together on the second Wednesday of every month at 11:00AM in the JHC.  Please bring your needles and hooks and yarn. \nAs most of you are aware\, our mission/mitzvah is to knit/crochet blankets\, hats and scarves for those in need.  If you have a favorite organization that is in need of our knitted/crocheted items\, please let us know at the meeting.
URL:https://www.shaaraytefila.org/event/shul-stichers-2-2-4/2027-06-09/
ATTACH;FMTTYPE=image/png:https://www.shaaraytefila.org/wp-content/uploads/2025/01/Shul-Stitchers.png
END:VEVENT
BEGIN:VEVENT
DTSTART;TZID=America/New_York:20270611T190000
DTEND;TZID=America/New_York:20270611T200000
DTSTAMP:20260423T012623
CREATED:20241110T092727Z
LAST-MODIFIED:20241121T203315Z
UID:10000191-1812740400-1812744000@www.shaaraytefila.org
SUMMARY:Shabbat Service & Oneg
DESCRIPTION:
URL:https://www.shaaraytefila.org/event/shabbat-5/2027-06-11/
CATEGORIES:Worship
ATTACH;FMTTYPE=image/jpeg:https://www.shaaraytefila.org/wp-content/uploads/2024/11/challah-cropped.jpg
END:VEVENT
BEGIN:VEVENT
DTSTART;TZID=America/New_York:20270612T085000
DTEND;TZID=America/New_York:20270612T100000
DTSTAMP:20260423T012623
CREATED:20250109T193216Z
LAST-MODIFIED:20250109T204947Z
UID:10000448-1812790200-1812794400@www.shaaraytefila.org
SUMMARY:Torah Study
DESCRIPTION:Torah Study In Person every Saturday \n8:50am Minyan 9am Torah Study \nAnd on Zoom – see our newsletter
URL:https://www.shaaraytefila.org/event/torah-study/2027-06-12/
ATTACH;FMTTYPE=image/jpeg:https://www.shaaraytefila.org/wp-content/uploads/2024/09/torah-scrolls.jpg
LOCATION:https://www.shaaraytefila.org/event/torah-study/2027-06-12/
END:VEVENT
BEGIN:VEVENT
DTSTART;TZID=America/New_York:20270618T190000
DTEND;TZID=America/New_York:20270618T200000
DTSTAMP:20260423T012623
CREATED:20241110T092727Z
LAST-MODIFIED:20241121T203315Z
UID:10000192-1813345200-1813348800@www.shaaraytefila.org
SUMMARY:Shabbat Service & Oneg
DESCRIPTION:
URL:https://www.shaaraytefila.org/event/shabbat-5/2027-06-18/
CATEGORIES:Worship
ATTACH;FMTTYPE=image/jpeg:https://www.shaaraytefila.org/wp-content/uploads/2024/11/challah-cropped.jpg
END:VEVENT
BEGIN:VEVENT
DTSTART;TZID=America/New_York:20270619T085000
DTEND;TZID=America/New_York:20270619T100000
DTSTAMP:20260423T012623
CREATED:20250109T193216Z
LAST-MODIFIED:20250109T204947Z
UID:10000449-1813395000-1813399200@www.shaaraytefila.org
SUMMARY:Torah Study
DESCRIPTION:Torah Study In Person every Saturday \n8:50am Minyan 9am Torah Study \nAnd on Zoom – see our newsletter
URL:https://www.shaaraytefila.org/event/torah-study/2027-06-19/
ATTACH;FMTTYPE=image/jpeg:https://www.shaaraytefila.org/wp-content/uploads/2024/09/torah-scrolls.jpg
LOCATION:https://www.shaaraytefila.org/event/torah-study/2027-06-19/
END:VEVENT
BEGIN:VEVENT
DTSTART;TZID=America/New_York:20270625T190000
DTEND;TZID=America/New_York:20270625T200000
DTSTAMP:20260423T012623
CREATED:20241110T092727Z
LAST-MODIFIED:20241121T203315Z
UID:10000193-1813950000-1813953600@www.shaaraytefila.org
SUMMARY:Shabbat Service & Oneg
DESCRIPTION:
URL:https://www.shaaraytefila.org/event/shabbat-5/2027-06-25/
CATEGORIES:Worship
ATTACH;FMTTYPE=image/jpeg:https://www.shaaraytefila.org/wp-content/uploads/2024/11/challah-cropped.jpg
END:VEVENT
BEGIN:VEVENT
DTSTART;TZID=America/New_York:20270626T085000
DTEND;TZID=America/New_York:20270626T100000
DTSTAMP:20260423T012623
CREATED:20250109T193216Z
LAST-MODIFIED:20250109T204947Z
UID:10000450-1813999800-1814004000@www.shaaraytefila.org
SUMMARY:Torah Study
DESCRIPTION:Torah Study In Person every Saturday \n8:50am Minyan 9am Torah Study \nAnd on Zoom – see our newsletter
URL:https://www.shaaraytefila.org/event/torah-study/2027-06-26/
ATTACH;FMTTYPE=image/jpeg:https://www.shaaraytefila.org/wp-content/uploads/2024/09/torah-scrolls.jpg
LOCATION:https://www.shaaraytefila.org/event/torah-study/2027-06-26/
END:VEVENT
BEGIN:VEVENT
DTSTART;TZID=America/New_York:20270702T190000
DTEND;TZID=America/New_York:20270702T200000
DTSTAMP:20260423T012623
CREATED:20241110T092727Z
LAST-MODIFIED:20241121T203315Z
UID:10000194-1814554800-1814558400@www.shaaraytefila.org
SUMMARY:Shabbat Service & Oneg
DESCRIPTION:
URL:https://www.shaaraytefila.org/event/shabbat-5/2027-07-02/
CATEGORIES:Worship
ATTACH;FMTTYPE=image/jpeg:https://www.shaaraytefila.org/wp-content/uploads/2024/11/challah-cropped.jpg
END:VEVENT
BEGIN:VEVENT
DTSTART;TZID=America/New_York:20270703T085000
DTEND;TZID=America/New_York:20270703T100000
DTSTAMP:20260423T012623
CREATED:20250109T193216Z
LAST-MODIFIED:20250109T204947Z
UID:10000451-1814604600-1814608800@www.shaaraytefila.org
SUMMARY:Torah Study
DESCRIPTION:Torah Study In Person every Saturday \n8:50am Minyan 9am Torah Study \nAnd on Zoom – see our newsletter
URL:https://www.shaaraytefila.org/event/torah-study/2027-07-03/
ATTACH;FMTTYPE=image/jpeg:https://www.shaaraytefila.org/wp-content/uploads/2024/09/torah-scrolls.jpg
LOCATION:https://www.shaaraytefila.org/event/torah-study/2027-07-03/
END:VEVENT
BEGIN:VEVENT
DTSTART;TZID=America/New_York:20270709T190000
DTEND;TZID=America/New_York:20270709T200000
DTSTAMP:20260423T012623
CREATED:20241110T092727Z
LAST-MODIFIED:20241121T203315Z
UID:10000195-1815159600-1815163200@www.shaaraytefila.org
SUMMARY:Shabbat Service & Oneg
DESCRIPTION:
URL:https://www.shaaraytefila.org/event/shabbat-5/2027-07-09/
CATEGORIES:Worship
ATTACH;FMTTYPE=image/jpeg:https://www.shaaraytefila.org/wp-content/uploads/2024/11/challah-cropped.jpg
END:VEVENT
BEGIN:VEVENT
DTSTART;TZID=America/New_York:20270710T085000
DTEND;TZID=America/New_York:20270710T100000
DTSTAMP:20260423T012623
CREATED:20250109T193216Z
LAST-MODIFIED:20250109T204947Z
UID:10000452-1815209400-1815213600@www.shaaraytefila.org
SUMMARY:Torah Study
DESCRIPTION:Torah Study In Person every Saturday \n8:50am Minyan 9am Torah Study \nAnd on Zoom – see our newsletter
URL:https://www.shaaraytefila.org/event/torah-study/2027-07-10/
ATTACH;FMTTYPE=image/jpeg:https://www.shaaraytefila.org/wp-content/uploads/2024/09/torah-scrolls.jpg
LOCATION:https://www.shaaraytefila.org/event/torah-study/2027-07-10/
END:VEVENT
BEGIN:VEVENT
DTSTART;TZID=America/New_York:20270714T000000
DTEND;TZID=America/New_York:20270714T123000
DTSTAMP:20260423T012623
CREATED:20250811T191332Z
LAST-MODIFIED:20250811T191333Z
UID:10001331-1815523200-1815568200@www.shaaraytefila.org
SUMMARY:Shul Stitchers
DESCRIPTION:We are getting together on the second Wednesday of every month at 11:00AM in the JHC.  Please bring your needles and hooks and yarn. \nAs most of you are aware\, our mission/mitzvah is to knit/crochet blankets\, hats and scarves for those in need.  If you have a favorite organization that is in need of our knitted/crocheted items\, please let us know at the meeting.
URL:https://www.shaaraytefila.org/event/shul-stichers-2-2-4/2027-07-14/
ATTACH;FMTTYPE=image/png:https://www.shaaraytefila.org/wp-content/uploads/2025/01/Shul-Stitchers.png
END:VEVENT
END:VCALENDAR