BEGIN:VCALENDAR
VERSION:2.0
PRODID:-//Temple Shaaray Tefila - ECPv6.15.20//NONSGML v1.0//EN
CALSCALE:GREGORIAN
METHOD:PUBLISH
X-ORIGINAL-URL:https://www.shaaraytefila.org
X-WR-CALDESC:Events for Temple Shaaray Tefila
REFRESH-INTERVAL;VALUE=DURATION:PT1H
X-Robots-Tag:noindex
X-PUBLISHED-TTL:PT1H
BEGIN:VTIMEZONE
TZID:America/New_York
BEGIN:DAYLIGHT
TZOFFSETFROM:-0500
TZOFFSETTO:-0400
TZNAME:EDT
DTSTART:20240310T070000
END:DAYLIGHT
BEGIN:STANDARD
TZOFFSETFROM:-0400
TZOFFSETTO:-0500
TZNAME:EST
DTSTART:20241103T060000
END:STANDARD
BEGIN:DAYLIGHT
TZOFFSETFROM:-0500
TZOFFSETTO:-0400
TZNAME:EDT
DTSTART:20250309T070000
END:DAYLIGHT
BEGIN:STANDARD
TZOFFSETFROM:-0400
TZOFFSETTO:-0500
TZNAME:EST
DTSTART:20251102T060000
END:STANDARD
BEGIN:DAYLIGHT
TZOFFSETFROM:-0500
TZOFFSETTO:-0400
TZNAME:EDT
DTSTART:20260308T070000
END:DAYLIGHT
BEGIN:STANDARD
TZOFFSETFROM:-0400
TZOFFSETTO:-0500
TZNAME:EST
DTSTART:20261101T060000
END:STANDARD
END:VTIMEZONE
BEGIN:VEVENT
DTSTART;TZID=America/New_York:20251018T085000
DTEND;TZID=America/New_York:20251018T100000
DTSTAMP:20260422T221810
CREATED:20250109T193216Z
LAST-MODIFIED:20250109T204947Z
UID:10000362-1760777400-1760781600@www.shaaraytefila.org
SUMMARY:Torah Study
DESCRIPTION:Torah Study In Person every Saturday \n8:50am Minyan 9am Torah Study \nAnd on Zoom – see our newsletter
URL:https://www.shaaraytefila.org/event/torah-study/2025-10-18/
ATTACH;FMTTYPE=image/jpeg:https://www.shaaraytefila.org/wp-content/uploads/2024/09/torah-scrolls.jpg
LOCATION:https://www.shaaraytefila.org/event/torah-study/2025-10-18/
END:VEVENT
BEGIN:VEVENT
DTSTART;TZID=America/New_York:20251017T190000
DTEND;TZID=America/New_York:20251017T200000
DTSTAMP:20260422T221810
CREATED:20241110T092727Z
LAST-MODIFIED:20241121T203315Z
UID:10000105-1760727600-1760731200@www.shaaraytefila.org
SUMMARY:Shabbat Service & Oneg
DESCRIPTION:
URL:https://www.shaaraytefila.org/event/shabbat-5/2025-10-17/
CATEGORIES:Worship
ATTACH;FMTTYPE=image/jpeg:https://www.shaaraytefila.org/wp-content/uploads/2024/11/challah-cropped.jpg
END:VEVENT
BEGIN:VEVENT
DTSTART;VALUE=DATE:20251017
DTEND;VALUE=DATE:20251018
DTSTAMP:20260422T221810
CREATED:20250908T214728Z
LAST-MODIFIED:20250908T215822Z
UID:10001419-1760659200-1760745599@www.shaaraytefila.org
SUMMARY:Consecration Dinner and Simchat Torah Shabbat
DESCRIPTION:
URL:https://www.shaaraytefila.org/event/consecration-dinner-and-simchat-torah-shabbat/
ATTACH;FMTTYPE=image/jpeg:https://www.shaaraytefila.org/wp-content/uploads/2019/10/simchat.jpg
END:VEVENT
BEGIN:VEVENT
DTSTART;TZID=America/New_York:20251014T193000
DTEND;TZID=America/New_York:20251014T203000
DTSTAMP:20260422T221810
CREATED:20250317T182218Z
LAST-MODIFIED:20250317T182219Z
UID:10001031-1760470200-1760473800@www.shaaraytefila.org
SUMMARY:Rabbi Greenberg Forum
DESCRIPTION:*NOTE: New day and time! \nJoin Rabbi Greenberg for his weekly forum on Zoom!
URL:https://www.shaaraytefila.org/event/rabbi-greenberg-forum-8-2-2/2025-10-14/
ATTACH;FMTTYPE=image/jpeg:https://www.shaaraytefila.org/wp-content/uploads/2024/09/Rabbi-David-Greenberg-cropped-e1736453527301.jpg
LOCATION:https://www.shaaraytefila.org/event/rabbi-greenberg-forum-8-2-2/2025-10-14/
END:VEVENT
BEGIN:VEVENT
DTSTART;VALUE=DATE:20251014
DTEND;VALUE=DATE:20251015
DTSTAMP:20260422T221810
CREATED:20250908T214507Z
LAST-MODIFIED:20250908T215627Z
UID:10001418-1760400000-1760486399@www.shaaraytefila.org
SUMMARY:William Louis Dreyfus Museum tour
DESCRIPTION:Private docent-led tour of\nThe Williams Louis-Dreyfus Foundation Museum \nLimited to the first 30 registrants. \nTuesday\, October 14th\, 2025\nBreakfast at the Temple 9:45 am\nMuseum Tour 11 am\n211 Kisco Ave\, Mt Kisco\, NY 10549 \nCost: $18 Members/$36 non-members \nRSVP: \nhttps://shaaraytefila.shulcloud.com/form/the-william-louis-dreyfus-foundation-museum-tour.html
URL:https://www.shaaraytefila.org/event/william-louis-dreyfus-museum-tour/
ATTACH;FMTTYPE=image/png:https://www.shaaraytefila.org/wp-content/uploads/2025/09/logo-wld.png
END:VEVENT
BEGIN:VEVENT
DTSTART;TZID=America/New_York:20251011T085000
DTEND;TZID=America/New_York:20251011T100000
DTSTAMP:20260422T221810
CREATED:20250109T193216Z
LAST-MODIFIED:20250109T204947Z
UID:10000361-1760172600-1760176800@www.shaaraytefila.org
SUMMARY:Torah Study
DESCRIPTION:Torah Study In Person every Saturday \n8:50am Minyan 9am Torah Study \nAnd on Zoom – see our newsletter
URL:https://www.shaaraytefila.org/event/torah-study/2025-10-11/
ATTACH;FMTTYPE=image/jpeg:https://www.shaaraytefila.org/wp-content/uploads/2024/09/torah-scrolls.jpg
LOCATION:https://www.shaaraytefila.org/event/torah-study/2025-10-11/
END:VEVENT
BEGIN:VEVENT
DTSTART;VALUE=DATE:20251011
DTEND;VALUE=DATE:20251012
DTSTAMP:20260422T221810
CREATED:20250908T213842Z
LAST-MODIFIED:20250908T213850Z
UID:10001417-1760140800-1760227199@www.shaaraytefila.org
SUMMARY:Brotherhood Biblical Lamb Roast in the Sukkah
DESCRIPTION:Brotherhood Biblical Lamb Roast in the Sukkah\nSaturday\, October 11 · 5:00 PM\n$45 per person | BYOB \nJoin us for a truly unique Biblical Meal for Sukkot! \nRoasted whole lamb over an open fire pit\nMiddle Eastern foods and sides\nRabbi Dennis will share insights on “Jews and Food: Exploring Sukkot and Traditions” \nDon’t miss this special evening of food\, community\, and celebration under the Sukkah! \nRSVP: \nhttps://shaaraytefila.shulcloud.com/form/Brotherhood%20Biblical%20Lamb%20Roast%20in%20the%20Sukkah \n 
URL:https://www.shaaraytefila.org/event/brotherhood-biblical-lamb-roast-in-the-sukkah/
ATTACH;FMTTYPE=image/png:https://www.shaaraytefila.org/wp-content/uploads/2025/09/Roasting-Leg-of-Lamb-Over-Fire-2.png
END:VEVENT
BEGIN:VEVENT
DTSTART;TZID=America/New_York:20251010T190000
DTEND;TZID=America/New_York:20251010T200000
DTSTAMP:20260422T221810
CREATED:20241110T092727Z
LAST-MODIFIED:20241121T203315Z
UID:10000104-1760122800-1760126400@www.shaaraytefila.org
SUMMARY:Shabbat Service & Oneg
DESCRIPTION:
URL:https://www.shaaraytefila.org/event/shabbat-5/2025-10-10/
CATEGORIES:Worship
ATTACH;FMTTYPE=image/jpeg:https://www.shaaraytefila.org/wp-content/uploads/2024/11/challah-cropped.jpg
END:VEVENT
BEGIN:VEVENT
DTSTART;TZID=America/New_York:20251008T000000
DTEND;TZID=America/New_York:20251008T123000
DTSTAMP:20260422T221810
CREATED:20250811T191259Z
LAST-MODIFIED:20250811T191300Z
UID:10001310-1759881600-1759926600@www.shaaraytefila.org
SUMMARY:Shul Stitchers
DESCRIPTION:We are getting together on the second Wednesday of every month at 11:00AM in the JHC.  Please bring your needles and hooks and yarn. \nAs most of you are aware\, our mission/mitzvah is to knit/crochet blankets\, hats and scarves for those in need.  If you have a favorite organization that is in need of our knitted/crocheted items\, please let us know at the meeting.
URL:https://www.shaaraytefila.org/event/shul-stichers-2-2-3/
ATTACH;FMTTYPE=image/png:https://www.shaaraytefila.org/wp-content/uploads/2025/01/Shul-Stitchers.png
END:VEVENT
BEGIN:VEVENT
DTSTART;TZID=America/New_York:20251007T193000
DTEND;TZID=America/New_York:20251007T203000
DTSTAMP:20260422T221810
CREATED:20250317T182218Z
LAST-MODIFIED:20250317T182219Z
UID:10001030-1759865400-1759869000@www.shaaraytefila.org
SUMMARY:Rabbi Greenberg Forum
DESCRIPTION:*NOTE: New day and time! \nJoin Rabbi Greenberg for his weekly forum on Zoom!
URL:https://www.shaaraytefila.org/event/rabbi-greenberg-forum-8-2-2/2025-10-07/
ATTACH;FMTTYPE=image/jpeg:https://www.shaaraytefila.org/wp-content/uploads/2024/09/Rabbi-David-Greenberg-cropped-e1736453527301.jpg
LOCATION:https://www.shaaraytefila.org/event/rabbi-greenberg-forum-8-2-2/2025-10-07/
END:VEVENT
BEGIN:VEVENT
DTSTART;VALUE=DATE:20251006
DTEND;VALUE=DATE:20251007
DTSTAMP:20260422T221810
CREATED:20250827T183925Z
LAST-MODIFIED:20250908T215056Z
UID:10001411-1759708800-1759795199@www.shaaraytefila.org
SUMMARY:Sukkot-Pizza in the Hut
DESCRIPTION:Join the Rabbi Erev Sukkot for a pizza dinner and service.
URL:https://www.shaaraytefila.org/event/sukkot-pizza-in-the-hut/
ATTACH;FMTTYPE=image/png:https://www.shaaraytefila.org/wp-content/uploads/2025/08/ChatGPT-Image-Sep-8-2025-05_49_03-PM.png
END:VEVENT
BEGIN:VEVENT
DTSTART;TZID=America/New_York:20251004T085000
DTEND;TZID=America/New_York:20251004T100000
DTSTAMP:20260422T221810
CREATED:20250109T193216Z
LAST-MODIFIED:20250109T204947Z
UID:10000360-1759567800-1759572000@www.shaaraytefila.org
SUMMARY:Torah Study
DESCRIPTION:Torah Study In Person every Saturday \n8:50am Minyan 9am Torah Study \nAnd on Zoom – see our newsletter
URL:https://www.shaaraytefila.org/event/torah-study/2025-10-04/
ATTACH;FMTTYPE=image/jpeg:https://www.shaaraytefila.org/wp-content/uploads/2024/09/torah-scrolls.jpg
LOCATION:https://www.shaaraytefila.org/event/torah-study/2025-10-04/
END:VEVENT
BEGIN:VEVENT
DTSTART;TZID=America/New_York:20251003T190000
DTEND;TZID=America/New_York:20251003T200000
DTSTAMP:20260422T221810
CREATED:20241110T092727Z
LAST-MODIFIED:20241121T203315Z
UID:10000103-1759518000-1759521600@www.shaaraytefila.org
SUMMARY:Shabbat Service & Oneg
DESCRIPTION:
URL:https://www.shaaraytefila.org/event/shabbat-5/2025-10-03/
CATEGORIES:Worship
ATTACH;FMTTYPE=image/jpeg:https://www.shaaraytefila.org/wp-content/uploads/2024/11/challah-cropped.jpg
END:VEVENT
BEGIN:VEVENT
DTSTART;VALUE=DATE:20251002
DTEND;VALUE=DATE:20251003
DTSTAMP:20260422T221810
CREATED:20250908T213133Z
LAST-MODIFIED:20250908T213133Z
UID:10001416-1759363200-1759449599@www.shaaraytefila.org
SUMMARY:Yom Kippur
DESCRIPTION:Caramoor: \n\nFamily Service\nMain service\nTeen Service\n\n  \nTemple Shaaray Tefila: \n\nAdult Discussion\nYizkor\nNeilah Service
URL:https://www.shaaraytefila.org/event/yom-kippur/
ATTACH;FMTTYPE=image/jpeg:https://www.shaaraytefila.org/wp-content/uploads/2025/07/torah-scrolls-sq.jpg
END:VEVENT
BEGIN:VEVENT
DTSTART;VALUE=DATE:20251001
DTEND;VALUE=DATE:20251002
DTSTAMP:20260422T221810
CREATED:20250908T212940Z
LAST-MODIFIED:20250908T212941Z
UID:10001415-1759276800-1759363199@www.shaaraytefila.org
SUMMARY:Erev Yom Kippur
DESCRIPTION:Kol Nidre at Caramoor
URL:https://www.shaaraytefila.org/event/erev-yom-kippur/
ATTACH;FMTTYPE=image/png:https://www.shaaraytefila.org/wp-content/uploads/2020/08/Yom-Kippur-banner-revised.png
END:VEVENT
BEGIN:VEVENT
DTSTART;TZID=America/New_York:20250930T193000
DTEND;TZID=America/New_York:20250930T203000
DTSTAMP:20260422T221810
CREATED:20250317T182218Z
LAST-MODIFIED:20250317T182219Z
UID:10001029-1759260600-1759264200@www.shaaraytefila.org
SUMMARY:Rabbi Greenberg Forum
DESCRIPTION:*NOTE: New day and time! \nJoin Rabbi Greenberg for his weekly forum on Zoom!
URL:https://www.shaaraytefila.org/event/rabbi-greenberg-forum-8-2-2/2025-09-30/
ATTACH;FMTTYPE=image/jpeg:https://www.shaaraytefila.org/wp-content/uploads/2024/09/Rabbi-David-Greenberg-cropped-e1736453527301.jpg
LOCATION:https://www.shaaraytefila.org/event/rabbi-greenberg-forum-8-2-2/2025-09-30/
END:VEVENT
BEGIN:VEVENT
DTSTART;TZID=America/New_York:20250927T085000
DTEND;TZID=America/New_York:20250927T100000
DTSTAMP:20260422T221810
CREATED:20250109T193216Z
LAST-MODIFIED:20250109T204947Z
UID:10000359-1758963000-1758967200@www.shaaraytefila.org
SUMMARY:Torah Study
DESCRIPTION:Torah Study In Person every Saturday \n8:50am Minyan 9am Torah Study \nAnd on Zoom – see our newsletter
URL:https://www.shaaraytefila.org/event/torah-study/2025-09-27/
ATTACH;FMTTYPE=image/jpeg:https://www.shaaraytefila.org/wp-content/uploads/2024/09/torah-scrolls.jpg
LOCATION:https://www.shaaraytefila.org/event/torah-study/2025-09-27/
END:VEVENT
BEGIN:VEVENT
DTSTART;TZID=America/New_York:20250926T190000
DTEND;TZID=America/New_York:20250926T200000
DTSTAMP:20260422T221810
CREATED:20241110T092727Z
LAST-MODIFIED:20241121T203315Z
UID:10000102-1758913200-1758916800@www.shaaraytefila.org
SUMMARY:Shabbat Service & Oneg
DESCRIPTION:
URL:https://www.shaaraytefila.org/event/shabbat-5/2025-09-26/
CATEGORIES:Worship
ATTACH;FMTTYPE=image/jpeg:https://www.shaaraytefila.org/wp-content/uploads/2024/11/challah-cropped.jpg
END:VEVENT
BEGIN:VEVENT
DTSTART;VALUE=DATE:20250924
DTEND;VALUE=DATE:20250925
DTSTAMP:20260422T221810
CREATED:20250908T212100Z
LAST-MODIFIED:20250908T212518Z
UID:10001414-1758672000-1758758399@www.shaaraytefila.org
SUMMARY:Rosh Hashana Day 2
DESCRIPTION:Service\nTashlich\nSpecial Activities\nDrone Photo\nKids Activities\nBagels\nSukkah Building\n\n 
URL:https://www.shaaraytefila.org/event/rosh-hashana-day-2/
ATTACH;FMTTYPE=image/jpeg:https://www.shaaraytefila.org/wp-content/uploads/2025/07/close-up-of-fresh-red-apple-and-wooden-stick-cover-2024-09-19-01-20-26-utc-scaled.jpg
END:VEVENT
BEGIN:VEVENT
DTSTART;TZID=America/New_York:20250923T193000
DTEND;TZID=America/New_York:20250923T203000
DTSTAMP:20260422T221810
CREATED:20250317T182218Z
LAST-MODIFIED:20250317T182219Z
UID:10001028-1758655800-1758659400@www.shaaraytefila.org
SUMMARY:Rabbi Greenberg Forum
DESCRIPTION:*NOTE: New day and time! \nJoin Rabbi Greenberg for his weekly forum on Zoom!
URL:https://www.shaaraytefila.org/event/rabbi-greenberg-forum-8-2-2/2025-09-23/
ATTACH;FMTTYPE=image/jpeg:https://www.shaaraytefila.org/wp-content/uploads/2024/09/Rabbi-David-Greenberg-cropped-e1736453527301.jpg
LOCATION:https://www.shaaraytefila.org/event/rabbi-greenberg-forum-8-2-2/2025-09-23/
END:VEVENT
BEGIN:VEVENT
DTSTART;VALUE=DATE:20250923
DTEND;VALUE=DATE:20250924
DTSTAMP:20260422T221810
CREATED:20250908T211846Z
LAST-MODIFIED:20250908T212642Z
UID:10001413-1758585600-1758671999@www.shaaraytefila.org
SUMMARY:Rosh Hashana Day 1
DESCRIPTION:At Caramoor: \n\nFamily Service\nMain Service\nTeen Service
URL:https://www.shaaraytefila.org/event/rosh-hashana-day-1/
ATTACH;FMTTYPE=image/jpeg:https://www.shaaraytefila.org/wp-content/uploads/2025/06/close-up-of-fresh-red-apple-and-wooden-stick-square.jpg
END:VEVENT
BEGIN:VEVENT
DTSTART;VALUE=DATE:20250922
DTEND;VALUE=DATE:20250923
DTSTAMP:20260422T221810
CREATED:20250908T211729Z
LAST-MODIFIED:20250908T212553Z
UID:10001412-1758499200-1758585599@www.shaaraytefila.org
SUMMARY:Erev Rosh Hashana
DESCRIPTION:Evening Service at Caramoor
URL:https://www.shaaraytefila.org/event/erev-rosh-hashana/
ATTACH;FMTTYPE=image/jpeg:https://www.shaaraytefila.org/wp-content/uploads/2025/07/HHD-AdobeStock_645971203.jpg
END:VEVENT
BEGIN:VEVENT
DTSTART;TZID=America/New_York:20250920T085000
DTEND;TZID=America/New_York:20250920T100000
DTSTAMP:20260422T221810
CREATED:20250109T193216Z
LAST-MODIFIED:20250109T204947Z
UID:10000358-1758358200-1758362400@www.shaaraytefila.org
SUMMARY:Torah Study
DESCRIPTION:Torah Study In Person every Saturday \n8:50am Minyan 9am Torah Study \nAnd on Zoom – see our newsletter
URL:https://www.shaaraytefila.org/event/torah-study/2025-09-20/
ATTACH;FMTTYPE=image/jpeg:https://www.shaaraytefila.org/wp-content/uploads/2024/09/torah-scrolls.jpg
LOCATION:https://www.shaaraytefila.org/event/torah-study/2025-09-20/
END:VEVENT
BEGIN:VEVENT
DTSTART;TZID=America/New_York:20250919T190000
DTEND;TZID=America/New_York:20250919T200000
DTSTAMP:20260422T221810
CREATED:20241110T092727Z
LAST-MODIFIED:20241121T203315Z
UID:10000101-1758308400-1758312000@www.shaaraytefila.org
SUMMARY:Shabbat Service & Oneg
DESCRIPTION:
URL:https://www.shaaraytefila.org/event/shabbat-5/2025-09-19/
CATEGORIES:Worship
ATTACH;FMTTYPE=image/jpeg:https://www.shaaraytefila.org/wp-content/uploads/2024/11/challah-cropped.jpg
END:VEVENT
BEGIN:VEVENT
DTSTART;TZID=America/New_York:20250917T153000
DTEND;TZID=America/New_York:20250917T180000
DTSTAMP:20260422T221810
CREATED:20250708T220906Z
LAST-MODIFIED:20250811T190800Z
UID:10001400-1758123000-1758132000@www.shaaraytefila.org
SUMMARY:Interfaith Food Pantry: Volunteers Needed
DESCRIPTION:The Mount Kisco Interfaith Food Pantry provides a critical service for those who lack the resources to feed themselves or their families. Please join us to to help those in need.
URL:https://www.shaaraytefila.org/event/interfaith-food-pantry-volunteers-needed-2/
CATEGORIES:Community,Social Action
ATTACH;FMTTYPE=image/png:https://www.shaaraytefila.org/wp-content/uploads/2025/07/Interfaith-Food-Pantry-Logo.png
END:VEVENT
BEGIN:VEVENT
DTSTART;TZID=America/New_York:20250916T193000
DTEND;TZID=America/New_York:20250916T203000
DTSTAMP:20260422T221810
CREATED:20250317T182218Z
LAST-MODIFIED:20250317T182219Z
UID:10001027-1758051000-1758054600@www.shaaraytefila.org
SUMMARY:Rabbi Greenberg Forum
DESCRIPTION:*NOTE: New day and time! \nJoin Rabbi Greenberg for his weekly forum on Zoom!
URL:https://www.shaaraytefila.org/event/rabbi-greenberg-forum-8-2-2/2025-09-16/
ATTACH;FMTTYPE=image/jpeg:https://www.shaaraytefila.org/wp-content/uploads/2024/09/Rabbi-David-Greenberg-cropped-e1736453527301.jpg
LOCATION:https://www.shaaraytefila.org/event/rabbi-greenberg-forum-8-2-2/2025-09-16/
END:VEVENT
BEGIN:VEVENT
DTSTART;VALUE=DATE:20250914
DTEND;VALUE=DATE:20250915
DTSTAMP:20260422T221810
CREATED:20250827T183420Z
LAST-MODIFIED:20250827T183606Z
UID:10001410-1757808000-1757894399@www.shaaraytefila.org
SUMMARY:Cafe Shaaray
DESCRIPTION:Turning the Spirit: Preparing for the New Year
URL:https://www.shaaraytefila.org/event/cafe-shaaray/
ATTACH;FMTTYPE=image/png:https://www.shaaraytefila.org/wp-content/uploads/2025/01/CAFE-SHAARAY.png
END:VEVENT
BEGIN:VEVENT
DTSTART;TZID=America/New_York:20250913T085000
DTEND;TZID=America/New_York:20250913T100000
DTSTAMP:20260422T221810
CREATED:20250109T193216Z
LAST-MODIFIED:20250109T204947Z
UID:10000357-1757753400-1757757600@www.shaaraytefila.org
SUMMARY:Torah Study
DESCRIPTION:Torah Study In Person every Saturday \n8:50am Minyan 9am Torah Study \nAnd on Zoom – see our newsletter
URL:https://www.shaaraytefila.org/event/torah-study/2025-09-13/
ATTACH;FMTTYPE=image/jpeg:https://www.shaaraytefila.org/wp-content/uploads/2024/09/torah-scrolls.jpg
LOCATION:https://www.shaaraytefila.org/event/torah-study/2025-09-13/
END:VEVENT
BEGIN:VEVENT
DTSTART;VALUE=DATE:20250913
DTEND;VALUE=DATE:20250914
DTSTAMP:20260422T221810
CREATED:20250827T181634Z
LAST-MODIFIED:20250827T183257Z
UID:10001409-1757721600-1757807999@www.shaaraytefila.org
SUMMARY:Selichot Service
DESCRIPTION:Get prepared for the High Holy Days with Selichot Services.
URL:https://www.shaaraytefila.org/event/selichot-service/
ATTACH;FMTTYPE=image/jpeg:https://www.shaaraytefila.org/wp-content/uploads/2025/07/close-up-of-fresh-red-apple-and-wooden-stick-square.jpg
END:VEVENT
BEGIN:VEVENT
DTSTART;TZID=America/New_York:20250912T190000
DTEND;TZID=America/New_York:20250912T200000
DTSTAMP:20260422T221810
CREATED:20241110T092727Z
LAST-MODIFIED:20241121T203315Z
UID:10000100-1757703600-1757707200@www.shaaraytefila.org
SUMMARY:Shabbat Service & Oneg
DESCRIPTION:
URL:https://www.shaaraytefila.org/event/shabbat-5/2025-09-12/
CATEGORIES:Worship
ATTACH;FMTTYPE=image/jpeg:https://www.shaaraytefila.org/wp-content/uploads/2024/11/challah-cropped.jpg
END:VEVENT
END:VCALENDAR