BEGIN:VCALENDAR
VERSION:2.0
PRODID:-//Temple Shaaray Tefila - ECPv6.15.20//NONSGML v1.0//EN
CALSCALE:GREGORIAN
METHOD:PUBLISH
X-ORIGINAL-URL:https://www.shaaraytefila.org
X-WR-CALDESC:Events for Temple Shaaray Tefila
REFRESH-INTERVAL;VALUE=DURATION:PT1H
X-Robots-Tag:noindex
X-PUBLISHED-TTL:PT1H
BEGIN:VTIMEZONE
TZID:America/New_York
BEGIN:DAYLIGHT
TZOFFSETFROM:-0500
TZOFFSETTO:-0400
TZNAME:EDT
DTSTART:20250309T070000
END:DAYLIGHT
BEGIN:STANDARD
TZOFFSETFROM:-0400
TZOFFSETTO:-0500
TZNAME:EST
DTSTART:20251102T060000
END:STANDARD
BEGIN:DAYLIGHT
TZOFFSETFROM:-0500
TZOFFSETTO:-0400
TZNAME:EDT
DTSTART:20260308T070000
END:DAYLIGHT
BEGIN:STANDARD
TZOFFSETFROM:-0400
TZOFFSETTO:-0500
TZNAME:EST
DTSTART:20261101T060000
END:STANDARD
BEGIN:DAYLIGHT
TZOFFSETFROM:-0500
TZOFFSETTO:-0400
TZNAME:EDT
DTSTART:20270314T070000
END:DAYLIGHT
BEGIN:STANDARD
TZOFFSETFROM:-0400
TZOFFSETTO:-0500
TZNAME:EST
DTSTART:20271107T060000
END:STANDARD
BEGIN:DAYLIGHT
TZOFFSETFROM:-0500
TZOFFSETTO:-0400
TZNAME:EDT
DTSTART:20280312T070000
END:DAYLIGHT
BEGIN:STANDARD
TZOFFSETFROM:-0400
TZOFFSETTO:-0500
TZNAME:EST
DTSTART:20281105T060000
END:STANDARD
BEGIN:DAYLIGHT
TZOFFSETFROM:-0500
TZOFFSETTO:-0400
TZNAME:EDT
DTSTART:20290311T070000
END:DAYLIGHT
BEGIN:STANDARD
TZOFFSETFROM:-0400
TZOFFSETTO:-0500
TZNAME:EST
DTSTART:20291104T060000
END:STANDARD
END:VTIMEZONE
BEGIN:VEVENT
DTSTART;TZID=America/New_York:20260513T000000
DTEND;TZID=America/New_York:20260513T123000
DTSTAMP:20260420T004854
CREATED:20250811T191332Z
LAST-MODIFIED:20250811T191333Z
UID:10001317-1778630400-1778675400@www.shaaraytefila.org
SUMMARY:Shul Stitchers
DESCRIPTION:We are getting together on the second Wednesday of every month at 11:00AM in the JHC.  Please bring your needles and hooks and yarn. \nAs most of you are aware\, our mission/mitzvah is to knit/crochet blankets\, hats and scarves for those in need.  If you have a favorite organization that is in need of our knitted/crocheted items\, please let us know at the meeting.
URL:https://www.shaaraytefila.org/event/shul-stichers-2-2-4/2026-05-13/
ATTACH;FMTTYPE=image/png:https://www.shaaraytefila.org/wp-content/uploads/2025/01/Shul-Stitchers.png
END:VEVENT
BEGIN:VEVENT
DTSTART;TZID=America/New_York:20260610T000000
DTEND;TZID=America/New_York:20260610T123000
DTSTAMP:20260420T004854
CREATED:20250811T191332Z
LAST-MODIFIED:20250811T191333Z
UID:10001318-1781049600-1781094600@www.shaaraytefila.org
SUMMARY:Shul Stitchers
DESCRIPTION:We are getting together on the second Wednesday of every month at 11:00AM in the JHC.  Please bring your needles and hooks and yarn. \nAs most of you are aware\, our mission/mitzvah is to knit/crochet blankets\, hats and scarves for those in need.  If you have a favorite organization that is in need of our knitted/crocheted items\, please let us know at the meeting.
URL:https://www.shaaraytefila.org/event/shul-stichers-2-2-4/2026-06-10/
ATTACH;FMTTYPE=image/png:https://www.shaaraytefila.org/wp-content/uploads/2025/01/Shul-Stitchers.png
END:VEVENT
BEGIN:VEVENT
DTSTART;TZID=America/New_York:20260708T000000
DTEND;TZID=America/New_York:20260708T123000
DTSTAMP:20260420T004854
CREATED:20250811T191332Z
LAST-MODIFIED:20250811T191333Z
UID:10001319-1783468800-1783513800@www.shaaraytefila.org
SUMMARY:Shul Stitchers
DESCRIPTION:We are getting together on the second Wednesday of every month at 11:00AM in the JHC.  Please bring your needles and hooks and yarn. \nAs most of you are aware\, our mission/mitzvah is to knit/crochet blankets\, hats and scarves for those in need.  If you have a favorite organization that is in need of our knitted/crocheted items\, please let us know at the meeting.
URL:https://www.shaaraytefila.org/event/shul-stichers-2-2-4/2026-07-08/
ATTACH;FMTTYPE=image/png:https://www.shaaraytefila.org/wp-content/uploads/2025/01/Shul-Stitchers.png
END:VEVENT
BEGIN:VEVENT
DTSTART;TZID=America/New_York:20260812T000000
DTEND;TZID=America/New_York:20260812T123000
DTSTAMP:20260420T004854
CREATED:20250811T191332Z
LAST-MODIFIED:20250811T191333Z
UID:10001320-1786492800-1786537800@www.shaaraytefila.org
SUMMARY:Shul Stitchers
DESCRIPTION:We are getting together on the second Wednesday of every month at 11:00AM in the JHC.  Please bring your needles and hooks and yarn. \nAs most of you are aware\, our mission/mitzvah is to knit/crochet blankets\, hats and scarves for those in need.  If you have a favorite organization that is in need of our knitted/crocheted items\, please let us know at the meeting.
URL:https://www.shaaraytefila.org/event/shul-stichers-2-2-4/2026-08-12/
ATTACH;FMTTYPE=image/png:https://www.shaaraytefila.org/wp-content/uploads/2025/01/Shul-Stitchers.png
END:VEVENT
BEGIN:VEVENT
DTSTART;TZID=America/New_York:20260909T000000
DTEND;TZID=America/New_York:20260909T123000
DTSTAMP:20260420T004854
CREATED:20250811T191332Z
LAST-MODIFIED:20250811T191333Z
UID:10001321-1788912000-1788957000@www.shaaraytefila.org
SUMMARY:Shul Stitchers
DESCRIPTION:We are getting together on the second Wednesday of every month at 11:00AM in the JHC.  Please bring your needles and hooks and yarn. \nAs most of you are aware\, our mission/mitzvah is to knit/crochet blankets\, hats and scarves for those in need.  If you have a favorite organization that is in need of our knitted/crocheted items\, please let us know at the meeting.
URL:https://www.shaaraytefila.org/event/shul-stichers-2-2-4/2026-09-09/
ATTACH;FMTTYPE=image/png:https://www.shaaraytefila.org/wp-content/uploads/2025/01/Shul-Stitchers.png
END:VEVENT
BEGIN:VEVENT
DTSTART;TZID=America/New_York:20261014T000000
DTEND;TZID=America/New_York:20261014T123000
DTSTAMP:20260420T004854
CREATED:20250811T191332Z
LAST-MODIFIED:20250811T191333Z
UID:10001322-1791936000-1791981000@www.shaaraytefila.org
SUMMARY:Shul Stitchers
DESCRIPTION:We are getting together on the second Wednesday of every month at 11:00AM in the JHC.  Please bring your needles and hooks and yarn. \nAs most of you are aware\, our mission/mitzvah is to knit/crochet blankets\, hats and scarves for those in need.  If you have a favorite organization that is in need of our knitted/crocheted items\, please let us know at the meeting.
URL:https://www.shaaraytefila.org/event/shul-stichers-2-2-4/2026-10-14/
ATTACH;FMTTYPE=image/png:https://www.shaaraytefila.org/wp-content/uploads/2025/01/Shul-Stitchers.png
END:VEVENT
BEGIN:VEVENT
DTSTART;TZID=America/New_York:20261111T000000
DTEND;TZID=America/New_York:20261111T123000
DTSTAMP:20260420T004854
CREATED:20250811T191332Z
LAST-MODIFIED:20250811T191333Z
UID:10001323-1794355200-1794400200@www.shaaraytefila.org
SUMMARY:Shul Stitchers
DESCRIPTION:We are getting together on the second Wednesday of every month at 11:00AM in the JHC.  Please bring your needles and hooks and yarn. \nAs most of you are aware\, our mission/mitzvah is to knit/crochet blankets\, hats and scarves for those in need.  If you have a favorite organization that is in need of our knitted/crocheted items\, please let us know at the meeting.
URL:https://www.shaaraytefila.org/event/shul-stichers-2-2-4/2026-11-11/
ATTACH;FMTTYPE=image/png:https://www.shaaraytefila.org/wp-content/uploads/2025/01/Shul-Stitchers.png
END:VEVENT
BEGIN:VEVENT
DTSTART;TZID=America/New_York:20261209T000000
DTEND;TZID=America/New_York:20261209T123000
DTSTAMP:20260420T004854
CREATED:20250811T191332Z
LAST-MODIFIED:20250811T191333Z
UID:10001324-1796774400-1796819400@www.shaaraytefila.org
SUMMARY:Shul Stitchers
DESCRIPTION:We are getting together on the second Wednesday of every month at 11:00AM in the JHC.  Please bring your needles and hooks and yarn. \nAs most of you are aware\, our mission/mitzvah is to knit/crochet blankets\, hats and scarves for those in need.  If you have a favorite organization that is in need of our knitted/crocheted items\, please let us know at the meeting.
URL:https://www.shaaraytefila.org/event/shul-stichers-2-2-4/2026-12-09/
ATTACH;FMTTYPE=image/png:https://www.shaaraytefila.org/wp-content/uploads/2025/01/Shul-Stitchers.png
END:VEVENT
BEGIN:VEVENT
DTSTART;TZID=America/New_York:20270113T000000
DTEND;TZID=America/New_York:20270113T123000
DTSTAMP:20260420T004854
CREATED:20250811T191332Z
LAST-MODIFIED:20250811T191333Z
UID:10001325-1799798400-1799843400@www.shaaraytefila.org
SUMMARY:Shul Stitchers
DESCRIPTION:We are getting together on the second Wednesday of every month at 11:00AM in the JHC.  Please bring your needles and hooks and yarn. \nAs most of you are aware\, our mission/mitzvah is to knit/crochet blankets\, hats and scarves for those in need.  If you have a favorite organization that is in need of our knitted/crocheted items\, please let us know at the meeting.
URL:https://www.shaaraytefila.org/event/shul-stichers-2-2-4/2027-01-13/
ATTACH;FMTTYPE=image/png:https://www.shaaraytefila.org/wp-content/uploads/2025/01/Shul-Stitchers.png
END:VEVENT
BEGIN:VEVENT
DTSTART;TZID=America/New_York:20270210T000000
DTEND;TZID=America/New_York:20270210T123000
DTSTAMP:20260420T004854
CREATED:20250811T191332Z
LAST-MODIFIED:20250811T191333Z
UID:10001326-1802217600-1802262600@www.shaaraytefila.org
SUMMARY:Shul Stitchers
DESCRIPTION:We are getting together on the second Wednesday of every month at 11:00AM in the JHC.  Please bring your needles and hooks and yarn. \nAs most of you are aware\, our mission/mitzvah is to knit/crochet blankets\, hats and scarves for those in need.  If you have a favorite organization that is in need of our knitted/crocheted items\, please let us know at the meeting.
URL:https://www.shaaraytefila.org/event/shul-stichers-2-2-4/2027-02-10/
ATTACH;FMTTYPE=image/png:https://www.shaaraytefila.org/wp-content/uploads/2025/01/Shul-Stitchers.png
END:VEVENT
BEGIN:VEVENT
DTSTART;TZID=America/New_York:20270310T000000
DTEND;TZID=America/New_York:20270310T123000
DTSTAMP:20260420T004854
CREATED:20250811T191332Z
LAST-MODIFIED:20250811T191333Z
UID:10001327-1804636800-1804681800@www.shaaraytefila.org
SUMMARY:Shul Stitchers
DESCRIPTION:We are getting together on the second Wednesday of every month at 11:00AM in the JHC.  Please bring your needles and hooks and yarn. \nAs most of you are aware\, our mission/mitzvah is to knit/crochet blankets\, hats and scarves for those in need.  If you have a favorite organization that is in need of our knitted/crocheted items\, please let us know at the meeting.
URL:https://www.shaaraytefila.org/event/shul-stichers-2-2-4/2027-03-10/
ATTACH;FMTTYPE=image/png:https://www.shaaraytefila.org/wp-content/uploads/2025/01/Shul-Stitchers.png
END:VEVENT
BEGIN:VEVENT
DTSTART;TZID=America/New_York:20270414T000000
DTEND;TZID=America/New_York:20270414T123000
DTSTAMP:20260420T004854
CREATED:20250811T191332Z
LAST-MODIFIED:20250811T191333Z
UID:10001328-1807660800-1807705800@www.shaaraytefila.org
SUMMARY:Shul Stitchers
DESCRIPTION:We are getting together on the second Wednesday of every month at 11:00AM in the JHC.  Please bring your needles and hooks and yarn. \nAs most of you are aware\, our mission/mitzvah is to knit/crochet blankets\, hats and scarves for those in need.  If you have a favorite organization that is in need of our knitted/crocheted items\, please let us know at the meeting.
URL:https://www.shaaraytefila.org/event/shul-stichers-2-2-4/2027-04-14/
ATTACH;FMTTYPE=image/png:https://www.shaaraytefila.org/wp-content/uploads/2025/01/Shul-Stitchers.png
END:VEVENT
BEGIN:VEVENT
DTSTART;TZID=America/New_York:20270512T000000
DTEND;TZID=America/New_York:20270512T123000
DTSTAMP:20260420T004854
CREATED:20250811T191332Z
LAST-MODIFIED:20250811T191333Z
UID:10001329-1810080000-1810125000@www.shaaraytefila.org
SUMMARY:Shul Stitchers
DESCRIPTION:We are getting together on the second Wednesday of every month at 11:00AM in the JHC.  Please bring your needles and hooks and yarn. \nAs most of you are aware\, our mission/mitzvah is to knit/crochet blankets\, hats and scarves for those in need.  If you have a favorite organization that is in need of our knitted/crocheted items\, please let us know at the meeting.
URL:https://www.shaaraytefila.org/event/shul-stichers-2-2-4/2027-05-12/
ATTACH;FMTTYPE=image/png:https://www.shaaraytefila.org/wp-content/uploads/2025/01/Shul-Stitchers.png
END:VEVENT
BEGIN:VEVENT
DTSTART;TZID=America/New_York:20270609T000000
DTEND;TZID=America/New_York:20270609T123000
DTSTAMP:20260420T004854
CREATED:20250811T191332Z
LAST-MODIFIED:20250811T191333Z
UID:10001330-1812499200-1812544200@www.shaaraytefila.org
SUMMARY:Shul Stitchers
DESCRIPTION:We are getting together on the second Wednesday of every month at 11:00AM in the JHC.  Please bring your needles and hooks and yarn. \nAs most of you are aware\, our mission/mitzvah is to knit/crochet blankets\, hats and scarves for those in need.  If you have a favorite organization that is in need of our knitted/crocheted items\, please let us know at the meeting.
URL:https://www.shaaraytefila.org/event/shul-stichers-2-2-4/2027-06-09/
ATTACH;FMTTYPE=image/png:https://www.shaaraytefila.org/wp-content/uploads/2025/01/Shul-Stitchers.png
END:VEVENT
BEGIN:VEVENT
DTSTART;TZID=America/New_York:20270714T000000
DTEND;TZID=America/New_York:20270714T123000
DTSTAMP:20260420T004854
CREATED:20250811T191332Z
LAST-MODIFIED:20250811T191333Z
UID:10001331-1815523200-1815568200@www.shaaraytefila.org
SUMMARY:Shul Stitchers
DESCRIPTION:We are getting together on the second Wednesday of every month at 11:00AM in the JHC.  Please bring your needles and hooks and yarn. \nAs most of you are aware\, our mission/mitzvah is to knit/crochet blankets\, hats and scarves for those in need.  If you have a favorite organization that is in need of our knitted/crocheted items\, please let us know at the meeting.
URL:https://www.shaaraytefila.org/event/shul-stichers-2-2-4/2027-07-14/
ATTACH;FMTTYPE=image/png:https://www.shaaraytefila.org/wp-content/uploads/2025/01/Shul-Stitchers.png
END:VEVENT
BEGIN:VEVENT
DTSTART;TZID=America/New_York:20270811T000000
DTEND;TZID=America/New_York:20270811T123000
DTSTAMP:20260420T004854
CREATED:20250811T191332Z
LAST-MODIFIED:20250811T191333Z
UID:10001332-1817942400-1817987400@www.shaaraytefila.org
SUMMARY:Shul Stitchers
DESCRIPTION:We are getting together on the second Wednesday of every month at 11:00AM in the JHC.  Please bring your needles and hooks and yarn. \nAs most of you are aware\, our mission/mitzvah is to knit/crochet blankets\, hats and scarves for those in need.  If you have a favorite organization that is in need of our knitted/crocheted items\, please let us know at the meeting.
URL:https://www.shaaraytefila.org/event/shul-stichers-2-2-4/2027-08-11/
ATTACH;FMTTYPE=image/png:https://www.shaaraytefila.org/wp-content/uploads/2025/01/Shul-Stitchers.png
END:VEVENT
BEGIN:VEVENT
DTSTART;TZID=America/New_York:20270908T000000
DTEND;TZID=America/New_York:20270908T123000
DTSTAMP:20260420T004854
CREATED:20250811T191332Z
LAST-MODIFIED:20250811T191333Z
UID:10001333-1820361600-1820406600@www.shaaraytefila.org
SUMMARY:Shul Stitchers
DESCRIPTION:We are getting together on the second Wednesday of every month at 11:00AM in the JHC.  Please bring your needles and hooks and yarn. \nAs most of you are aware\, our mission/mitzvah is to knit/crochet blankets\, hats and scarves for those in need.  If you have a favorite organization that is in need of our knitted/crocheted items\, please let us know at the meeting.
URL:https://www.shaaraytefila.org/event/shul-stichers-2-2-4/2027-09-08/
ATTACH;FMTTYPE=image/png:https://www.shaaraytefila.org/wp-content/uploads/2025/01/Shul-Stitchers.png
END:VEVENT
BEGIN:VEVENT
DTSTART;TZID=America/New_York:20271013T000000
DTEND;TZID=America/New_York:20271013T123000
DTSTAMP:20260420T004854
CREATED:20250811T191332Z
LAST-MODIFIED:20250811T191333Z
UID:10001334-1823385600-1823430600@www.shaaraytefila.org
SUMMARY:Shul Stitchers
DESCRIPTION:We are getting together on the second Wednesday of every month at 11:00AM in the JHC.  Please bring your needles and hooks and yarn. \nAs most of you are aware\, our mission/mitzvah is to knit/crochet blankets\, hats and scarves for those in need.  If you have a favorite organization that is in need of our knitted/crocheted items\, please let us know at the meeting.
URL:https://www.shaaraytefila.org/event/shul-stichers-2-2-4/2027-10-13/
ATTACH;FMTTYPE=image/png:https://www.shaaraytefila.org/wp-content/uploads/2025/01/Shul-Stitchers.png
END:VEVENT
BEGIN:VEVENT
DTSTART;TZID=America/New_York:20271110T000000
DTEND;TZID=America/New_York:20271110T123000
DTSTAMP:20260420T004854
CREATED:20250811T191332Z
LAST-MODIFIED:20250811T191333Z
UID:10001335-1825804800-1825849800@www.shaaraytefila.org
SUMMARY:Shul Stitchers
DESCRIPTION:We are getting together on the second Wednesday of every month at 11:00AM in the JHC.  Please bring your needles and hooks and yarn. \nAs most of you are aware\, our mission/mitzvah is to knit/crochet blankets\, hats and scarves for those in need.  If you have a favorite organization that is in need of our knitted/crocheted items\, please let us know at the meeting.
URL:https://www.shaaraytefila.org/event/shul-stichers-2-2-4/2027-11-10/
ATTACH;FMTTYPE=image/png:https://www.shaaraytefila.org/wp-content/uploads/2025/01/Shul-Stitchers.png
END:VEVENT
BEGIN:VEVENT
DTSTART;TZID=America/New_York:20271208T000000
DTEND;TZID=America/New_York:20271208T123000
DTSTAMP:20260420T004854
CREATED:20250811T191332Z
LAST-MODIFIED:20250811T191333Z
UID:10001336-1828224000-1828269000@www.shaaraytefila.org
SUMMARY:Shul Stitchers
DESCRIPTION:We are getting together on the second Wednesday of every month at 11:00AM in the JHC.  Please bring your needles and hooks and yarn. \nAs most of you are aware\, our mission/mitzvah is to knit/crochet blankets\, hats and scarves for those in need.  If you have a favorite organization that is in need of our knitted/crocheted items\, please let us know at the meeting.
URL:https://www.shaaraytefila.org/event/shul-stichers-2-2-4/2027-12-08/
ATTACH;FMTTYPE=image/png:https://www.shaaraytefila.org/wp-content/uploads/2025/01/Shul-Stitchers.png
END:VEVENT
BEGIN:VEVENT
DTSTART;TZID=America/New_York:20280112T000000
DTEND;TZID=America/New_York:20280112T123000
DTSTAMP:20260420T004854
CREATED:20250811T191332Z
LAST-MODIFIED:20250811T191333Z
UID:10001337-1831248000-1831293000@www.shaaraytefila.org
SUMMARY:Shul Stitchers
DESCRIPTION:We are getting together on the second Wednesday of every month at 11:00AM in the JHC.  Please bring your needles and hooks and yarn. \nAs most of you are aware\, our mission/mitzvah is to knit/crochet blankets\, hats and scarves for those in need.  If you have a favorite organization that is in need of our knitted/crocheted items\, please let us know at the meeting.
URL:https://www.shaaraytefila.org/event/shul-stichers-2-2-4/2028-01-12/
ATTACH;FMTTYPE=image/png:https://www.shaaraytefila.org/wp-content/uploads/2025/01/Shul-Stitchers.png
END:VEVENT
BEGIN:VEVENT
DTSTART;TZID=America/New_York:20280209T000000
DTEND;TZID=America/New_York:20280209T123000
DTSTAMP:20260420T004854
CREATED:20250811T191332Z
LAST-MODIFIED:20250811T191333Z
UID:10001338-1833667200-1833712200@www.shaaraytefila.org
SUMMARY:Shul Stitchers
DESCRIPTION:We are getting together on the second Wednesday of every month at 11:00AM in the JHC.  Please bring your needles and hooks and yarn. \nAs most of you are aware\, our mission/mitzvah is to knit/crochet blankets\, hats and scarves for those in need.  If you have a favorite organization that is in need of our knitted/crocheted items\, please let us know at the meeting.
URL:https://www.shaaraytefila.org/event/shul-stichers-2-2-4/2028-02-09/
ATTACH;FMTTYPE=image/png:https://www.shaaraytefila.org/wp-content/uploads/2025/01/Shul-Stitchers.png
END:VEVENT
BEGIN:VEVENT
DTSTART;TZID=America/New_York:20280308T000000
DTEND;TZID=America/New_York:20280308T123000
DTSTAMP:20260420T004854
CREATED:20250811T191332Z
LAST-MODIFIED:20250811T191333Z
UID:10001339-1836086400-1836131400@www.shaaraytefila.org
SUMMARY:Shul Stitchers
DESCRIPTION:We are getting together on the second Wednesday of every month at 11:00AM in the JHC.  Please bring your needles and hooks and yarn. \nAs most of you are aware\, our mission/mitzvah is to knit/crochet blankets\, hats and scarves for those in need.  If you have a favorite organization that is in need of our knitted/crocheted items\, please let us know at the meeting.
URL:https://www.shaaraytefila.org/event/shul-stichers-2-2-4/2028-03-08/
ATTACH;FMTTYPE=image/png:https://www.shaaraytefila.org/wp-content/uploads/2025/01/Shul-Stitchers.png
END:VEVENT
BEGIN:VEVENT
DTSTART;TZID=America/New_York:20280412T000000
DTEND;TZID=America/New_York:20280412T123000
DTSTAMP:20260420T004854
CREATED:20250811T191332Z
LAST-MODIFIED:20250811T191333Z
UID:10001340-1839110400-1839155400@www.shaaraytefila.org
SUMMARY:Shul Stitchers
DESCRIPTION:We are getting together on the second Wednesday of every month at 11:00AM in the JHC.  Please bring your needles and hooks and yarn. \nAs most of you are aware\, our mission/mitzvah is to knit/crochet blankets\, hats and scarves for those in need.  If you have a favorite organization that is in need of our knitted/crocheted items\, please let us know at the meeting.
URL:https://www.shaaraytefila.org/event/shul-stichers-2-2-4/2028-04-12/
ATTACH;FMTTYPE=image/png:https://www.shaaraytefila.org/wp-content/uploads/2025/01/Shul-Stitchers.png
END:VEVENT
BEGIN:VEVENT
DTSTART;TZID=America/New_York:20280510T000000
DTEND;TZID=America/New_York:20280510T123000
DTSTAMP:20260420T004854
CREATED:20250811T191332Z
LAST-MODIFIED:20250811T191333Z
UID:10001341-1841529600-1841574600@www.shaaraytefila.org
SUMMARY:Shul Stitchers
DESCRIPTION:We are getting together on the second Wednesday of every month at 11:00AM in the JHC.  Please bring your needles and hooks and yarn. \nAs most of you are aware\, our mission/mitzvah is to knit/crochet blankets\, hats and scarves for those in need.  If you have a favorite organization that is in need of our knitted/crocheted items\, please let us know at the meeting.
URL:https://www.shaaraytefila.org/event/shul-stichers-2-2-4/2028-05-10/
ATTACH;FMTTYPE=image/png:https://www.shaaraytefila.org/wp-content/uploads/2025/01/Shul-Stitchers.png
END:VEVENT
BEGIN:VEVENT
DTSTART;TZID=America/New_York:20280614T000000
DTEND;TZID=America/New_York:20280614T123000
DTSTAMP:20260420T004854
CREATED:20250811T191332Z
LAST-MODIFIED:20250811T191333Z
UID:10001342-1844553600-1844598600@www.shaaraytefila.org
SUMMARY:Shul Stitchers
DESCRIPTION:We are getting together on the second Wednesday of every month at 11:00AM in the JHC.  Please bring your needles and hooks and yarn. \nAs most of you are aware\, our mission/mitzvah is to knit/crochet blankets\, hats and scarves for those in need.  If you have a favorite organization that is in need of our knitted/crocheted items\, please let us know at the meeting.
URL:https://www.shaaraytefila.org/event/shul-stichers-2-2-4/2028-06-14/
ATTACH;FMTTYPE=image/png:https://www.shaaraytefila.org/wp-content/uploads/2025/01/Shul-Stitchers.png
END:VEVENT
BEGIN:VEVENT
DTSTART;TZID=America/New_York:20280712T000000
DTEND;TZID=America/New_York:20280712T123000
DTSTAMP:20260420T004854
CREATED:20250811T191332Z
LAST-MODIFIED:20250811T191333Z
UID:10001343-1846972800-1847017800@www.shaaraytefila.org
SUMMARY:Shul Stitchers
DESCRIPTION:We are getting together on the second Wednesday of every month at 11:00AM in the JHC.  Please bring your needles and hooks and yarn. \nAs most of you are aware\, our mission/mitzvah is to knit/crochet blankets\, hats and scarves for those in need.  If you have a favorite organization that is in need of our knitted/crocheted items\, please let us know at the meeting.
URL:https://www.shaaraytefila.org/event/shul-stichers-2-2-4/2028-07-12/
ATTACH;FMTTYPE=image/png:https://www.shaaraytefila.org/wp-content/uploads/2025/01/Shul-Stitchers.png
END:VEVENT
BEGIN:VEVENT
DTSTART;TZID=America/New_York:20280809T000000
DTEND;TZID=America/New_York:20280809T123000
DTSTAMP:20260420T004854
CREATED:20250811T191332Z
LAST-MODIFIED:20250811T191333Z
UID:10001344-1849392000-1849437000@www.shaaraytefila.org
SUMMARY:Shul Stitchers
DESCRIPTION:We are getting together on the second Wednesday of every month at 11:00AM in the JHC.  Please bring your needles and hooks and yarn. \nAs most of you are aware\, our mission/mitzvah is to knit/crochet blankets\, hats and scarves for those in need.  If you have a favorite organization that is in need of our knitted/crocheted items\, please let us know at the meeting.
URL:https://www.shaaraytefila.org/event/shul-stichers-2-2-4/2028-08-09/
ATTACH;FMTTYPE=image/png:https://www.shaaraytefila.org/wp-content/uploads/2025/01/Shul-Stitchers.png
END:VEVENT
BEGIN:VEVENT
DTSTART;TZID=America/New_York:20280913T000000
DTEND;TZID=America/New_York:20280913T123000
DTSTAMP:20260420T004854
CREATED:20250811T191332Z
LAST-MODIFIED:20250811T191333Z
UID:10001345-1852416000-1852461000@www.shaaraytefila.org
SUMMARY:Shul Stitchers
DESCRIPTION:We are getting together on the second Wednesday of every month at 11:00AM in the JHC.  Please bring your needles and hooks and yarn. \nAs most of you are aware\, our mission/mitzvah is to knit/crochet blankets\, hats and scarves for those in need.  If you have a favorite organization that is in need of our knitted/crocheted items\, please let us know at the meeting.
URL:https://www.shaaraytefila.org/event/shul-stichers-2-2-4/2028-09-13/
ATTACH;FMTTYPE=image/png:https://www.shaaraytefila.org/wp-content/uploads/2025/01/Shul-Stitchers.png
END:VEVENT
BEGIN:VEVENT
DTSTART;TZID=America/New_York:20281011T000000
DTEND;TZID=America/New_York:20281011T123000
DTSTAMP:20260420T004854
CREATED:20250811T191332Z
LAST-MODIFIED:20250811T191333Z
UID:10001346-1854835200-1854880200@www.shaaraytefila.org
SUMMARY:Shul Stitchers
DESCRIPTION:We are getting together on the second Wednesday of every month at 11:00AM in the JHC.  Please bring your needles and hooks and yarn. \nAs most of you are aware\, our mission/mitzvah is to knit/crochet blankets\, hats and scarves for those in need.  If you have a favorite organization that is in need of our knitted/crocheted items\, please let us know at the meeting.
URL:https://www.shaaraytefila.org/event/shul-stichers-2-2-4/2028-10-11/
ATTACH;FMTTYPE=image/png:https://www.shaaraytefila.org/wp-content/uploads/2025/01/Shul-Stitchers.png
END:VEVENT
END:VCALENDAR