BEGIN:VCALENDAR
VERSION:2.0
PRODID:-//Temple Shaaray Tefila - ECPv6.15.20//NONSGML v1.0//EN
CALSCALE:GREGORIAN
METHOD:PUBLISH
X-ORIGINAL-URL:https://www.shaaraytefila.org
X-WR-CALDESC:Events for Temple Shaaray Tefila
REFRESH-INTERVAL;VALUE=DURATION:PT1H
X-Robots-Tag:noindex
X-PUBLISHED-TTL:PT1H
BEGIN:VTIMEZONE
TZID:America/New_York
BEGIN:DAYLIGHT
TZOFFSETFROM:-0500
TZOFFSETTO:-0400
TZNAME:EDT
DTSTART:20250309T070000
END:DAYLIGHT
BEGIN:STANDARD
TZOFFSETFROM:-0400
TZOFFSETTO:-0500
TZNAME:EST
DTSTART:20251102T060000
END:STANDARD
BEGIN:DAYLIGHT
TZOFFSETFROM:-0500
TZOFFSETTO:-0400
TZNAME:EDT
DTSTART:20260308T070000
END:DAYLIGHT
BEGIN:STANDARD
TZOFFSETFROM:-0400
TZOFFSETTO:-0500
TZNAME:EST
DTSTART:20261101T060000
END:STANDARD
BEGIN:DAYLIGHT
TZOFFSETFROM:-0500
TZOFFSETTO:-0400
TZNAME:EDT
DTSTART:20270314T070000
END:DAYLIGHT
BEGIN:STANDARD
TZOFFSETFROM:-0400
TZOFFSETTO:-0500
TZNAME:EST
DTSTART:20271107T060000
END:STANDARD
END:VTIMEZONE
BEGIN:VEVENT
DTSTART;TZID=America/New_York:20260703T190000
DTEND;TZID=America/New_York:20260703T200000
DTSTAMP:20260422T074405
CREATED:20241110T092727Z
LAST-MODIFIED:20241121T203315Z
UID:10000142-1783105200-1783108800@www.shaaraytefila.org
SUMMARY:Shabbat Service & Oneg
DESCRIPTION:
URL:https://www.shaaraytefila.org/event/shabbat-5/2026-07-03/
CATEGORIES:Worship
ATTACH;FMTTYPE=image/jpeg:https://www.shaaraytefila.org/wp-content/uploads/2024/11/challah-cropped.jpg
END:VEVENT
BEGIN:VEVENT
DTSTART;TZID=America/New_York:20260704T085000
DTEND;TZID=America/New_York:20260704T100000
DTSTAMP:20260422T074405
CREATED:20250109T193216Z
LAST-MODIFIED:20250109T204947Z
UID:10000399-1783155000-1783159200@www.shaaraytefila.org
SUMMARY:Torah Study
DESCRIPTION:Torah Study In Person every Saturday \n8:50am Minyan 9am Torah Study \nAnd on Zoom – see our newsletter
URL:https://www.shaaraytefila.org/event/torah-study/2026-07-04/
ATTACH;FMTTYPE=image/jpeg:https://www.shaaraytefila.org/wp-content/uploads/2024/09/torah-scrolls.jpg
LOCATION:https://www.shaaraytefila.org/event/torah-study/2026-07-04/
END:VEVENT
BEGIN:VEVENT
DTSTART;TZID=America/New_York:20260708T000000
DTEND;TZID=America/New_York:20260708T123000
DTSTAMP:20260422T074405
CREATED:20250811T191332Z
LAST-MODIFIED:20250811T191333Z
UID:10001319-1783468800-1783513800@www.shaaraytefila.org
SUMMARY:Shul Stitchers
DESCRIPTION:We are getting together on the second Wednesday of every month at 11:00AM in the JHC.  Please bring your needles and hooks and yarn. \nAs most of you are aware\, our mission/mitzvah is to knit/crochet blankets\, hats and scarves for those in need.  If you have a favorite organization that is in need of our knitted/crocheted items\, please let us know at the meeting.
URL:https://www.shaaraytefila.org/event/shul-stichers-2-2-4/2026-07-08/
ATTACH;FMTTYPE=image/png:https://www.shaaraytefila.org/wp-content/uploads/2025/01/Shul-Stitchers.png
END:VEVENT
BEGIN:VEVENT
DTSTART;TZID=America/New_York:20260710T190000
DTEND;TZID=America/New_York:20260710T200000
DTSTAMP:20260422T074405
CREATED:20241110T092727Z
LAST-MODIFIED:20241121T203315Z
UID:10000143-1783710000-1783713600@www.shaaraytefila.org
SUMMARY:Shabbat Service & Oneg
DESCRIPTION:
URL:https://www.shaaraytefila.org/event/shabbat-5/2026-07-10/
CATEGORIES:Worship
ATTACH;FMTTYPE=image/jpeg:https://www.shaaraytefila.org/wp-content/uploads/2024/11/challah-cropped.jpg
END:VEVENT
BEGIN:VEVENT
DTSTART;TZID=America/New_York:20260711T085000
DTEND;TZID=America/New_York:20260711T100000
DTSTAMP:20260422T074405
CREATED:20250109T193216Z
LAST-MODIFIED:20250109T204947Z
UID:10000400-1783759800-1783764000@www.shaaraytefila.org
SUMMARY:Torah Study
DESCRIPTION:Torah Study In Person every Saturday \n8:50am Minyan 9am Torah Study \nAnd on Zoom – see our newsletter
URL:https://www.shaaraytefila.org/event/torah-study/2026-07-11/
ATTACH;FMTTYPE=image/jpeg:https://www.shaaraytefila.org/wp-content/uploads/2024/09/torah-scrolls.jpg
LOCATION:https://www.shaaraytefila.org/event/torah-study/2026-07-11/
END:VEVENT
BEGIN:VEVENT
DTSTART;TZID=America/New_York:20260717T190000
DTEND;TZID=America/New_York:20260717T200000
DTSTAMP:20260422T074405
CREATED:20241110T092727Z
LAST-MODIFIED:20241121T203315Z
UID:10000144-1784314800-1784318400@www.shaaraytefila.org
SUMMARY:Shabbat Service & Oneg
DESCRIPTION:
URL:https://www.shaaraytefila.org/event/shabbat-5/2026-07-17/
CATEGORIES:Worship
ATTACH;FMTTYPE=image/jpeg:https://www.shaaraytefila.org/wp-content/uploads/2024/11/challah-cropped.jpg
END:VEVENT
BEGIN:VEVENT
DTSTART;TZID=America/New_York:20260718T085000
DTEND;TZID=America/New_York:20260718T100000
DTSTAMP:20260422T074405
CREATED:20250109T193216Z
LAST-MODIFIED:20250109T204947Z
UID:10000401-1784364600-1784368800@www.shaaraytefila.org
SUMMARY:Torah Study
DESCRIPTION:Torah Study In Person every Saturday \n8:50am Minyan 9am Torah Study \nAnd on Zoom – see our newsletter
URL:https://www.shaaraytefila.org/event/torah-study/2026-07-18/
ATTACH;FMTTYPE=image/jpeg:https://www.shaaraytefila.org/wp-content/uploads/2024/09/torah-scrolls.jpg
LOCATION:https://www.shaaraytefila.org/event/torah-study/2026-07-18/
END:VEVENT
BEGIN:VEVENT
DTSTART;TZID=America/New_York:20260724T190000
DTEND;TZID=America/New_York:20260724T200000
DTSTAMP:20260422T074405
CREATED:20241110T092727Z
LAST-MODIFIED:20241121T203315Z
UID:10000145-1784919600-1784923200@www.shaaraytefila.org
SUMMARY:Shabbat Service & Oneg
DESCRIPTION:
URL:https://www.shaaraytefila.org/event/shabbat-5/2026-07-24/
CATEGORIES:Worship
ATTACH;FMTTYPE=image/jpeg:https://www.shaaraytefila.org/wp-content/uploads/2024/11/challah-cropped.jpg
END:VEVENT
BEGIN:VEVENT
DTSTART;TZID=America/New_York:20260725T085000
DTEND;TZID=America/New_York:20260725T100000
DTSTAMP:20260422T074405
CREATED:20250109T193216Z
LAST-MODIFIED:20250109T204947Z
UID:10000402-1784969400-1784973600@www.shaaraytefila.org
SUMMARY:Torah Study
DESCRIPTION:Torah Study In Person every Saturday \n8:50am Minyan 9am Torah Study \nAnd on Zoom – see our newsletter
URL:https://www.shaaraytefila.org/event/torah-study/2026-07-25/
ATTACH;FMTTYPE=image/jpeg:https://www.shaaraytefila.org/wp-content/uploads/2024/09/torah-scrolls.jpg
LOCATION:https://www.shaaraytefila.org/event/torah-study/2026-07-25/
END:VEVENT
BEGIN:VEVENT
DTSTART;TZID=America/New_York:20260731T190000
DTEND;TZID=America/New_York:20260731T200000
DTSTAMP:20260422T074405
CREATED:20241110T092727Z
LAST-MODIFIED:20241121T203315Z
UID:10000146-1785524400-1785528000@www.shaaraytefila.org
SUMMARY:Shabbat Service & Oneg
DESCRIPTION:
URL:https://www.shaaraytefila.org/event/shabbat-5/2026-07-31/
CATEGORIES:Worship
ATTACH;FMTTYPE=image/jpeg:https://www.shaaraytefila.org/wp-content/uploads/2024/11/challah-cropped.jpg
END:VEVENT
END:VCALENDAR