BEGIN:VCALENDAR
VERSION:2.0
PRODID:-//Temple Shaaray Tefila - ECPv6.15.20//NONSGML v1.0//EN
CALSCALE:GREGORIAN
METHOD:PUBLISH
X-WR-CALNAME:Temple Shaaray Tefila
X-ORIGINAL-URL:https://www.shaaraytefila.org
X-WR-CALDESC:Events for Temple Shaaray Tefila
REFRESH-INTERVAL;VALUE=DURATION:PT1H
X-Robots-Tag:noindex
X-PUBLISHED-TTL:PT1H
BEGIN:VTIMEZONE
TZID:America/New_York
BEGIN:DAYLIGHT
TZOFFSETFROM:-0500
TZOFFSETTO:-0400
TZNAME:EDT
DTSTART:20260308T070000
END:DAYLIGHT
BEGIN:STANDARD
TZOFFSETFROM:-0400
TZOFFSETTO:-0500
TZNAME:EST
DTSTART:20261101T060000
END:STANDARD
BEGIN:DAYLIGHT
TZOFFSETFROM:-0500
TZOFFSETTO:-0400
TZNAME:EDT
DTSTART:20270314T070000
END:DAYLIGHT
BEGIN:STANDARD
TZOFFSETFROM:-0400
TZOFFSETTO:-0500
TZNAME:EST
DTSTART:20271107T060000
END:STANDARD
BEGIN:DAYLIGHT
TZOFFSETFROM:-0500
TZOFFSETTO:-0400
TZNAME:EDT
DTSTART:20280312T070000
END:DAYLIGHT
BEGIN:STANDARD
TZOFFSETFROM:-0400
TZOFFSETTO:-0500
TZNAME:EST
DTSTART:20281105T060000
END:STANDARD
END:VTIMEZONE
BEGIN:VEVENT
DTSTART;TZID=America/New_York:20270626T085000
DTEND;TZID=America/New_York:20270626T100000
DTSTAMP:20260423T074946
CREATED:20250109T193216Z
LAST-MODIFIED:20250109T204947Z
UID:10000450-1813999800-1814004000@www.shaaraytefila.org
SUMMARY:Torah Study
DESCRIPTION:Torah Study In Person every Saturday \n8:50am Minyan 9am Torah Study \nAnd on Zoom – see our newsletter
URL:https://www.shaaraytefila.org/event/torah-study/2027-06-26/
ATTACH;FMTTYPE=image/jpeg:https://www.shaaraytefila.org/wp-content/uploads/2024/09/torah-scrolls.jpg
LOCATION:https://www.shaaraytefila.org/event/torah-study/2027-06-26/
END:VEVENT
BEGIN:VEVENT
DTSTART;TZID=America/New_York:20270702T190000
DTEND;TZID=America/New_York:20270702T200000
DTSTAMP:20260423T074946
CREATED:20241110T092727Z
LAST-MODIFIED:20241121T203315Z
UID:10000194-1814554800-1814558400@www.shaaraytefila.org
SUMMARY:Shabbat Service & Oneg
DESCRIPTION:
URL:https://www.shaaraytefila.org/event/shabbat-5/2027-07-02/
CATEGORIES:Worship
ATTACH;FMTTYPE=image/jpeg:https://www.shaaraytefila.org/wp-content/uploads/2024/11/challah-cropped.jpg
END:VEVENT
BEGIN:VEVENT
DTSTART;TZID=America/New_York:20270703T085000
DTEND;TZID=America/New_York:20270703T100000
DTSTAMP:20260423T074946
CREATED:20250109T193216Z
LAST-MODIFIED:20250109T204947Z
UID:10000451-1814604600-1814608800@www.shaaraytefila.org
SUMMARY:Torah Study
DESCRIPTION:Torah Study In Person every Saturday \n8:50am Minyan 9am Torah Study \nAnd on Zoom – see our newsletter
URL:https://www.shaaraytefila.org/event/torah-study/2027-07-03/
ATTACH;FMTTYPE=image/jpeg:https://www.shaaraytefila.org/wp-content/uploads/2024/09/torah-scrolls.jpg
LOCATION:https://www.shaaraytefila.org/event/torah-study/2027-07-03/
END:VEVENT
BEGIN:VEVENT
DTSTART;TZID=America/New_York:20270709T190000
DTEND;TZID=America/New_York:20270709T200000
DTSTAMP:20260423T074946
CREATED:20241110T092727Z
LAST-MODIFIED:20241121T203315Z
UID:10000195-1815159600-1815163200@www.shaaraytefila.org
SUMMARY:Shabbat Service & Oneg
DESCRIPTION:
URL:https://www.shaaraytefila.org/event/shabbat-5/2027-07-09/
CATEGORIES:Worship
ATTACH;FMTTYPE=image/jpeg:https://www.shaaraytefila.org/wp-content/uploads/2024/11/challah-cropped.jpg
END:VEVENT
BEGIN:VEVENT
DTSTART;TZID=America/New_York:20270710T085000
DTEND;TZID=America/New_York:20270710T100000
DTSTAMP:20260423T074946
CREATED:20250109T193216Z
LAST-MODIFIED:20250109T204947Z
UID:10000452-1815209400-1815213600@www.shaaraytefila.org
SUMMARY:Torah Study
DESCRIPTION:Torah Study In Person every Saturday \n8:50am Minyan 9am Torah Study \nAnd on Zoom – see our newsletter
URL:https://www.shaaraytefila.org/event/torah-study/2027-07-10/
ATTACH;FMTTYPE=image/jpeg:https://www.shaaraytefila.org/wp-content/uploads/2024/09/torah-scrolls.jpg
LOCATION:https://www.shaaraytefila.org/event/torah-study/2027-07-10/
END:VEVENT
BEGIN:VEVENT
DTSTART;TZID=America/New_York:20270714T000000
DTEND;TZID=America/New_York:20270714T123000
DTSTAMP:20260423T074946
CREATED:20250811T191332Z
LAST-MODIFIED:20250811T191333Z
UID:10001331-1815523200-1815568200@www.shaaraytefila.org
SUMMARY:Shul Stitchers
DESCRIPTION:We are getting together on the second Wednesday of every month at 11:00AM in the JHC.  Please bring your needles and hooks and yarn. \nAs most of you are aware\, our mission/mitzvah is to knit/crochet blankets\, hats and scarves for those in need.  If you have a favorite organization that is in need of our knitted/crocheted items\, please let us know at the meeting.
URL:https://www.shaaraytefila.org/event/shul-stichers-2-2-4/2027-07-14/
ATTACH;FMTTYPE=image/png:https://www.shaaraytefila.org/wp-content/uploads/2025/01/Shul-Stitchers.png
END:VEVENT
BEGIN:VEVENT
DTSTART;TZID=America/New_York:20270716T190000
DTEND;TZID=America/New_York:20270716T200000
DTSTAMP:20260423T074946
CREATED:20241110T092727Z
LAST-MODIFIED:20241121T203315Z
UID:10000196-1815764400-1815768000@www.shaaraytefila.org
SUMMARY:Shabbat Service & Oneg
DESCRIPTION:
URL:https://www.shaaraytefila.org/event/shabbat-5/2027-07-16/
CATEGORIES:Worship
ATTACH;FMTTYPE=image/jpeg:https://www.shaaraytefila.org/wp-content/uploads/2024/11/challah-cropped.jpg
END:VEVENT
BEGIN:VEVENT
DTSTART;TZID=America/New_York:20270717T085000
DTEND;TZID=America/New_York:20270717T100000
DTSTAMP:20260423T074946
CREATED:20250109T193216Z
LAST-MODIFIED:20250109T204947Z
UID:10000453-1815814200-1815818400@www.shaaraytefila.org
SUMMARY:Torah Study
DESCRIPTION:Torah Study In Person every Saturday \n8:50am Minyan 9am Torah Study \nAnd on Zoom – see our newsletter
URL:https://www.shaaraytefila.org/event/torah-study/2027-07-17/
ATTACH;FMTTYPE=image/jpeg:https://www.shaaraytefila.org/wp-content/uploads/2024/09/torah-scrolls.jpg
LOCATION:https://www.shaaraytefila.org/event/torah-study/2027-07-17/
END:VEVENT
BEGIN:VEVENT
DTSTART;TZID=America/New_York:20270723T190000
DTEND;TZID=America/New_York:20270723T200000
DTSTAMP:20260423T074946
CREATED:20241110T092727Z
LAST-MODIFIED:20241121T203315Z
UID:10000197-1816369200-1816372800@www.shaaraytefila.org
SUMMARY:Shabbat Service & Oneg
DESCRIPTION:
URL:https://www.shaaraytefila.org/event/shabbat-5/2027-07-23/
CATEGORIES:Worship
ATTACH;FMTTYPE=image/jpeg:https://www.shaaraytefila.org/wp-content/uploads/2024/11/challah-cropped.jpg
END:VEVENT
BEGIN:VEVENT
DTSTART;TZID=America/New_York:20270724T085000
DTEND;TZID=America/New_York:20270724T100000
DTSTAMP:20260423T074946
CREATED:20250109T193216Z
LAST-MODIFIED:20250109T204947Z
UID:10000454-1816419000-1816423200@www.shaaraytefila.org
SUMMARY:Torah Study
DESCRIPTION:Torah Study In Person every Saturday \n8:50am Minyan 9am Torah Study \nAnd on Zoom – see our newsletter
URL:https://www.shaaraytefila.org/event/torah-study/2027-07-24/
ATTACH;FMTTYPE=image/jpeg:https://www.shaaraytefila.org/wp-content/uploads/2024/09/torah-scrolls.jpg
LOCATION:https://www.shaaraytefila.org/event/torah-study/2027-07-24/
END:VEVENT
BEGIN:VEVENT
DTSTART;TZID=America/New_York:20270730T190000
DTEND;TZID=America/New_York:20270730T200000
DTSTAMP:20260423T074946
CREATED:20241110T092727Z
LAST-MODIFIED:20241121T203315Z
UID:10000198-1816974000-1816977600@www.shaaraytefila.org
SUMMARY:Shabbat Service & Oneg
DESCRIPTION:
URL:https://www.shaaraytefila.org/event/shabbat-5/2027-07-30/
CATEGORIES:Worship
ATTACH;FMTTYPE=image/jpeg:https://www.shaaraytefila.org/wp-content/uploads/2024/11/challah-cropped.jpg
END:VEVENT
BEGIN:VEVENT
DTSTART;TZID=America/New_York:20270731T085000
DTEND;TZID=America/New_York:20270731T100000
DTSTAMP:20260423T074946
CREATED:20250109T193216Z
LAST-MODIFIED:20250109T204947Z
UID:10000455-1817023800-1817028000@www.shaaraytefila.org
SUMMARY:Torah Study
DESCRIPTION:Torah Study In Person every Saturday \n8:50am Minyan 9am Torah Study \nAnd on Zoom – see our newsletter
URL:https://www.shaaraytefila.org/event/torah-study/2027-07-31/
ATTACH;FMTTYPE=image/jpeg:https://www.shaaraytefila.org/wp-content/uploads/2024/09/torah-scrolls.jpg
LOCATION:https://www.shaaraytefila.org/event/torah-study/2027-07-31/
END:VEVENT
BEGIN:VEVENT
DTSTART;TZID=America/New_York:20270806T190000
DTEND;TZID=America/New_York:20270806T200000
DTSTAMP:20260423T074946
CREATED:20241110T092727Z
LAST-MODIFIED:20241121T203315Z
UID:10000199-1817578800-1817582400@www.shaaraytefila.org
SUMMARY:Shabbat Service & Oneg
DESCRIPTION:
URL:https://www.shaaraytefila.org/event/shabbat-5/2027-08-06/
CATEGORIES:Worship
ATTACH;FMTTYPE=image/jpeg:https://www.shaaraytefila.org/wp-content/uploads/2024/11/challah-cropped.jpg
END:VEVENT
BEGIN:VEVENT
DTSTART;TZID=America/New_York:20270807T085000
DTEND;TZID=America/New_York:20270807T100000
DTSTAMP:20260423T074946
CREATED:20250109T193216Z
LAST-MODIFIED:20250109T204947Z
UID:10000456-1817628600-1817632800@www.shaaraytefila.org
SUMMARY:Torah Study
DESCRIPTION:Torah Study In Person every Saturday \n8:50am Minyan 9am Torah Study \nAnd on Zoom – see our newsletter
URL:https://www.shaaraytefila.org/event/torah-study/2027-08-07/
ATTACH;FMTTYPE=image/jpeg:https://www.shaaraytefila.org/wp-content/uploads/2024/09/torah-scrolls.jpg
LOCATION:https://www.shaaraytefila.org/event/torah-study/2027-08-07/
END:VEVENT
BEGIN:VEVENT
DTSTART;TZID=America/New_York:20270811T000000
DTEND;TZID=America/New_York:20270811T123000
DTSTAMP:20260423T074946
CREATED:20250811T191332Z
LAST-MODIFIED:20250811T191333Z
UID:10001332-1817942400-1817987400@www.shaaraytefila.org
SUMMARY:Shul Stitchers
DESCRIPTION:We are getting together on the second Wednesday of every month at 11:00AM in the JHC.  Please bring your needles and hooks and yarn. \nAs most of you are aware\, our mission/mitzvah is to knit/crochet blankets\, hats and scarves for those in need.  If you have a favorite organization that is in need of our knitted/crocheted items\, please let us know at the meeting.
URL:https://www.shaaraytefila.org/event/shul-stichers-2-2-4/2027-08-11/
ATTACH;FMTTYPE=image/png:https://www.shaaraytefila.org/wp-content/uploads/2025/01/Shul-Stitchers.png
END:VEVENT
BEGIN:VEVENT
DTSTART;TZID=America/New_York:20270813T190000
DTEND;TZID=America/New_York:20270813T200000
DTSTAMP:20260423T074946
CREATED:20241110T092727Z
LAST-MODIFIED:20241121T203315Z
UID:10000200-1818183600-1818187200@www.shaaraytefila.org
SUMMARY:Shabbat Service & Oneg
DESCRIPTION:
URL:https://www.shaaraytefila.org/event/shabbat-5/2027-08-13/
CATEGORIES:Worship
ATTACH;FMTTYPE=image/jpeg:https://www.shaaraytefila.org/wp-content/uploads/2024/11/challah-cropped.jpg
END:VEVENT
BEGIN:VEVENT
DTSTART;TZID=America/New_York:20270814T085000
DTEND;TZID=America/New_York:20270814T100000
DTSTAMP:20260423T074946
CREATED:20250109T193216Z
LAST-MODIFIED:20250109T204947Z
UID:10000457-1818233400-1818237600@www.shaaraytefila.org
SUMMARY:Torah Study
DESCRIPTION:Torah Study In Person every Saturday \n8:50am Minyan 9am Torah Study \nAnd on Zoom – see our newsletter
URL:https://www.shaaraytefila.org/event/torah-study/2027-08-14/
ATTACH;FMTTYPE=image/jpeg:https://www.shaaraytefila.org/wp-content/uploads/2024/09/torah-scrolls.jpg
LOCATION:https://www.shaaraytefila.org/event/torah-study/2027-08-14/
END:VEVENT
BEGIN:VEVENT
DTSTART;TZID=America/New_York:20270820T190000
DTEND;TZID=America/New_York:20270820T200000
DTSTAMP:20260423T074946
CREATED:20241110T092727Z
LAST-MODIFIED:20241121T203315Z
UID:10000201-1818788400-1818792000@www.shaaraytefila.org
SUMMARY:Shabbat Service & Oneg
DESCRIPTION:
URL:https://www.shaaraytefila.org/event/shabbat-5/2027-08-20/
CATEGORIES:Worship
ATTACH;FMTTYPE=image/jpeg:https://www.shaaraytefila.org/wp-content/uploads/2024/11/challah-cropped.jpg
END:VEVENT
BEGIN:VEVENT
DTSTART;TZID=America/New_York:20270821T085000
DTEND;TZID=America/New_York:20270821T100000
DTSTAMP:20260423T074946
CREATED:20250109T193216Z
LAST-MODIFIED:20250109T204947Z
UID:10000458-1818838200-1818842400@www.shaaraytefila.org
SUMMARY:Torah Study
DESCRIPTION:Torah Study In Person every Saturday \n8:50am Minyan 9am Torah Study \nAnd on Zoom – see our newsletter
URL:https://www.shaaraytefila.org/event/torah-study/2027-08-21/
ATTACH;FMTTYPE=image/jpeg:https://www.shaaraytefila.org/wp-content/uploads/2024/09/torah-scrolls.jpg
LOCATION:https://www.shaaraytefila.org/event/torah-study/2027-08-21/
END:VEVENT
BEGIN:VEVENT
DTSTART;TZID=America/New_York:20270827T190000
DTEND;TZID=America/New_York:20270827T200000
DTSTAMP:20260423T074946
CREATED:20241110T092727Z
LAST-MODIFIED:20241121T203315Z
UID:10000202-1819393200-1819396800@www.shaaraytefila.org
SUMMARY:Shabbat Service & Oneg
DESCRIPTION:
URL:https://www.shaaraytefila.org/event/shabbat-5/2027-08-27/
CATEGORIES:Worship
ATTACH;FMTTYPE=image/jpeg:https://www.shaaraytefila.org/wp-content/uploads/2024/11/challah-cropped.jpg
END:VEVENT
BEGIN:VEVENT
DTSTART;TZID=America/New_York:20270828T085000
DTEND;TZID=America/New_York:20270828T100000
DTSTAMP:20260423T074946
CREATED:20250109T193216Z
LAST-MODIFIED:20250109T204947Z
UID:10000459-1819443000-1819447200@www.shaaraytefila.org
SUMMARY:Torah Study
DESCRIPTION:Torah Study In Person every Saturday \n8:50am Minyan 9am Torah Study \nAnd on Zoom – see our newsletter
URL:https://www.shaaraytefila.org/event/torah-study/2027-08-28/
ATTACH;FMTTYPE=image/jpeg:https://www.shaaraytefila.org/wp-content/uploads/2024/09/torah-scrolls.jpg
LOCATION:https://www.shaaraytefila.org/event/torah-study/2027-08-28/
END:VEVENT
BEGIN:VEVENT
DTSTART;TZID=America/New_York:20270903T190000
DTEND;TZID=America/New_York:20270903T200000
DTSTAMP:20260423T074946
CREATED:20241110T092727Z
LAST-MODIFIED:20241121T203315Z
UID:10000203-1819998000-1820001600@www.shaaraytefila.org
SUMMARY:Shabbat Service & Oneg
DESCRIPTION:
URL:https://www.shaaraytefila.org/event/shabbat-5/2027-09-03/
CATEGORIES:Worship
ATTACH;FMTTYPE=image/jpeg:https://www.shaaraytefila.org/wp-content/uploads/2024/11/challah-cropped.jpg
END:VEVENT
BEGIN:VEVENT
DTSTART;TZID=America/New_York:20270904T085000
DTEND;TZID=America/New_York:20270904T100000
DTSTAMP:20260423T074946
CREATED:20250109T193216Z
LAST-MODIFIED:20250109T204947Z
UID:10000460-1820047800-1820052000@www.shaaraytefila.org
SUMMARY:Torah Study
DESCRIPTION:Torah Study In Person every Saturday \n8:50am Minyan 9am Torah Study \nAnd on Zoom – see our newsletter
URL:https://www.shaaraytefila.org/event/torah-study/2027-09-04/
ATTACH;FMTTYPE=image/jpeg:https://www.shaaraytefila.org/wp-content/uploads/2024/09/torah-scrolls.jpg
LOCATION:https://www.shaaraytefila.org/event/torah-study/2027-09-04/
END:VEVENT
BEGIN:VEVENT
DTSTART;TZID=America/New_York:20270908T000000
DTEND;TZID=America/New_York:20270908T123000
DTSTAMP:20260423T074946
CREATED:20250811T191332Z
LAST-MODIFIED:20250811T191333Z
UID:10001333-1820361600-1820406600@www.shaaraytefila.org
SUMMARY:Shul Stitchers
DESCRIPTION:We are getting together on the second Wednesday of every month at 11:00AM in the JHC.  Please bring your needles and hooks and yarn. \nAs most of you are aware\, our mission/mitzvah is to knit/crochet blankets\, hats and scarves for those in need.  If you have a favorite organization that is in need of our knitted/crocheted items\, please let us know at the meeting.
URL:https://www.shaaraytefila.org/event/shul-stichers-2-2-4/2027-09-08/
ATTACH;FMTTYPE=image/png:https://www.shaaraytefila.org/wp-content/uploads/2025/01/Shul-Stitchers.png
END:VEVENT
BEGIN:VEVENT
DTSTART;TZID=America/New_York:20270910T190000
DTEND;TZID=America/New_York:20270910T200000
DTSTAMP:20260423T074946
CREATED:20241110T092727Z
LAST-MODIFIED:20241121T203315Z
UID:10000204-1820602800-1820606400@www.shaaraytefila.org
SUMMARY:Shabbat Service & Oneg
DESCRIPTION:
URL:https://www.shaaraytefila.org/event/shabbat-5/2027-09-10/
CATEGORIES:Worship
ATTACH;FMTTYPE=image/jpeg:https://www.shaaraytefila.org/wp-content/uploads/2024/11/challah-cropped.jpg
END:VEVENT
BEGIN:VEVENT
DTSTART;TZID=America/New_York:20270911T085000
DTEND;TZID=America/New_York:20270911T100000
DTSTAMP:20260423T074946
CREATED:20250109T193216Z
LAST-MODIFIED:20250109T204947Z
UID:10000461-1820652600-1820656800@www.shaaraytefila.org
SUMMARY:Torah Study
DESCRIPTION:Torah Study In Person every Saturday \n8:50am Minyan 9am Torah Study \nAnd on Zoom – see our newsletter
URL:https://www.shaaraytefila.org/event/torah-study/2027-09-11/
ATTACH;FMTTYPE=image/jpeg:https://www.shaaraytefila.org/wp-content/uploads/2024/09/torah-scrolls.jpg
LOCATION:https://www.shaaraytefila.org/event/torah-study/2027-09-11/
END:VEVENT
BEGIN:VEVENT
DTSTART;TZID=America/New_York:20270917T190000
DTEND;TZID=America/New_York:20270917T200000
DTSTAMP:20260423T074946
CREATED:20241110T092727Z
LAST-MODIFIED:20241121T203315Z
UID:10000205-1821207600-1821211200@www.shaaraytefila.org
SUMMARY:Shabbat Service & Oneg
DESCRIPTION:
URL:https://www.shaaraytefila.org/event/shabbat-5/2027-09-17/
CATEGORIES:Worship
ATTACH;FMTTYPE=image/jpeg:https://www.shaaraytefila.org/wp-content/uploads/2024/11/challah-cropped.jpg
END:VEVENT
BEGIN:VEVENT
DTSTART;TZID=America/New_York:20270918T085000
DTEND;TZID=America/New_York:20270918T100000
DTSTAMP:20260423T074946
CREATED:20250109T193216Z
LAST-MODIFIED:20250109T204947Z
UID:10000462-1821257400-1821261600@www.shaaraytefila.org
SUMMARY:Torah Study
DESCRIPTION:Torah Study In Person every Saturday \n8:50am Minyan 9am Torah Study \nAnd on Zoom – see our newsletter
URL:https://www.shaaraytefila.org/event/torah-study/2027-09-18/
ATTACH;FMTTYPE=image/jpeg:https://www.shaaraytefila.org/wp-content/uploads/2024/09/torah-scrolls.jpg
LOCATION:https://www.shaaraytefila.org/event/torah-study/2027-09-18/
END:VEVENT
BEGIN:VEVENT
DTSTART;TZID=America/New_York:20270924T190000
DTEND;TZID=America/New_York:20270924T200000
DTSTAMP:20260423T074946
CREATED:20241110T092727Z
LAST-MODIFIED:20241121T203315Z
UID:10000206-1821812400-1821816000@www.shaaraytefila.org
SUMMARY:Shabbat Service & Oneg
DESCRIPTION:
URL:https://www.shaaraytefila.org/event/shabbat-5/2027-09-24/
CATEGORIES:Worship
ATTACH;FMTTYPE=image/jpeg:https://www.shaaraytefila.org/wp-content/uploads/2024/11/challah-cropped.jpg
END:VEVENT
BEGIN:VEVENT
DTSTART;TZID=America/New_York:20270925T085000
DTEND;TZID=America/New_York:20270925T100000
DTSTAMP:20260423T074946
CREATED:20250109T193216Z
LAST-MODIFIED:20250109T204947Z
UID:10000463-1821862200-1821866400@www.shaaraytefila.org
SUMMARY:Torah Study
DESCRIPTION:Torah Study In Person every Saturday \n8:50am Minyan 9am Torah Study \nAnd on Zoom – see our newsletter
URL:https://www.shaaraytefila.org/event/torah-study/2027-09-25/
ATTACH;FMTTYPE=image/jpeg:https://www.shaaraytefila.org/wp-content/uploads/2024/09/torah-scrolls.jpg
LOCATION:https://www.shaaraytefila.org/event/torah-study/2027-09-25/
END:VEVENT
END:VCALENDAR