BEGIN:VCALENDAR
VERSION:2.0
PRODID:-//Temple Shaaray Tefila - ECPv6.15.20//NONSGML v1.0//EN
CALSCALE:GREGORIAN
METHOD:PUBLISH
X-ORIGINAL-URL:https://www.shaaraytefila.org
X-WR-CALDESC:Events for Temple Shaaray Tefila
REFRESH-INTERVAL;VALUE=DURATION:PT1H
X-Robots-Tag:noindex
X-PUBLISHED-TTL:PT1H
BEGIN:VTIMEZONE
TZID:America/New_York
BEGIN:DAYLIGHT
TZOFFSETFROM:-0500
TZOFFSETTO:-0400
TZNAME:EDT
DTSTART:20250309T070000
END:DAYLIGHT
BEGIN:STANDARD
TZOFFSETFROM:-0400
TZOFFSETTO:-0500
TZNAME:EST
DTSTART:20251102T060000
END:STANDARD
BEGIN:DAYLIGHT
TZOFFSETFROM:-0500
TZOFFSETTO:-0400
TZNAME:EDT
DTSTART:20260308T070000
END:DAYLIGHT
BEGIN:STANDARD
TZOFFSETFROM:-0400
TZOFFSETTO:-0500
TZNAME:EST
DTSTART:20261101T060000
END:STANDARD
BEGIN:DAYLIGHT
TZOFFSETFROM:-0500
TZOFFSETTO:-0400
TZNAME:EDT
DTSTART:20270314T070000
END:DAYLIGHT
BEGIN:STANDARD
TZOFFSETFROM:-0400
TZOFFSETTO:-0500
TZNAME:EST
DTSTART:20271107T060000
END:STANDARD
END:VTIMEZONE
BEGIN:VEVENT
DTSTART;VALUE=DATE:20260504
DTEND;VALUE=DATE:20260505
DTSTAMP:20260422T075058
CREATED:20260416T142359Z
LAST-MODIFIED:20260416T142359Z
UID:10001548-1777852800-1777939199@www.shaaraytefila.org
SUMMARY:Lunch & Learn
DESCRIPTION:[vc_row][vc_column][vc_column_text css=””]Monday\, May 4th \nStreaming Israel: A Side of Israel that Must Be Seen and Heard! \nIsrael produces a wide variety of high quality movies and videos. While many people are familiar with Shtisel and Fauda\, streaming services such as Chai Flicks and Izzy\, present a spectrum of creative\, echnanting\, fun\, disturbing\, and engaging productions — from The Beauty Queen of Jerusalem to A Body that Works — that merit our interest and support. In “Streaming Israel: A Side of Israel that Must Be Seen and Heard!” Rabbi Ross will present\, review\, and discuss clips from his favorite shows.[/vc_column_text][/vc_column][/vc_row]
URL:https://www.shaaraytefila.org/event/lunch-learn-3/
ATTACH;FMTTYPE=image/jpeg:https://www.shaaraytefila.org/wp-content/uploads/2024/06/Rabbi-Dennis-Ross-photo-1-scaled.jpg
END:VEVENT
BEGIN:VEVENT
DTSTART;VALUE=DATE:20260606
DTEND;VALUE=DATE:20260607
DTSTAMP:20260422T075058
CREATED:20251114T180641Z
LAST-MODIFIED:20260224T193902Z
UID:10001513-1780704000-1780790399@www.shaaraytefila.org
SUMMARY:50th Anniversary Jew-Bilee Celebration
DESCRIPTION:Join us as we celebrate the culmination of our 50th anniversary! We’ll mark this milestone with delicious food\, lively music\, dancing\, and the wonderful company of friends and family.
URL:https://www.shaaraytefila.org/event/50th-anniversary-jew-bilee-celebration/
ATTACH;FMTTYPE=image/jpeg:https://www.shaaraytefila.org/wp-content/uploads/2025/11/1-Shaaray-Tefila-50th-Anniversary-Drone-Shot-scaled.jpg
END:VEVENT
END:VCALENDAR