BEGIN:VCALENDAR
VERSION:2.0
PRODID:-//Temple Shaaray Tefila - ECPv6.15.20//NONSGML v1.0//EN
CALSCALE:GREGORIAN
METHOD:PUBLISH
X-WR-CALNAME:Temple Shaaray Tefila
X-ORIGINAL-URL:https://www.shaaraytefila.org
X-WR-CALDESC:Events for Temple Shaaray Tefila
REFRESH-INTERVAL;VALUE=DURATION:PT1H
X-Robots-Tag:noindex
X-PUBLISHED-TTL:PT1H
BEGIN:VTIMEZONE
TZID:America/New_York
BEGIN:DAYLIGHT
TZOFFSETFROM:-0500
TZOFFSETTO:-0400
TZNAME:EDT
DTSTART:20230312T070000
END:DAYLIGHT
BEGIN:STANDARD
TZOFFSETFROM:-0400
TZOFFSETTO:-0500
TZNAME:EST
DTSTART:20231105T060000
END:STANDARD
BEGIN:DAYLIGHT
TZOFFSETFROM:-0500
TZOFFSETTO:-0400
TZNAME:EDT
DTSTART:20240310T070000
END:DAYLIGHT
BEGIN:STANDARD
TZOFFSETFROM:-0400
TZOFFSETTO:-0500
TZNAME:EST
DTSTART:20241103T060000
END:STANDARD
BEGIN:DAYLIGHT
TZOFFSETFROM:-0500
TZOFFSETTO:-0400
TZNAME:EDT
DTSTART:20250309T070000
END:DAYLIGHT
BEGIN:STANDARD
TZOFFSETFROM:-0400
TZOFFSETTO:-0500
TZNAME:EST
DTSTART:20251102T060000
END:STANDARD
BEGIN:DAYLIGHT
TZOFFSETFROM:-0500
TZOFFSETTO:-0400
TZNAME:EDT
DTSTART:20260308T070000
END:DAYLIGHT
BEGIN:STANDARD
TZOFFSETFROM:-0400
TZOFFSETTO:-0500
TZNAME:EST
DTSTART:20261101T060000
END:STANDARD
END:VTIMEZONE
BEGIN:VEVENT
DTSTART;TZID=America/New_York:20250211T170000
DTEND;TZID=America/New_York:20250211T190000
DTSTAMP:20260422T122300
CREATED:20250113T201730Z
LAST-MODIFIED:20250115T171110Z
UID:10000851-1739293200-1739300400@www.shaaraytefila.org
SUMMARY:Interfaith Pantry Distribution #1
DESCRIPTION:Join us for an interfaith event at the Mount Kisco Interfaith Pantry on February 11th\, from 5pm-7pm. Together with the members of the Bedford Presbyterian Church\, congregants will distribute groceries to neighbors in need from the Mount Kisco facility. \nFor more information\, contact socialaction@templest.org. Volunteers are needed and you must sign up in advance. \nCLICK HERE TO SIGN UP VIA THE SIGN-UP GENIUS
URL:https://www.shaaraytefila.org/event/interfaith-pantry-distribution-1/
LOCATION:Mount Kisco Interfaith Food Pantry\, 300 Main St\, Mt Kisco\, NY\, 10549
CATEGORIES:Social Action
ATTACH;FMTTYPE=image/webp:https://www.shaaraytefila.org/wp-content/uploads/2025/01/pexels-photo-7879985.webp
END:VEVENT
BEGIN:VEVENT
DTSTART;TZID=America/New_York:20250203T190000
DTEND;TZID=America/New_York:20250203T203000
DTSTAMP:20260422T122300
CREATED:20250123T172922Z
LAST-MODIFIED:20250124T205432Z
UID:10000863-1738609200-1738614600@www.shaaraytefila.org
SUMMARY:Special Event: A Talk with Nova Music Festival Survivor Rom El-Hai
DESCRIPTION:Join us on Monday\, February 3rd\, at 7:00 PM in the sanctuary for an unforgettable evening with Rom El-Hai\, a survivor of the Nova Music Festival. Rom will share their powerful story and experiences\, offering unique insights and lessons of resilience and hope. \nThis talk is designed for audiences 7th grade and up\, with sensitivity to the age range present. Parents are invited and encouraged to attend\, along with other members of the community. \nSign up here to reserve your spot. \nDon’t miss this meaningful opportunity to hear firsthand from someone who has lived through extraordinary events. \nWe look forward to seeing you there. \nThis event generously underwritten by the Lionel & Sidel Weinstein Fund.
URL:https://www.shaaraytefila.org/event/special-event-a-talk-with-nova-music-festival-survivor-rom-el-hai/
CATEGORIES:Learning
END:VEVENT
BEGIN:VEVENT
DTSTART;VALUE=DATE:20250113
DTEND;VALUE=DATE:20250114
DTSTAMP:20260422T122300
CREATED:20240924T053157Z
LAST-MODIFIED:20250113T173546Z
UID:10000011-1736726400-1736812799@www.shaaraytefila.org
SUMMARY:Pajama Project
DESCRIPTION:Beginning January 13\, 2025 \nIN WESTCHESTER COUNTY\, 22% OF CHILDREN AND YOUTH (AGES 0-24) ARE CONSIDERED POOR OR LOW INCOME. \nDuring the cold winter months\, many children go to sleep without the comfort of warm pajamas. \nTo meet this critical need\, join the Early Childhood Center in a temple wide Pajama Drive to benefit 914Cares and the Community Center of Northern Westchester. \nMore information about how to become a 914Cares Champion
URL:https://www.shaaraytefila.org/event/pajama-project/
LOCATION:Religious School Building
CATEGORIES:Social Action
ATTACH;FMTTYPE=image/webp:https://www.shaaraytefila.org/wp-content/uploads/2024/09/pajama-project.webp
END:VEVENT
BEGIN:VEVENT
DTSTART;VALUE=DATE:20250110
DTEND;VALUE=DATE:20250114
DTSTAMP:20260422T122300
CREATED:20241114T153859Z
LAST-MODIFIED:20241209T022628Z
UID:10000057-1736467200-1736812799@www.shaaraytefila.org
SUMMARY:RAC Trip (Grades 10-12)
DESCRIPTION:Are you ready to change the world? Now is the time!  \nRegister for the Teen Center’s trip to Washington\, D.C. to attend the Religious Action Center’s (RAC) L’Taken Social Justice Seminar! On this three-day program\, you will have the opportunity to discover your power to be an effective advocate\, delve deep into current social justice topics you’re passionate about\, lobby decision-makers on Capitol Hill\, and meet Jewish high schoolers from across the country!  \nTo learn more\, check out the RAC’s website. If interested\, reach out to Lauren Hollander for more information.   \nNote: all enrolled members of the Teen Center enjoy a REDUCED rate. \nRegister here
URL:https://www.shaaraytefila.org/event/rac-trip-grades-10-12/
CATEGORIES:Social Action
ATTACH;FMTTYPE=image/jpeg:https://www.shaaraytefila.org/wp-content/uploads/2024/11/pexels-photo-129112.jpeg
END:VEVENT
BEGIN:VEVENT
DTSTART;TZID=America/New_York:20241215T160000
DTEND;TZID=America/New_York:20241215T183000
DTSTAMP:20260422T122300
CREATED:20241028T214822Z
LAST-MODIFIED:20241125T153842Z
UID:10000031-1734278400-1734287400@www.shaaraytefila.org
SUMMARY:Night of Light
DESCRIPTION:Sunday\, December 15th 4-6:30pm \nPlease join us for our annual special Hanukah celebration! We light up the night\, sing Hanukah songs\, light candles\, crafts\, face painters\, food and drink. RSVP HERE. \nWant to help? Click HERE
URL:https://www.shaaraytefila.org/event/night-of-light/
LOCATION:Temple Social Hall
CATEGORIES:Community
ATTACH;FMTTYPE=image/png:https://www.shaaraytefila.org/wp-content/uploads/2024/10/NEXT-1.png
END:VEVENT
BEGIN:VEVENT
DTSTART;TZID=America/New_York:20241203T180000
DTEND;TZID=America/New_York:20241203T210000
DTSTAMP:20260422T122300
CREATED:20241120T193816Z
LAST-MODIFIED:20241125T154738Z
UID:10000059-1733248800-1733259600@www.shaaraytefila.org
SUMMARY:Margaritas & Menorahs
DESCRIPTION:Join us for an evening of cocktails\, creativity\, and fun! Create a beautiful keepsake glass menorah for your family’s Hanukkah celebrations\, or perhaps a gift for someone special. We look forward to being together for an evening of Margaritas and Menorahs! (The event includes all congregants 14+). More info and register HERE.
URL:https://www.shaaraytefila.org/event/margaritas-menorahs/
LOCATION:The Pottery Factory\, Mount Kisco
CATEGORIES:Community
ATTACH;FMTTYPE=image/png:https://www.shaaraytefila.org/wp-content/uploads/2024/11/Menorahs-and-Margaritas-200-x-250-px-1.png
END:VEVENT
BEGIN:VEVENT
DTSTART;TZID=America/New_York:20241202T190000
DTEND;TZID=America/New_York:20241202T190000
DTSTAMP:20260422T122301
CREATED:20241113T132247Z
LAST-MODIFIED:20241121T191832Z
UID:10000056-1733166000-1733166000@www.shaaraytefila.org
SUMMARY:Sisterhood Stretch & Balance Event
DESCRIPTION:*The Art of Relaxation and Mitzvot*\n Stretched & Balance Class JHC Monday Dec 2 @ 7pm\nCLICK FOR FLYER \nRSVP HERE \nIn this well-balanced class\, dynamic movement\, balance work and traditional stretches will increase your flexibilty and mobility\, improve recovery time and reduce muscle stiffness and soreness. \nInstructor\, Kathy Margiasso specializes in assisted stretch\, mobility and anti-aging. \nShe is an instructor at Lifetime Fitness in Chappaqua.
URL:https://www.shaaraytefila.org/event/sisterhood-stretch-balance-event/
CATEGORIES:Community
ATTACH;FMTTYPE=image/png:https://www.shaaraytefila.org/wp-content/uploads/2024/11/Screenshot-2024-11-04-at-5.15.20-PM.png
END:VEVENT
BEGIN:VEVENT
DTSTART;VALUE=DATE:20241202
DTEND;VALUE=DATE:20241203
DTSTAMP:20260422T122301
CREATED:20240924T053003Z
LAST-MODIFIED:20241202T053736Z
UID:10000010-1733097600-1733183999@www.shaaraytefila.org
SUMMARY:Holiday Toy Drive
DESCRIPTION:Beginning December 2\, 2024 \nLocation: Religious School Building \nHelp us support immigrant families this holiday season. Together with our Early Childhood Center\, we are collecting new\, unwrapped gifts for children ages 0-12\, and $25 gift cards for teenagers ages 13-18. Gifts will be distributed at Neighbors Link during the Mercado de las Fiestas (Holiday Market) in both the Mount Kisco and Ossining Centers. \nMore Information to Follow
URL:https://www.shaaraytefila.org/event/holiday-toy-drive/
LOCATION:Religious School Building
ATTACH;FMTTYPE=image/webp:https://www.shaaraytefila.org/wp-content/uploads/2024/09/christmas-xmas-gifts-presents.webp
END:VEVENT
BEGIN:VEVENT
DTSTART;VALUE=DATE:20241123
DTEND;VALUE=DATE:20241124
DTSTAMP:20260422T122301
CREATED:20240924T051943Z
LAST-MODIFIED:20241113T133039Z
UID:10000009-1732320000-1732406399@www.shaaraytefila.org
SUMMARY:Thanksgiving Meals
DESCRIPTION:Meal Prep Beginning November 23\, 2024 \nLocation: Temple Social Hall \nWe’re Getting Ready for THANKSGIVING 2024! \nEach year our community provides meals to over 4\,000 people in Westchester\, Fairfield and the Bronx. During the week of Thanksgiving\, hundreds of local volunteers shop\, cook (both collectively & individually)\, prepare food and Thanksgiving cards\, and financially support our program. \nIf you are interested in learning how to get more involved\, email Gary Cohn by clicking the link below. \nZoom meetings to follow. \nEmail Gary Cohn for More Information Here \nClick here to make a MONETARY donation via Shul Cloud (Under Payment Type\, select Thanksgiving Donation from the drop down menu)
URL:https://www.shaaraytefila.org/event/thanksgiving-meals/
LOCATION:Temple Social Hall
CATEGORIES:Social Action
ATTACH;FMTTYPE=image/png:https://www.shaaraytefila.org/wp-content/uploads/2024/09/thanksgiving-meal-Prep-for-our-neighbors-in-need.png
END:VEVENT
BEGIN:VEVENT
DTSTART;TZID=America/New_York:20241122T190000
DTEND;TZID=America/New_York:20241122T200000
DTSTAMP:20260422T122301
CREATED:20241110T092557Z
LAST-MODIFIED:20241113T132702Z
UID:10000036-1732302000-1732305600@www.shaaraytefila.org
SUMMARY:Shabbat with David Harris
DESCRIPTION:At Friday Night services on November 22nd\, we will welcome former congregant David Harris as a speaker. Mr. Harris led the American Jewish Committee for 32 years. President Shimon Peres recognized him as the “foreign minister of the Jewish people.” He has been honored more than twenty times by foreign governments for his international work\, making him the most decorated American Jewish organizational leader in U.S. history. Please join us for his unique perspective on the state of affairs in Israel\, the US and the World. More info HERE. This is a free event but please RSVP HERE.
URL:https://www.shaaraytefila.org/event/shabbat-with-david-harris/
CATEGORIES:Worship
ATTACH;FMTTYPE=image/png:https://www.shaaraytefila.org/wp-content/uploads/2024/10/Screenshot-2024-10-16-at-5.41.44-PM.png
END:VEVENT
END:VCALENDAR