BEGIN:VCALENDAR
VERSION:2.0
PRODID:-//Temple Shaaray Tefila - ECPv6.15.20//NONSGML v1.0//EN
CALSCALE:GREGORIAN
METHOD:PUBLISH
X-ORIGINAL-URL:https://www.shaaraytefila.org
X-WR-CALDESC:Events for Temple Shaaray Tefila
REFRESH-INTERVAL;VALUE=DURATION:PT1H
X-Robots-Tag:noindex
X-PUBLISHED-TTL:PT1H
BEGIN:VTIMEZONE
TZID:America/New_York
BEGIN:DAYLIGHT
TZOFFSETFROM:-0500
TZOFFSETTO:-0400
TZNAME:EDT
DTSTART:20240310T070000
END:DAYLIGHT
BEGIN:STANDARD
TZOFFSETFROM:-0400
TZOFFSETTO:-0500
TZNAME:EST
DTSTART:20241103T060000
END:STANDARD
BEGIN:DAYLIGHT
TZOFFSETFROM:-0500
TZOFFSETTO:-0400
TZNAME:EDT
DTSTART:20250309T070000
END:DAYLIGHT
BEGIN:STANDARD
TZOFFSETFROM:-0400
TZOFFSETTO:-0500
TZNAME:EST
DTSTART:20251102T060000
END:STANDARD
BEGIN:DAYLIGHT
TZOFFSETFROM:-0500
TZOFFSETTO:-0400
TZNAME:EDT
DTSTART:20260308T070000
END:DAYLIGHT
BEGIN:STANDARD
TZOFFSETFROM:-0400
TZOFFSETTO:-0500
TZNAME:EST
DTSTART:20261101T060000
END:STANDARD
BEGIN:DAYLIGHT
TZOFFSETFROM:-0500
TZOFFSETTO:-0400
TZNAME:EDT
DTSTART:20270314T070000
END:DAYLIGHT
BEGIN:STANDARD
TZOFFSETFROM:-0400
TZOFFSETTO:-0500
TZNAME:EST
DTSTART:20271107T060000
END:STANDARD
END:VTIMEZONE
BEGIN:VEVENT
DTSTART;TZID=America/New_York:20260417T190000
DTEND;TZID=America/New_York:20260417T200000
DTSTAMP:20260423T094837
CREATED:20241110T092727Z
LAST-MODIFIED:20241121T203315Z
UID:10000131-1776452400-1776456000@www.shaaraytefila.org
SUMMARY:Shabbat Service & Oneg
DESCRIPTION:
URL:https://www.shaaraytefila.org/event/shabbat-5/2026-04-17/
CATEGORIES:Worship
ATTACH;FMTTYPE=image/jpeg:https://www.shaaraytefila.org/wp-content/uploads/2024/11/challah-cropped.jpg
END:VEVENT
BEGIN:VEVENT
DTSTART;TZID=America/New_York:20260410T190000
DTEND;TZID=America/New_York:20260410T200000
DTSTAMP:20260423T094837
CREATED:20241110T092727Z
LAST-MODIFIED:20241121T203315Z
UID:10000130-1775847600-1775851200@www.shaaraytefila.org
SUMMARY:Shabbat Service & Oneg
DESCRIPTION:
URL:https://www.shaaraytefila.org/event/shabbat-5/2026-04-10/
CATEGORIES:Worship
ATTACH;FMTTYPE=image/jpeg:https://www.shaaraytefila.org/wp-content/uploads/2024/11/challah-cropped.jpg
END:VEVENT
BEGIN:VEVENT
DTSTART;TZID=America/New_York:20260403T190000
DTEND;TZID=America/New_York:20260403T200000
DTSTAMP:20260423T094837
CREATED:20241110T092727Z
LAST-MODIFIED:20241121T203315Z
UID:10000129-1775242800-1775246400@www.shaaraytefila.org
SUMMARY:Shabbat Service & Oneg
DESCRIPTION:
URL:https://www.shaaraytefila.org/event/shabbat-5/2026-04-03/
CATEGORIES:Worship
ATTACH;FMTTYPE=image/jpeg:https://www.shaaraytefila.org/wp-content/uploads/2024/11/challah-cropped.jpg
END:VEVENT
BEGIN:VEVENT
DTSTART;TZID=America/New_York:20260327T190000
DTEND;TZID=America/New_York:20260327T200000
DTSTAMP:20260423T094837
CREATED:20241110T092727Z
LAST-MODIFIED:20241121T203315Z
UID:10000128-1774638000-1774641600@www.shaaraytefila.org
SUMMARY:Shabbat Service & Oneg
DESCRIPTION:
URL:https://www.shaaraytefila.org/event/shabbat-5/2026-03-27/
CATEGORIES:Worship
ATTACH;FMTTYPE=image/jpeg:https://www.shaaraytefila.org/wp-content/uploads/2024/11/challah-cropped.jpg
END:VEVENT
BEGIN:VEVENT
DTSTART;TZID=America/New_York:20260320T190000
DTEND;TZID=America/New_York:20260320T200000
DTSTAMP:20260423T094837
CREATED:20241110T092727Z
LAST-MODIFIED:20241121T203315Z
UID:10000127-1774033200-1774036800@www.shaaraytefila.org
SUMMARY:Shabbat Service & Oneg
DESCRIPTION:
URL:https://www.shaaraytefila.org/event/shabbat-5/2026-03-20/
CATEGORIES:Worship
ATTACH;FMTTYPE=image/jpeg:https://www.shaaraytefila.org/wp-content/uploads/2024/11/challah-cropped.jpg
END:VEVENT
BEGIN:VEVENT
DTSTART;TZID=America/New_York:20260313T190000
DTEND;TZID=America/New_York:20260313T200000
DTSTAMP:20260423T094837
CREATED:20241110T092727Z
LAST-MODIFIED:20241121T203315Z
UID:10000126-1773428400-1773432000@www.shaaraytefila.org
SUMMARY:Shabbat Service & Oneg
DESCRIPTION:
URL:https://www.shaaraytefila.org/event/shabbat-5/2026-03-13/
CATEGORIES:Worship
ATTACH;FMTTYPE=image/jpeg:https://www.shaaraytefila.org/wp-content/uploads/2024/11/challah-cropped.jpg
END:VEVENT
BEGIN:VEVENT
DTSTART;TZID=America/New_York:20260306T190000
DTEND;TZID=America/New_York:20260306T200000
DTSTAMP:20260423T094837
CREATED:20241110T092727Z
LAST-MODIFIED:20241121T203315Z
UID:10000125-1772823600-1772827200@www.shaaraytefila.org
SUMMARY:Shabbat Service & Oneg
DESCRIPTION:
URL:https://www.shaaraytefila.org/event/shabbat-5/2026-03-06/
CATEGORIES:Worship
ATTACH;FMTTYPE=image/jpeg:https://www.shaaraytefila.org/wp-content/uploads/2024/11/challah-cropped.jpg
END:VEVENT
BEGIN:VEVENT
DTSTART;TZID=America/New_York:20260227T190000
DTEND;TZID=America/New_York:20260227T200000
DTSTAMP:20260423T094837
CREATED:20241110T092727Z
LAST-MODIFIED:20241121T203315Z
UID:10000124-1772218800-1772222400@www.shaaraytefila.org
SUMMARY:Shabbat Service & Oneg
DESCRIPTION:
URL:https://www.shaaraytefila.org/event/shabbat-5/2026-02-27/
CATEGORIES:Worship
ATTACH;FMTTYPE=image/jpeg:https://www.shaaraytefila.org/wp-content/uploads/2024/11/challah-cropped.jpg
END:VEVENT
BEGIN:VEVENT
DTSTART;TZID=America/New_York:20260220T190000
DTEND;TZID=America/New_York:20260220T200000
DTSTAMP:20260423T094837
CREATED:20241110T092727Z
LAST-MODIFIED:20241121T203315Z
UID:10000123-1771614000-1771617600@www.shaaraytefila.org
SUMMARY:Shabbat Service & Oneg
DESCRIPTION:
URL:https://www.shaaraytefila.org/event/shabbat-5/2026-02-20/
CATEGORIES:Worship
ATTACH;FMTTYPE=image/jpeg:https://www.shaaraytefila.org/wp-content/uploads/2024/11/challah-cropped.jpg
END:VEVENT
BEGIN:VEVENT
DTSTART;TZID=America/New_York:20260213T190000
DTEND;TZID=America/New_York:20260213T200000
DTSTAMP:20260423T094837
CREATED:20241110T092727Z
LAST-MODIFIED:20241121T203315Z
UID:10000122-1771009200-1771012800@www.shaaraytefila.org
SUMMARY:Shabbat Service & Oneg
DESCRIPTION:
URL:https://www.shaaraytefila.org/event/shabbat-5/2026-02-13/
CATEGORIES:Worship
ATTACH;FMTTYPE=image/jpeg:https://www.shaaraytefila.org/wp-content/uploads/2024/11/challah-cropped.jpg
END:VEVENT
BEGIN:VEVENT
DTSTART;TZID=America/New_York:20260206T190000
DTEND;TZID=America/New_York:20260206T200000
DTSTAMP:20260423T094837
CREATED:20241110T092727Z
LAST-MODIFIED:20241121T203315Z
UID:10000121-1770404400-1770408000@www.shaaraytefila.org
SUMMARY:Shabbat Service & Oneg
DESCRIPTION:
URL:https://www.shaaraytefila.org/event/shabbat-5/2026-02-06/
CATEGORIES:Worship
ATTACH;FMTTYPE=image/jpeg:https://www.shaaraytefila.org/wp-content/uploads/2024/11/challah-cropped.jpg
END:VEVENT
BEGIN:VEVENT
DTSTART;TZID=America/New_York:20260130T190000
DTEND;TZID=America/New_York:20260130T200000
DTSTAMP:20260423T094837
CREATED:20241110T092727Z
LAST-MODIFIED:20241121T203315Z
UID:10000120-1769799600-1769803200@www.shaaraytefila.org
SUMMARY:Shabbat Service & Oneg
DESCRIPTION:
URL:https://www.shaaraytefila.org/event/shabbat-5/2026-01-30/
CATEGORIES:Worship
ATTACH;FMTTYPE=image/jpeg:https://www.shaaraytefila.org/wp-content/uploads/2024/11/challah-cropped.jpg
END:VEVENT
BEGIN:VEVENT
DTSTART;TZID=America/New_York:20260123T190000
DTEND;TZID=America/New_York:20260123T200000
DTSTAMP:20260423T094837
CREATED:20241110T092727Z
LAST-MODIFIED:20241121T203315Z
UID:10000119-1769194800-1769198400@www.shaaraytefila.org
SUMMARY:Shabbat Service & Oneg
DESCRIPTION:
URL:https://www.shaaraytefila.org/event/shabbat-5/2026-01-23/
CATEGORIES:Worship
ATTACH;FMTTYPE=image/jpeg:https://www.shaaraytefila.org/wp-content/uploads/2024/11/challah-cropped.jpg
END:VEVENT
BEGIN:VEVENT
DTSTART;TZID=America/New_York:20260116T190000
DTEND;TZID=America/New_York:20260116T200000
DTSTAMP:20260423T094837
CREATED:20241110T092727Z
LAST-MODIFIED:20241121T203315Z
UID:10000118-1768590000-1768593600@www.shaaraytefila.org
SUMMARY:Shabbat Service & Oneg
DESCRIPTION:
URL:https://www.shaaraytefila.org/event/shabbat-5/2026-01-16/
CATEGORIES:Worship
ATTACH;FMTTYPE=image/jpeg:https://www.shaaraytefila.org/wp-content/uploads/2024/11/challah-cropped.jpg
END:VEVENT
BEGIN:VEVENT
DTSTART;TZID=America/New_York:20260109T190000
DTEND;TZID=America/New_York:20260109T200000
DTSTAMP:20260423T094837
CREATED:20241110T092727Z
LAST-MODIFIED:20241121T203315Z
UID:10000117-1767985200-1767988800@www.shaaraytefila.org
SUMMARY:Shabbat Service & Oneg
DESCRIPTION:
URL:https://www.shaaraytefila.org/event/shabbat-5/2026-01-09/
CATEGORIES:Worship
ATTACH;FMTTYPE=image/jpeg:https://www.shaaraytefila.org/wp-content/uploads/2024/11/challah-cropped.jpg
END:VEVENT
BEGIN:VEVENT
DTSTART;TZID=America/New_York:20260102T190000
DTEND;TZID=America/New_York:20260102T200000
DTSTAMP:20260423T094837
CREATED:20241110T092727Z
LAST-MODIFIED:20241121T203315Z
UID:10000116-1767380400-1767384000@www.shaaraytefila.org
SUMMARY:Shabbat Service & Oneg
DESCRIPTION:
URL:https://www.shaaraytefila.org/event/shabbat-5/2026-01-02/
CATEGORIES:Worship
ATTACH;FMTTYPE=image/jpeg:https://www.shaaraytefila.org/wp-content/uploads/2024/11/challah-cropped.jpg
END:VEVENT
BEGIN:VEVENT
DTSTART;TZID=America/New_York:20251226T190000
DTEND;TZID=America/New_York:20251226T200000
DTSTAMP:20260423T094837
CREATED:20241110T092727Z
LAST-MODIFIED:20241121T203315Z
UID:10000115-1766775600-1766779200@www.shaaraytefila.org
SUMMARY:Shabbat Service & Oneg
DESCRIPTION:
URL:https://www.shaaraytefila.org/event/shabbat-5/2025-12-26/
CATEGORIES:Worship
ATTACH;FMTTYPE=image/jpeg:https://www.shaaraytefila.org/wp-content/uploads/2024/11/challah-cropped.jpg
END:VEVENT
BEGIN:VEVENT
DTSTART;TZID=America/New_York:20251219T190000
DTEND;TZID=America/New_York:20251219T200000
DTSTAMP:20260423T094837
CREATED:20241110T092727Z
LAST-MODIFIED:20241121T203315Z
UID:10000114-1766170800-1766174400@www.shaaraytefila.org
SUMMARY:Shabbat Service & Oneg
DESCRIPTION:
URL:https://www.shaaraytefila.org/event/shabbat-5/2025-12-19/
CATEGORIES:Worship
ATTACH;FMTTYPE=image/jpeg:https://www.shaaraytefila.org/wp-content/uploads/2024/11/challah-cropped.jpg
END:VEVENT
BEGIN:VEVENT
DTSTART;TZID=America/New_York:20251212T190000
DTEND;TZID=America/New_York:20251212T200000
DTSTAMP:20260423T094837
CREATED:20241110T092727Z
LAST-MODIFIED:20241121T203315Z
UID:10000113-1765566000-1765569600@www.shaaraytefila.org
SUMMARY:Shabbat Service & Oneg
DESCRIPTION:
URL:https://www.shaaraytefila.org/event/shabbat-5/2025-12-12/
CATEGORIES:Worship
ATTACH;FMTTYPE=image/jpeg:https://www.shaaraytefila.org/wp-content/uploads/2024/11/challah-cropped.jpg
END:VEVENT
BEGIN:VEVENT
DTSTART;TZID=America/New_York:20251205T190000
DTEND;TZID=America/New_York:20251205T200000
DTSTAMP:20260423T094837
CREATED:20241110T092727Z
LAST-MODIFIED:20241121T203315Z
UID:10000112-1764961200-1764964800@www.shaaraytefila.org
SUMMARY:Shabbat Service & Oneg
DESCRIPTION:
URL:https://www.shaaraytefila.org/event/shabbat-5/2025-12-05/
CATEGORIES:Worship
ATTACH;FMTTYPE=image/jpeg:https://www.shaaraytefila.org/wp-content/uploads/2024/11/challah-cropped.jpg
END:VEVENT
BEGIN:VEVENT
DTSTART;TZID=America/New_York:20251128T190000
DTEND;TZID=America/New_York:20251128T200000
DTSTAMP:20260423T094837
CREATED:20241110T092727Z
LAST-MODIFIED:20241121T203315Z
UID:10000111-1764356400-1764360000@www.shaaraytefila.org
SUMMARY:Shabbat Service & Oneg
DESCRIPTION:
URL:https://www.shaaraytefila.org/event/shabbat-5/2025-11-28/
CATEGORIES:Worship
ATTACH;FMTTYPE=image/jpeg:https://www.shaaraytefila.org/wp-content/uploads/2024/11/challah-cropped.jpg
END:VEVENT
BEGIN:VEVENT
DTSTART;TZID=America/New_York:20251121T190000
DTEND;TZID=America/New_York:20251121T200000
DTSTAMP:20260423T094837
CREATED:20250909T155014Z
LAST-MODIFIED:20250909T155014Z
UID:10000110-1763751600-1763755200@www.shaaraytefila.org
SUMMARY:Shabbat Service & Oneg
DESCRIPTION:Shabbat culminating a month of service
URL:https://www.shaaraytefila.org/event/shabbat-5-14/
CATEGORIES:Worship
ATTACH;FMTTYPE=image/jpeg:https://www.shaaraytefila.org/wp-content/uploads/2024/11/challah-cropped.jpg
END:VEVENT
BEGIN:VEVENT
DTSTART;TZID=America/New_York:20251121T190000
DTEND;TZID=America/New_York:20251121T200000
DTSTAMP:20260423T094837
CREATED:20241110T092727Z
LAST-MODIFIED:20241121T203315Z
UID:10001443-1763751600-1763755200@www.shaaraytefila.org
SUMMARY:Shabbat Service & Oneg
DESCRIPTION:
URL:https://www.shaaraytefila.org/event/shabbat-5/2025-11-21/
CATEGORIES:Worship
ATTACH;FMTTYPE=image/jpeg:https://www.shaaraytefila.org/wp-content/uploads/2024/11/challah-cropped.jpg
END:VEVENT
BEGIN:VEVENT
DTSTART;TZID=America/New_York:20251114T190000
DTEND;TZID=America/New_York:20251114T200000
DTSTAMP:20260423T094837
CREATED:20241110T092727Z
LAST-MODIFIED:20241121T203315Z
UID:10000109-1763146800-1763150400@www.shaaraytefila.org
SUMMARY:Shabbat Service & Oneg
DESCRIPTION:
URL:https://www.shaaraytefila.org/event/shabbat-5/2025-11-14/
CATEGORIES:Worship
ATTACH;FMTTYPE=image/jpeg:https://www.shaaraytefila.org/wp-content/uploads/2024/11/challah-cropped.jpg
END:VEVENT
BEGIN:VEVENT
DTSTART;TZID=America/New_York:20251107T190000
DTEND;TZID=America/New_York:20251107T200000
DTSTAMP:20260423T094837
CREATED:20241110T092727Z
LAST-MODIFIED:20241121T203315Z
UID:10000108-1762542000-1762545600@www.shaaraytefila.org
SUMMARY:Shabbat Service & Oneg
DESCRIPTION:
URL:https://www.shaaraytefila.org/event/shabbat-5/2025-11-07/
CATEGORIES:Worship
ATTACH;FMTTYPE=image/jpeg:https://www.shaaraytefila.org/wp-content/uploads/2024/11/challah-cropped.jpg
END:VEVENT
BEGIN:VEVENT
DTSTART;TZID=America/New_York:20251031T190000
DTEND;TZID=America/New_York:20251031T200000
DTSTAMP:20260423T094837
CREATED:20241110T092727Z
LAST-MODIFIED:20241121T203315Z
UID:10000107-1761937200-1761940800@www.shaaraytefila.org
SUMMARY:Shabbat Service & Oneg
DESCRIPTION:
URL:https://www.shaaraytefila.org/event/shabbat-5/2025-10-31/
CATEGORIES:Worship
ATTACH;FMTTYPE=image/jpeg:https://www.shaaraytefila.org/wp-content/uploads/2024/11/challah-cropped.jpg
END:VEVENT
BEGIN:VEVENT
DTSTART;TZID=America/New_York:20251024T190000
DTEND;TZID=America/New_York:20251024T200000
DTSTAMP:20260423T094837
CREATED:20251020T183329Z
LAST-MODIFIED:20251020T183333Z
UID:10000106-1761332400-1761336000@www.shaaraytefila.org
SUMMARY:Shabbat Service & Oneg Honoring Rabbi Greenberg
DESCRIPTION:Please join us for a special Shabbat where we reflect on 50 years at Shaaray Tefila and honor Rabbi Greenberg. \n  \nIf you would like to make a donation to Temple in honor of Rabbi David Greenberg\, please use the QR code below or go directly to shaaraytefila.org/donate \n 
URL:https://www.shaaraytefila.org/event/shabbat-5-15/
CATEGORIES:Worship
ATTACH;FMTTYPE=image/jpeg:https://www.shaaraytefila.org/wp-content/uploads/2024/11/challah-cropped.jpg
END:VEVENT
BEGIN:VEVENT
DTSTART;TZID=America/New_York:20251017T190000
DTEND;TZID=America/New_York:20251017T200000
DTSTAMP:20260423T094837
CREATED:20241110T092727Z
LAST-MODIFIED:20241121T203315Z
UID:10000105-1760727600-1760731200@www.shaaraytefila.org
SUMMARY:Shabbat Service & Oneg
DESCRIPTION:
URL:https://www.shaaraytefila.org/event/shabbat-5/2025-10-17/
CATEGORIES:Worship
ATTACH;FMTTYPE=image/jpeg:https://www.shaaraytefila.org/wp-content/uploads/2024/11/challah-cropped.jpg
END:VEVENT
BEGIN:VEVENT
DTSTART;TZID=America/New_York:20251010T190000
DTEND;TZID=America/New_York:20251010T200000
DTSTAMP:20260423T094837
CREATED:20241110T092727Z
LAST-MODIFIED:20241121T203315Z
UID:10000104-1760122800-1760126400@www.shaaraytefila.org
SUMMARY:Shabbat Service & Oneg
DESCRIPTION:
URL:https://www.shaaraytefila.org/event/shabbat-5/2025-10-10/
CATEGORIES:Worship
ATTACH;FMTTYPE=image/jpeg:https://www.shaaraytefila.org/wp-content/uploads/2024/11/challah-cropped.jpg
END:VEVENT
BEGIN:VEVENT
DTSTART;TZID=America/New_York:20251003T190000
DTEND;TZID=America/New_York:20251003T200000
DTSTAMP:20260423T094837
CREATED:20241110T092727Z
LAST-MODIFIED:20241121T203315Z
UID:10000103-1759518000-1759521600@www.shaaraytefila.org
SUMMARY:Shabbat Service & Oneg
DESCRIPTION:
URL:https://www.shaaraytefila.org/event/shabbat-5/2025-10-03/
CATEGORIES:Worship
ATTACH;FMTTYPE=image/jpeg:https://www.shaaraytefila.org/wp-content/uploads/2024/11/challah-cropped.jpg
END:VEVENT
END:VCALENDAR