BEGIN:VCALENDAR
VERSION:2.0
PRODID:-//Temple Shaaray Tefila - ECPv6.15.20//NONSGML v1.0//EN
CALSCALE:GREGORIAN
METHOD:PUBLISH
X-WR-CALNAME:Temple Shaaray Tefila
X-ORIGINAL-URL:https://www.shaaraytefila.org
X-WR-CALDESC:Events for Temple Shaaray Tefila
REFRESH-INTERVAL;VALUE=DURATION:PT1H
X-Robots-Tag:noindex
X-PUBLISHED-TTL:PT1H
BEGIN:VTIMEZONE
TZID:America/New_York
BEGIN:DAYLIGHT
TZOFFSETFROM:-0500
TZOFFSETTO:-0400
TZNAME:EDT
DTSTART:20250309T070000
END:DAYLIGHT
BEGIN:STANDARD
TZOFFSETFROM:-0400
TZOFFSETTO:-0500
TZNAME:EST
DTSTART:20251102T060000
END:STANDARD
BEGIN:DAYLIGHT
TZOFFSETFROM:-0500
TZOFFSETTO:-0400
TZNAME:EDT
DTSTART:20260308T070000
END:DAYLIGHT
BEGIN:STANDARD
TZOFFSETFROM:-0400
TZOFFSETTO:-0500
TZNAME:EST
DTSTART:20261101T060000
END:STANDARD
BEGIN:DAYLIGHT
TZOFFSETFROM:-0500
TZOFFSETTO:-0400
TZNAME:EDT
DTSTART:20270314T070000
END:DAYLIGHT
BEGIN:STANDARD
TZOFFSETFROM:-0400
TZOFFSETTO:-0500
TZNAME:EST
DTSTART:20271107T060000
END:STANDARD
BEGIN:DAYLIGHT
TZOFFSETFROM:-0500
TZOFFSETTO:-0400
TZNAME:EDT
DTSTART:20280312T070000
END:DAYLIGHT
BEGIN:STANDARD
TZOFFSETFROM:-0400
TZOFFSETTO:-0500
TZNAME:EST
DTSTART:20281105T060000
END:STANDARD
END:VTIMEZONE
BEGIN:VEVENT
DTSTART;TZID=America/New_York:20261009T190000
DTEND;TZID=America/New_York:20261009T200000
DTSTAMP:20260423T045654
CREATED:20241110T092727Z
LAST-MODIFIED:20241121T203315Z
UID:10000156-1791572400-1791576000@www.shaaraytefila.org
SUMMARY:Shabbat Service & Oneg
DESCRIPTION:
URL:https://www.shaaraytefila.org/event/shabbat-5/2026-10-09/
CATEGORIES:Worship
ATTACH;FMTTYPE=image/jpeg:https://www.shaaraytefila.org/wp-content/uploads/2024/11/challah-cropped.jpg
END:VEVENT
BEGIN:VEVENT
DTSTART;TZID=America/New_York:20261016T190000
DTEND;TZID=America/New_York:20261016T200000
DTSTAMP:20260423T045654
CREATED:20241110T092727Z
LAST-MODIFIED:20241121T203315Z
UID:10000157-1792177200-1792180800@www.shaaraytefila.org
SUMMARY:Shabbat Service & Oneg
DESCRIPTION:
URL:https://www.shaaraytefila.org/event/shabbat-5/2026-10-16/
CATEGORIES:Worship
ATTACH;FMTTYPE=image/jpeg:https://www.shaaraytefila.org/wp-content/uploads/2024/11/challah-cropped.jpg
END:VEVENT
BEGIN:VEVENT
DTSTART;TZID=America/New_York:20261023T190000
DTEND;TZID=America/New_York:20261023T200000
DTSTAMP:20260423T045654
CREATED:20241110T092727Z
LAST-MODIFIED:20241121T203315Z
UID:10000158-1792782000-1792785600@www.shaaraytefila.org
SUMMARY:Shabbat Service & Oneg
DESCRIPTION:
URL:https://www.shaaraytefila.org/event/shabbat-5/2026-10-23/
CATEGORIES:Worship
ATTACH;FMTTYPE=image/jpeg:https://www.shaaraytefila.org/wp-content/uploads/2024/11/challah-cropped.jpg
END:VEVENT
BEGIN:VEVENT
DTSTART;TZID=America/New_York:20261030T190000
DTEND;TZID=America/New_York:20261030T200000
DTSTAMP:20260423T045654
CREATED:20241110T092727Z
LAST-MODIFIED:20241121T203315Z
UID:10000159-1793386800-1793390400@www.shaaraytefila.org
SUMMARY:Shabbat Service & Oneg
DESCRIPTION:
URL:https://www.shaaraytefila.org/event/shabbat-5/2026-10-30/
CATEGORIES:Worship
ATTACH;FMTTYPE=image/jpeg:https://www.shaaraytefila.org/wp-content/uploads/2024/11/challah-cropped.jpg
END:VEVENT
BEGIN:VEVENT
DTSTART;TZID=America/New_York:20261106T190000
DTEND;TZID=America/New_York:20261106T200000
DTSTAMP:20260423T045654
CREATED:20241110T092727Z
LAST-MODIFIED:20241121T203315Z
UID:10000160-1793991600-1793995200@www.shaaraytefila.org
SUMMARY:Shabbat Service & Oneg
DESCRIPTION:
URL:https://www.shaaraytefila.org/event/shabbat-5/2026-11-06/
CATEGORIES:Worship
ATTACH;FMTTYPE=image/jpeg:https://www.shaaraytefila.org/wp-content/uploads/2024/11/challah-cropped.jpg
END:VEVENT
BEGIN:VEVENT
DTSTART;TZID=America/New_York:20261113T190000
DTEND;TZID=America/New_York:20261113T200000
DTSTAMP:20260423T045654
CREATED:20241110T092727Z
LAST-MODIFIED:20241121T203315Z
UID:10000161-1794596400-1794600000@www.shaaraytefila.org
SUMMARY:Shabbat Service & Oneg
DESCRIPTION:
URL:https://www.shaaraytefila.org/event/shabbat-5/2026-11-13/
CATEGORIES:Worship
ATTACH;FMTTYPE=image/jpeg:https://www.shaaraytefila.org/wp-content/uploads/2024/11/challah-cropped.jpg
END:VEVENT
BEGIN:VEVENT
DTSTART;TZID=America/New_York:20261120T190000
DTEND;TZID=America/New_York:20261120T200000
DTSTAMP:20260423T045654
CREATED:20241110T092727Z
LAST-MODIFIED:20241121T203315Z
UID:10000162-1795201200-1795204800@www.shaaraytefila.org
SUMMARY:Shabbat Service & Oneg
DESCRIPTION:
URL:https://www.shaaraytefila.org/event/shabbat-5/2026-11-20/
CATEGORIES:Worship
ATTACH;FMTTYPE=image/jpeg:https://www.shaaraytefila.org/wp-content/uploads/2024/11/challah-cropped.jpg
END:VEVENT
BEGIN:VEVENT
DTSTART;TZID=America/New_York:20261127T190000
DTEND;TZID=America/New_York:20261127T200000
DTSTAMP:20260423T045654
CREATED:20241110T092727Z
LAST-MODIFIED:20241121T203315Z
UID:10000163-1795806000-1795809600@www.shaaraytefila.org
SUMMARY:Shabbat Service & Oneg
DESCRIPTION:
URL:https://www.shaaraytefila.org/event/shabbat-5/2026-11-27/
CATEGORIES:Worship
ATTACH;FMTTYPE=image/jpeg:https://www.shaaraytefila.org/wp-content/uploads/2024/11/challah-cropped.jpg
END:VEVENT
BEGIN:VEVENT
DTSTART;TZID=America/New_York:20261204T190000
DTEND;TZID=America/New_York:20261204T200000
DTSTAMP:20260423T045654
CREATED:20241110T092727Z
LAST-MODIFIED:20241121T203315Z
UID:10000164-1796410800-1796414400@www.shaaraytefila.org
SUMMARY:Shabbat Service & Oneg
DESCRIPTION:
URL:https://www.shaaraytefila.org/event/shabbat-5/2026-12-04/
CATEGORIES:Worship
ATTACH;FMTTYPE=image/jpeg:https://www.shaaraytefila.org/wp-content/uploads/2024/11/challah-cropped.jpg
END:VEVENT
BEGIN:VEVENT
DTSTART;TZID=America/New_York:20261211T190000
DTEND;TZID=America/New_York:20261211T200000
DTSTAMP:20260423T045654
CREATED:20241110T092727Z
LAST-MODIFIED:20241121T203315Z
UID:10000165-1797015600-1797019200@www.shaaraytefila.org
SUMMARY:Shabbat Service & Oneg
DESCRIPTION:
URL:https://www.shaaraytefila.org/event/shabbat-5/2026-12-11/
CATEGORIES:Worship
ATTACH;FMTTYPE=image/jpeg:https://www.shaaraytefila.org/wp-content/uploads/2024/11/challah-cropped.jpg
END:VEVENT
BEGIN:VEVENT
DTSTART;TZID=America/New_York:20261218T190000
DTEND;TZID=America/New_York:20261218T200000
DTSTAMP:20260423T045654
CREATED:20241110T092727Z
LAST-MODIFIED:20241121T203315Z
UID:10000166-1797620400-1797624000@www.shaaraytefila.org
SUMMARY:Shabbat Service & Oneg
DESCRIPTION:
URL:https://www.shaaraytefila.org/event/shabbat-5/2026-12-18/
CATEGORIES:Worship
ATTACH;FMTTYPE=image/jpeg:https://www.shaaraytefila.org/wp-content/uploads/2024/11/challah-cropped.jpg
END:VEVENT
BEGIN:VEVENT
DTSTART;TZID=America/New_York:20261225T190000
DTEND;TZID=America/New_York:20261225T200000
DTSTAMP:20260423T045654
CREATED:20241110T092727Z
LAST-MODIFIED:20241121T203315Z
UID:10000167-1798225200-1798228800@www.shaaraytefila.org
SUMMARY:Shabbat Service & Oneg
DESCRIPTION:
URL:https://www.shaaraytefila.org/event/shabbat-5/2026-12-25/
CATEGORIES:Worship
ATTACH;FMTTYPE=image/jpeg:https://www.shaaraytefila.org/wp-content/uploads/2024/11/challah-cropped.jpg
END:VEVENT
BEGIN:VEVENT
DTSTART;TZID=America/New_York:20270101T190000
DTEND;TZID=America/New_York:20270101T200000
DTSTAMP:20260423T045654
CREATED:20241110T092727Z
LAST-MODIFIED:20241121T203315Z
UID:10000168-1798830000-1798833600@www.shaaraytefila.org
SUMMARY:Shabbat Service & Oneg
DESCRIPTION:
URL:https://www.shaaraytefila.org/event/shabbat-5/2027-01-01/
CATEGORIES:Worship
ATTACH;FMTTYPE=image/jpeg:https://www.shaaraytefila.org/wp-content/uploads/2024/11/challah-cropped.jpg
END:VEVENT
BEGIN:VEVENT
DTSTART;TZID=America/New_York:20270108T190000
DTEND;TZID=America/New_York:20270108T200000
DTSTAMP:20260423T045654
CREATED:20241110T092727Z
LAST-MODIFIED:20241121T203315Z
UID:10000169-1799434800-1799438400@www.shaaraytefila.org
SUMMARY:Shabbat Service & Oneg
DESCRIPTION:
URL:https://www.shaaraytefila.org/event/shabbat-5/2027-01-08/
CATEGORIES:Worship
ATTACH;FMTTYPE=image/jpeg:https://www.shaaraytefila.org/wp-content/uploads/2024/11/challah-cropped.jpg
END:VEVENT
BEGIN:VEVENT
DTSTART;TZID=America/New_York:20270115T190000
DTEND;TZID=America/New_York:20270115T200000
DTSTAMP:20260423T045654
CREATED:20241110T092727Z
LAST-MODIFIED:20241121T203315Z
UID:10000170-1800039600-1800043200@www.shaaraytefila.org
SUMMARY:Shabbat Service & Oneg
DESCRIPTION:
URL:https://www.shaaraytefila.org/event/shabbat-5/2027-01-15/
CATEGORIES:Worship
ATTACH;FMTTYPE=image/jpeg:https://www.shaaraytefila.org/wp-content/uploads/2024/11/challah-cropped.jpg
END:VEVENT
BEGIN:VEVENT
DTSTART;TZID=America/New_York:20270122T190000
DTEND;TZID=America/New_York:20270122T200000
DTSTAMP:20260423T045654
CREATED:20241110T092727Z
LAST-MODIFIED:20241121T203315Z
UID:10000171-1800644400-1800648000@www.shaaraytefila.org
SUMMARY:Shabbat Service & Oneg
DESCRIPTION:
URL:https://www.shaaraytefila.org/event/shabbat-5/2027-01-22/
CATEGORIES:Worship
ATTACH;FMTTYPE=image/jpeg:https://www.shaaraytefila.org/wp-content/uploads/2024/11/challah-cropped.jpg
END:VEVENT
BEGIN:VEVENT
DTSTART;TZID=America/New_York:20270129T190000
DTEND;TZID=America/New_York:20270129T200000
DTSTAMP:20260423T045654
CREATED:20241110T092727Z
LAST-MODIFIED:20241121T203315Z
UID:10000172-1801249200-1801252800@www.shaaraytefila.org
SUMMARY:Shabbat Service & Oneg
DESCRIPTION:
URL:https://www.shaaraytefila.org/event/shabbat-5/2027-01-29/
CATEGORIES:Worship
ATTACH;FMTTYPE=image/jpeg:https://www.shaaraytefila.org/wp-content/uploads/2024/11/challah-cropped.jpg
END:VEVENT
BEGIN:VEVENT
DTSTART;TZID=America/New_York:20270205T190000
DTEND;TZID=America/New_York:20270205T200000
DTSTAMP:20260423T045654
CREATED:20241110T092727Z
LAST-MODIFIED:20241121T203315Z
UID:10000173-1801854000-1801857600@www.shaaraytefila.org
SUMMARY:Shabbat Service & Oneg
DESCRIPTION:
URL:https://www.shaaraytefila.org/event/shabbat-5/2027-02-05/
CATEGORIES:Worship
ATTACH;FMTTYPE=image/jpeg:https://www.shaaraytefila.org/wp-content/uploads/2024/11/challah-cropped.jpg
END:VEVENT
BEGIN:VEVENT
DTSTART;TZID=America/New_York:20270212T190000
DTEND;TZID=America/New_York:20270212T200000
DTSTAMP:20260423T045654
CREATED:20241110T092727Z
LAST-MODIFIED:20241121T203315Z
UID:10000174-1802458800-1802462400@www.shaaraytefila.org
SUMMARY:Shabbat Service & Oneg
DESCRIPTION:
URL:https://www.shaaraytefila.org/event/shabbat-5/2027-02-12/
CATEGORIES:Worship
ATTACH;FMTTYPE=image/jpeg:https://www.shaaraytefila.org/wp-content/uploads/2024/11/challah-cropped.jpg
END:VEVENT
BEGIN:VEVENT
DTSTART;TZID=America/New_York:20270219T190000
DTEND;TZID=America/New_York:20270219T200000
DTSTAMP:20260423T045654
CREATED:20241110T092727Z
LAST-MODIFIED:20241121T203315Z
UID:10000175-1803063600-1803067200@www.shaaraytefila.org
SUMMARY:Shabbat Service & Oneg
DESCRIPTION:
URL:https://www.shaaraytefila.org/event/shabbat-5/2027-02-19/
CATEGORIES:Worship
ATTACH;FMTTYPE=image/jpeg:https://www.shaaraytefila.org/wp-content/uploads/2024/11/challah-cropped.jpg
END:VEVENT
BEGIN:VEVENT
DTSTART;TZID=America/New_York:20270226T190000
DTEND;TZID=America/New_York:20270226T200000
DTSTAMP:20260423T045654
CREATED:20241110T092727Z
LAST-MODIFIED:20241121T203315Z
UID:10000176-1803668400-1803672000@www.shaaraytefila.org
SUMMARY:Shabbat Service & Oneg
DESCRIPTION:
URL:https://www.shaaraytefila.org/event/shabbat-5/2027-02-26/
CATEGORIES:Worship
ATTACH;FMTTYPE=image/jpeg:https://www.shaaraytefila.org/wp-content/uploads/2024/11/challah-cropped.jpg
END:VEVENT
BEGIN:VEVENT
DTSTART;TZID=America/New_York:20270305T190000
DTEND;TZID=America/New_York:20270305T200000
DTSTAMP:20260423T045654
CREATED:20241110T092727Z
LAST-MODIFIED:20241121T203315Z
UID:10000177-1804273200-1804276800@www.shaaraytefila.org
SUMMARY:Shabbat Service & Oneg
DESCRIPTION:
URL:https://www.shaaraytefila.org/event/shabbat-5/2027-03-05/
CATEGORIES:Worship
ATTACH;FMTTYPE=image/jpeg:https://www.shaaraytefila.org/wp-content/uploads/2024/11/challah-cropped.jpg
END:VEVENT
BEGIN:VEVENT
DTSTART;TZID=America/New_York:20270312T190000
DTEND;TZID=America/New_York:20270312T200000
DTSTAMP:20260423T045654
CREATED:20241110T092727Z
LAST-MODIFIED:20241121T203315Z
UID:10000178-1804878000-1804881600@www.shaaraytefila.org
SUMMARY:Shabbat Service & Oneg
DESCRIPTION:
URL:https://www.shaaraytefila.org/event/shabbat-5/2027-03-12/
CATEGORIES:Worship
ATTACH;FMTTYPE=image/jpeg:https://www.shaaraytefila.org/wp-content/uploads/2024/11/challah-cropped.jpg
END:VEVENT
BEGIN:VEVENT
DTSTART;TZID=America/New_York:20270319T190000
DTEND;TZID=America/New_York:20270319T200000
DTSTAMP:20260423T045654
CREATED:20241110T092727Z
LAST-MODIFIED:20241121T203315Z
UID:10000179-1805482800-1805486400@www.shaaraytefila.org
SUMMARY:Shabbat Service & Oneg
DESCRIPTION:
URL:https://www.shaaraytefila.org/event/shabbat-5/2027-03-19/
CATEGORIES:Worship
ATTACH;FMTTYPE=image/jpeg:https://www.shaaraytefila.org/wp-content/uploads/2024/11/challah-cropped.jpg
END:VEVENT
BEGIN:VEVENT
DTSTART;TZID=America/New_York:20270326T190000
DTEND;TZID=America/New_York:20270326T200000
DTSTAMP:20260423T045654
CREATED:20241110T092727Z
LAST-MODIFIED:20241121T203315Z
UID:10000180-1806087600-1806091200@www.shaaraytefila.org
SUMMARY:Shabbat Service & Oneg
DESCRIPTION:
URL:https://www.shaaraytefila.org/event/shabbat-5/2027-03-26/
CATEGORIES:Worship
ATTACH;FMTTYPE=image/jpeg:https://www.shaaraytefila.org/wp-content/uploads/2024/11/challah-cropped.jpg
END:VEVENT
BEGIN:VEVENT
DTSTART;TZID=America/New_York:20270402T190000
DTEND;TZID=America/New_York:20270402T200000
DTSTAMP:20260423T045654
CREATED:20241110T092727Z
LAST-MODIFIED:20241121T203315Z
UID:10000181-1806692400-1806696000@www.shaaraytefila.org
SUMMARY:Shabbat Service & Oneg
DESCRIPTION:
URL:https://www.shaaraytefila.org/event/shabbat-5/2027-04-02/
CATEGORIES:Worship
ATTACH;FMTTYPE=image/jpeg:https://www.shaaraytefila.org/wp-content/uploads/2024/11/challah-cropped.jpg
END:VEVENT
BEGIN:VEVENT
DTSTART;TZID=America/New_York:20270409T190000
DTEND;TZID=America/New_York:20270409T200000
DTSTAMP:20260423T045654
CREATED:20241110T092727Z
LAST-MODIFIED:20241121T203315Z
UID:10000182-1807297200-1807300800@www.shaaraytefila.org
SUMMARY:Shabbat Service & Oneg
DESCRIPTION:
URL:https://www.shaaraytefila.org/event/shabbat-5/2027-04-09/
CATEGORIES:Worship
ATTACH;FMTTYPE=image/jpeg:https://www.shaaraytefila.org/wp-content/uploads/2024/11/challah-cropped.jpg
END:VEVENT
BEGIN:VEVENT
DTSTART;TZID=America/New_York:20270416T190000
DTEND;TZID=America/New_York:20270416T200000
DTSTAMP:20260423T045654
CREATED:20241110T092727Z
LAST-MODIFIED:20241121T203315Z
UID:10000183-1807902000-1807905600@www.shaaraytefila.org
SUMMARY:Shabbat Service & Oneg
DESCRIPTION:
URL:https://www.shaaraytefila.org/event/shabbat-5/2027-04-16/
CATEGORIES:Worship
ATTACH;FMTTYPE=image/jpeg:https://www.shaaraytefila.org/wp-content/uploads/2024/11/challah-cropped.jpg
END:VEVENT
BEGIN:VEVENT
DTSTART;TZID=America/New_York:20270423T190000
DTEND;TZID=America/New_York:20270423T200000
DTSTAMP:20260423T045654
CREATED:20241110T092727Z
LAST-MODIFIED:20241121T203315Z
UID:10000184-1808506800-1808510400@www.shaaraytefila.org
SUMMARY:Shabbat Service & Oneg
DESCRIPTION:
URL:https://www.shaaraytefila.org/event/shabbat-5/2027-04-23/
CATEGORIES:Worship
ATTACH;FMTTYPE=image/jpeg:https://www.shaaraytefila.org/wp-content/uploads/2024/11/challah-cropped.jpg
END:VEVENT
BEGIN:VEVENT
DTSTART;TZID=America/New_York:20270430T190000
DTEND;TZID=America/New_York:20270430T200000
DTSTAMP:20260423T045654
CREATED:20241110T092727Z
LAST-MODIFIED:20241121T203315Z
UID:10000185-1809111600-1809115200@www.shaaraytefila.org
SUMMARY:Shabbat Service & Oneg
DESCRIPTION:
URL:https://www.shaaraytefila.org/event/shabbat-5/2027-04-30/
CATEGORIES:Worship
ATTACH;FMTTYPE=image/jpeg:https://www.shaaraytefila.org/wp-content/uploads/2024/11/challah-cropped.jpg
END:VEVENT
END:VCALENDAR