BEGIN:VCALENDAR
VERSION:2.0
PRODID:-//Temple Shaaray Tefila - ECPv6.15.20//NONSGML v1.0//EN
CALSCALE:GREGORIAN
METHOD:PUBLISH
X-WR-CALNAME:Temple Shaaray Tefila
X-ORIGINAL-URL:https://www.shaaraytefila.org
X-WR-CALDESC:Events for Temple Shaaray Tefila
REFRESH-INTERVAL;VALUE=DURATION:PT1H
X-Robots-Tag:noindex
X-PUBLISHED-TTL:PT1H
BEGIN:VTIMEZONE
TZID:America/New_York
BEGIN:DAYLIGHT
TZOFFSETFROM:-0500
TZOFFSETTO:-0400
TZNAME:EDT
DTSTART:20230312T070000
END:DAYLIGHT
BEGIN:STANDARD
TZOFFSETFROM:-0400
TZOFFSETTO:-0500
TZNAME:EST
DTSTART:20231105T060000
END:STANDARD
BEGIN:DAYLIGHT
TZOFFSETFROM:-0500
TZOFFSETTO:-0400
TZNAME:EDT
DTSTART:20240310T070000
END:DAYLIGHT
BEGIN:STANDARD
TZOFFSETFROM:-0400
TZOFFSETTO:-0500
TZNAME:EST
DTSTART:20241103T060000
END:STANDARD
BEGIN:DAYLIGHT
TZOFFSETFROM:-0500
TZOFFSETTO:-0400
TZNAME:EDT
DTSTART:20250309T070000
END:DAYLIGHT
BEGIN:STANDARD
TZOFFSETFROM:-0400
TZOFFSETTO:-0500
TZNAME:EST
DTSTART:20251102T060000
END:STANDARD
END:VTIMEZONE
BEGIN:VEVENT
DTSTART;TZID=America/New_York:20241104T120000
DTEND;TZID=America/New_York:20241104T130000
DTSTAMP:20260421T075045
CREATED:20241007T212043Z
LAST-MODIFIED:20241007T212043Z
UID:10000029-1730721600-1730725200@www.shaaraytefila.org
SUMMARY:Rabbi Greenberg Forum
DESCRIPTION:12:00 noon – 1:00pm\nWeekly on Monday
URL:https://www.shaaraytefila.org/event/rabbi-greenberg-forum-4/
CATEGORIES:Community,Worship
ATTACH;FMTTYPE=image/png:https://www.shaaraytefila.org/wp-content/uploads/2019/08/Rabbi-David-Greenberg.png
END:VEVENT
BEGIN:VEVENT
DTSTART;TZID=America/New_York:20241109T190000
DTEND;TZID=America/New_York:20241109T200000
DTSTAMP:20260421T075045
CREATED:20241110T092417Z
LAST-MODIFIED:20241110T093221Z
UID:10000034-1731178800-1731182400@www.shaaraytefila.org
SUMMARY:Shabbat
DESCRIPTION:
URL:https://www.shaaraytefila.org/event/shabbat/
CATEGORIES:Worship
ATTACH;FMTTYPE=image/jpeg:https://www.shaaraytefila.org/wp-content/uploads/2024/11/challah-cropped.jpg
END:VEVENT
BEGIN:VEVENT
DTSTART;TZID=America/New_York:20241111T120000
DTEND;TZID=America/New_York:20241111T130000
DTSTAMP:20260421T075045
CREATED:20241007T212107Z
LAST-MODIFIED:20241007T212107Z
UID:10000028-1731326400-1731330000@www.shaaraytefila.org
SUMMARY:Rabbi Greenberg Forum
DESCRIPTION:12:00 noon – 1:00pm\nWeekly on Monday
URL:https://www.shaaraytefila.org/event/rabbi-greenberg-forum-5/
CATEGORIES:Community,Worship
ATTACH;FMTTYPE=image/png:https://www.shaaraytefila.org/wp-content/uploads/2019/08/Rabbi-David-Greenberg.png
END:VEVENT
BEGIN:VEVENT
DTSTART;TZID=America/New_York:20241115T190000
DTEND;TZID=America/New_York:20241115T200000
DTSTAMP:20260421T075045
CREATED:20241110T092534Z
LAST-MODIFIED:20241110T094531Z
UID:10000035-1731697200-1731700800@www.shaaraytefila.org
SUMMARY:Shabbat
DESCRIPTION:
URL:https://www.shaaraytefila.org/event/shabbat-2/
CATEGORIES:Worship
ATTACH;FMTTYPE=image/jpeg:https://www.shaaraytefila.org/wp-content/uploads/2024/11/challah-cropped.jpg
END:VEVENT
BEGIN:VEVENT
DTSTART;TZID=America/New_York:20241116T085000
DTEND;TZID=America/New_York:20241116T100000
DTSTAMP:20260421T075045
CREATED:20241110T093947Z
LAST-MODIFIED:20241110T093947Z
UID:10000048-1731747000-1731751200@www.shaaraytefila.org
SUMMARY:Torah Study (Weekly)
DESCRIPTION:Weekly on Saturdays\, 8:50 – 10:00am \nSee the newsletter for the clergy member running Torah study each week.
URL:https://www.shaaraytefila.org/event/torah-study-weekly-2/
CATEGORIES:Worship
ATTACH;FMTTYPE=image/jpeg:https://www.shaaraytefila.org/wp-content/uploads/2024/09/torah-scrolls.jpg
END:VEVENT
BEGIN:VEVENT
DTSTART;TZID=America/New_York:20241118T120000
DTEND;TZID=America/New_York:20241118T130000
DTSTAMP:20260421T075045
CREATED:20241007T212125Z
LAST-MODIFIED:20241007T212125Z
UID:10000027-1731931200-1731934800@www.shaaraytefila.org
SUMMARY:Rabbi Greenberg Forum
DESCRIPTION:12:00 noon – 1:00pm\nWeekly on Monday
URL:https://www.shaaraytefila.org/event/rabbi-greenberg-forum-6/
CATEGORIES:Community,Worship
ATTACH;FMTTYPE=image/png:https://www.shaaraytefila.org/wp-content/uploads/2019/08/Rabbi-David-Greenberg.png
END:VEVENT
BEGIN:VEVENT
DTSTART;TZID=America/New_York:20241122T190000
DTEND;TZID=America/New_York:20241122T200000
DTSTAMP:20260421T075045
CREATED:20241110T092557Z
LAST-MODIFIED:20241113T132702Z
UID:10000036-1732302000-1732305600@www.shaaraytefila.org
SUMMARY:Shabbat with David Harris
DESCRIPTION:At Friday Night services on November 22nd\, we will welcome former congregant David Harris as a speaker. Mr. Harris led the American Jewish Committee for 32 years. President Shimon Peres recognized him as the “foreign minister of the Jewish people.” He has been honored more than twenty times by foreign governments for his international work\, making him the most decorated American Jewish organizational leader in U.S. history. Please join us for his unique perspective on the state of affairs in Israel\, the US and the World. More info HERE. This is a free event but please RSVP HERE.
URL:https://www.shaaraytefila.org/event/shabbat-with-david-harris/
CATEGORIES:Worship
ATTACH;FMTTYPE=image/png:https://www.shaaraytefila.org/wp-content/uploads/2024/10/Screenshot-2024-10-16-at-5.41.44-PM.png
END:VEVENT
BEGIN:VEVENT
DTSTART;TZID=America/New_York:20241123T085000
DTEND;TZID=America/New_York:20241123T100000
DTSTAMP:20260421T075045
CREATED:20241110T094056Z
LAST-MODIFIED:20241110T094056Z
UID:10000049-1732351800-1732356000@www.shaaraytefila.org
SUMMARY:Torah Study (Weekly)
DESCRIPTION:Weekly on Saturdays\, 8:50 – 10:00am \nSee the newsletter for the clergy member running Torah study each week.
URL:https://www.shaaraytefila.org/event/torah-study-weekly-3/
CATEGORIES:Worship
ATTACH;FMTTYPE=image/jpeg:https://www.shaaraytefila.org/wp-content/uploads/2024/09/torah-scrolls.jpg
END:VEVENT
BEGIN:VEVENT
DTSTART;TZID=America/New_York:20241125T120000
DTEND;TZID=America/New_York:20241125T130000
DTSTAMP:20260421T075045
CREATED:20241007T212148Z
LAST-MODIFIED:20241007T212148Z
UID:10000026-1732536000-1732539600@www.shaaraytefila.org
SUMMARY:Rabbi Greenberg Forum
DESCRIPTION:12:00 noon – 1:00pm\nWeekly on Monday
URL:https://www.shaaraytefila.org/event/rabbi-greenberg-forum-7/
CATEGORIES:Community,Worship
ATTACH;FMTTYPE=image/png:https://www.shaaraytefila.org/wp-content/uploads/2019/08/Rabbi-David-Greenberg.png
END:VEVENT
BEGIN:VEVENT
DTSTART;TZID=America/New_York:20241129T190000
DTEND;TZID=America/New_York:20241129T200000
DTSTAMP:20260421T075045
CREATED:20241110T092727Z
LAST-MODIFIED:20241121T203315Z
UID:10000319-1732906800-1732910400@www.shaaraytefila.org
SUMMARY:Shabbat Service & Oneg
DESCRIPTION:
URL:https://www.shaaraytefila.org/event/shabbat-5/2024-11-29/
CATEGORIES:Worship
ATTACH;FMTTYPE=image/jpeg:https://www.shaaraytefila.org/wp-content/uploads/2024/11/challah-cropped.jpg
END:VEVENT
BEGIN:VEVENT
DTSTART;TZID=America/New_York:20241130T085000
DTEND;TZID=America/New_York:20241130T100000
DTSTAMP:20260421T075045
CREATED:20241110T094106Z
LAST-MODIFIED:20241110T094106Z
UID:10000050-1732956600-1732960800@www.shaaraytefila.org
SUMMARY:Torah Study (Weekly)
DESCRIPTION:Weekly on Saturdays\, 8:50 – 10:00am \nSee the newsletter for the clergy member running Torah study each week.
URL:https://www.shaaraytefila.org/event/torah-study-weekly-4/
CATEGORIES:Worship
ATTACH;FMTTYPE=image/jpeg:https://www.shaaraytefila.org/wp-content/uploads/2024/09/torah-scrolls.jpg
END:VEVENT
BEGIN:VEVENT
DTSTART;TZID=America/New_York:20241130T190000
DTEND;TZID=America/New_York:20241130T200000
DTSTAMP:20260421T075045
CREATED:20241110T092659Z
LAST-MODIFIED:20241110T093148Z
UID:10000037-1732993200-1732996800@www.shaaraytefila.org
SUMMARY:Shabbat
DESCRIPTION:
URL:https://www.shaaraytefila.org/event/shabbat-4/
CATEGORIES:Worship
ATTACH;FMTTYPE=image/jpeg:https://www.shaaraytefila.org/wp-content/uploads/2024/11/challah-cropped.jpg
END:VEVENT
END:VCALENDAR