BEGIN:VCALENDAR
VERSION:2.0
PRODID:-//Temple Shaaray Tefila - ECPv6.15.20//NONSGML v1.0//EN
CALSCALE:GREGORIAN
METHOD:PUBLISH
X-WR-CALNAME:Temple Shaaray Tefila
X-ORIGINAL-URL:https://www.shaaraytefila.org
X-WR-CALDESC:Events for Temple Shaaray Tefila
REFRESH-INTERVAL;VALUE=DURATION:PT1H
X-Robots-Tag:noindex
X-PUBLISHED-TTL:PT1H
BEGIN:VTIMEZONE
TZID:America/New_York
BEGIN:DAYLIGHT
TZOFFSETFROM:-0500
TZOFFSETTO:-0400
TZNAME:EDT
DTSTART:20230312T070000
END:DAYLIGHT
BEGIN:STANDARD
TZOFFSETFROM:-0400
TZOFFSETTO:-0500
TZNAME:EST
DTSTART:20231105T060000
END:STANDARD
BEGIN:DAYLIGHT
TZOFFSETFROM:-0500
TZOFFSETTO:-0400
TZNAME:EDT
DTSTART:20240310T070000
END:DAYLIGHT
BEGIN:STANDARD
TZOFFSETFROM:-0400
TZOFFSETTO:-0500
TZNAME:EST
DTSTART:20241103T060000
END:STANDARD
BEGIN:DAYLIGHT
TZOFFSETFROM:-0500
TZOFFSETTO:-0400
TZNAME:EDT
DTSTART:20250309T070000
END:DAYLIGHT
BEGIN:STANDARD
TZOFFSETFROM:-0400
TZOFFSETTO:-0500
TZNAME:EST
DTSTART:20251102T060000
END:STANDARD
BEGIN:DAYLIGHT
TZOFFSETFROM:-0500
TZOFFSETTO:-0400
TZNAME:EDT
DTSTART:20260308T070000
END:DAYLIGHT
BEGIN:STANDARD
TZOFFSETFROM:-0400
TZOFFSETTO:-0500
TZNAME:EST
DTSTART:20261101T060000
END:STANDARD
END:VTIMEZONE
BEGIN:VEVENT
DTSTART;VALUE=DATE:20250703
DTEND;VALUE=DATE:20250704
DTSTAMP:20260420T061208
CREATED:20250617T183041Z
LAST-MODIFIED:20250617T184334Z
UID:10001380-1751500800-1751587199@www.shaaraytefila.org
SUMMARY:Adults at Leisure: Loving Leah
DESCRIPTION:In Loving Leah\, a non-observant Jewish doctor\, Jake\, enters a platonic marriage with his deceased brother’s widow\, Leah\, to honor an ancient Jewish custom. The movie explores themes of love\, family\, tradition\, and personal growth as Jake and Leah navigate their unconventional relationship and discover genuine feelings for each other. The cast includes Lauren Ambrose\, Adam Kaufman\, Susie Essman\, Natasha Lyonne\, Ricki Lake and Mercedes Ruehl. \nAdults at Leisure is a monthly group facilitated by Shari B. Baum\, Coordinator of Partners in Caring at Westchester Jewish Community Services. We gather on the first Thursday of each month for a Jewish-themed movie and discussion. Feel free to bring your lunch. Coffee and dessert are provided!
URL:https://www.shaaraytefila.org/event/adults-at-leisure-loving-leah/
CATEGORIES:Community
ATTACH;FMTTYPE=image/jpeg:https://www.shaaraytefila.org/wp-content/uploads/2025/06/Loving-Leah.jpg.jpg
END:VEVENT
BEGIN:VEVENT
DTSTART;VALUE=DATE:20250619
DTEND;VALUE=DATE:20250620
DTSTAMP:20260420T061208
CREATED:20250612T131325Z
LAST-MODIFIED:20250612T131325Z
UID:10001378-1750291200-1750377599@www.shaaraytefila.org
SUMMARY:June Book Club selection: The Women
DESCRIPTION:Join the TST Book Club as they discuss this portrait of coming of age in a dangerous time and an epic tale of a nation divided. Author Kristin Hannah is the bestselling author of more than 20 novels including the international blockbuster\, The Nightingale\, winner of the Goodreads 2024 award for Best Historical Fiction. \nAlso\, be sure to join us for our upcoming book discussions: \nJuly 10th: The Frozen River by Ariel Lawhon\nAn historical mystery inspired by the life and diary of Martha Ballard\, a renowned 18th Century midwife who defied the legal system and wrote herself into American history.  She investigates a murder and scandal \, fighting prejudice and injustice to uncover the truth\, and leaves a remarkable legacy. \nAugust: TBD \nSeptember: James by Percival Everett\nThis novel reimagines Mark Twain’s Adventures of Huckleberry Finn from the perspective of Jim\, the enslaved Black man who accompanies Huck Finn.  The story takes place in 1861 as Jim overhears plans to sell him to a New Orleans owner\, separating him from his family. He hides on Jackson Island to plan his escape\, which becomes a dangerous journey down the Mississippi River with Huck. \nOctober: The Lion Women of Tehran by Marjan Kamali\nA heartfelt\, epic new novel of friendship\, betrayal\, and redemption set against three transformative decades in Tehran\, Iran.  A great way to understand how Iran became the country it is today. \n 
URL:https://www.shaaraytefila.org/event/june-book-club-selection-the-women/
CATEGORIES:Community
ATTACH;FMTTYPE=image/jpeg:https://www.shaaraytefila.org/wp-content/uploads/2025/06/The-Women-cover-scaled.jpg
END:VEVENT
BEGIN:VEVENT
DTSTART;TZID=America/New_York:20250529T080000
DTEND;TZID=America/New_York:20250529T170000
DTSTAMP:20260420T061208
CREATED:20250501T193652Z
LAST-MODIFIED:20250522T212403Z
UID:10001306-1748505600-1748538000@www.shaaraytefila.org
SUMMARY:Brotherhood BBQ
DESCRIPTION:Brotherhood Bar-B-Que – Thursday\, May 29th\, 7 PM \nJoin our Brotherhood as we enjoy the warmer weather with a fired-up grill for a BBQ. The event will feature the bossa nova stylings of congregant Jacob Betensky\, a junior at Fox Lane High School\, and his band Avenue Blue. Hot food\, cold drinks\, and great vibes await. \nPlease RSVP by May 27th
URL:https://www.shaaraytefila.org/event/brotherhood-bbq/
CATEGORIES:Brotherhood,Community
ATTACH;FMTTYPE=image/png:https://www.shaaraytefila.org/wp-content/uploads/2025/05/bbq2.png
END:VEVENT
BEGIN:VEVENT
DTSTART;TZID=America/New_York:20250521T190000
DTEND;TZID=America/New_York:20250521T213000
DTSTAMP:20260420T061208
CREATED:20250515T191721Z
LAST-MODIFIED:20250515T191721Z
UID:10001367-1747854000-1747863000@www.shaaraytefila.org
SUMMARY:Kibbutz Kfar Azza Returns to TIC: Hear Their Stories\, Stand in Unity
DESCRIPTION:Thursday\, May 21st\, 6:45 PM at Temple Israel Center \nPlease join Temple Israel Center on Wednesday evening\, May 21 to once again welcome guests from Kibbutz Kfar Azza for an update on their community’s rebuilding efforts and to hear their moving personal stories. RSVP by May 20
URL:https://www.shaaraytefila.org/event/kibbutz-kfar-azza-returns-to-tic-hear-their-stories-stand-in-unity/
CATEGORIES:Community
ATTACH;FMTTYPE=image/png:https://www.shaaraytefila.org/wp-content/uploads/2025/05/Kfar_Azza_5-21-2025_4.png
END:VEVENT
BEGIN:VEVENT
DTSTART;TZID=America/New_York:20250519T190000
DTEND;TZID=America/New_York:20250519T200000
DTSTAMP:20260420T061208
CREATED:20250515T191417Z
LAST-MODIFIED:20250515T200609Z
UID:10001366-1747681200-1747684800@www.shaaraytefila.org
SUMMARY:Thanksgiving Program Recognition: THIS MONDAY\, May 19\, 7 PM
DESCRIPTION:Join us online or in person as the Westchester County Board of Legislators celebrates the contributions of our Community Thanksgiving Dinner Program\, an interfaith effort that has fed thousands for more than 20 years. Several of our longtime congregants and community volunteers including Gary Cohn and Richard Leroy will be recognized. \nWatch the livestream or attend in person: \nMichaelian Office Building\n148 Martine Avenue\, 8th Floor\nWhite Plains\, New York 10601\nMonday\, May 19\, 7 PM
URL:https://www.shaaraytefila.org/event/comunity-services-recognition-monday-may-19-7-pm/
CATEGORIES:Community
ATTACH;FMTTYPE=image/png:https://www.shaaraytefila.org/wp-content/uploads/2025/05/Keritage-Month-Thanksgiving-Team.png
END:VEVENT
BEGIN:VEVENT
DTSTART;TZID=America/New_York:20250515T080000
DTEND;TZID=America/New_York:20250515T170000
DTSTAMP:20260420T061208
CREATED:20250428T182706Z
LAST-MODIFIED:20250428T182738Z
UID:10001303-1747296000-1747328400@www.shaaraytefila.org
SUMMARY:The Rebirth of Jewish Life in the Shadow of Auschwitz with Jonathan Ornstein
DESCRIPTION:The Rebirth of Jewish Life in the Shadow of Auschwitz with Jonathan Ornstein – Thursday\, May 15th\, 7 PM \nThe Israel Education Committee is delighted to welcome Jonathan Ornstein\, CEO of JCC Krakow. Since he became CEO in 2008\, the JCC has grown to 1\,100 Jewish members\, with 10\,000 visitors every month. It stands as one of the most visible signs of Poland’s Jewish revival. The event will include a kosher wine tasting courtesy of The Study Fine Wines and crudité and cheese platters courtesy of Bedford Post Inn. RSVP
URL:https://www.shaaraytefila.org/event/the-rebirth-of-jewish-life-in-the-shadow-of-auschwitz-with-jonathan-ornstein/
CATEGORIES:Community
ATTACH;FMTTYPE=image/jpeg:https://www.shaaraytefila.org/wp-content/uploads/2025/04/Ornstein-1.jpg
END:VEVENT
BEGIN:VEVENT
DTSTART;TZID=America/New_York:20250501T080000
DTEND;TZID=America/New_York:20250501T170000
DTSTAMP:20260420T061208
CREATED:20250428T174000Z
LAST-MODIFIED:20250428T174049Z
UID:10001277-1746086400-1746118800@www.shaaraytefila.org
SUMMARY:Adults at Leisure
DESCRIPTION:Adults at Leisure: Life is Beautiful – Thursday\, May 1st\, 1 PM \nJoin us for this Academy Award-winning film about a Jewish-Italian waiter who shelters his son from the horrors of a concentration camp by convincing him that their time there is part of a game.
URL:https://www.shaaraytefila.org/event/adults-at-leisure-5/
CATEGORIES:Community
ATTACH;FMTTYPE=image/jpeg:https://www.shaaraytefila.org/wp-content/uploads/2025/04/life-is-beautiful.jpg
END:VEVENT
BEGIN:VEVENT
DTSTART;TZID=America/New_York:20250428T100000
DTEND;TZID=America/New_York:20250428T120000
DTSTAMP:20260420T061208
CREATED:20250416T182954Z
LAST-MODIFIED:20250416T183339Z
UID:10001270-1745834400-1745841600@www.shaaraytefila.org
SUMMARY:Bedford Books Event
DESCRIPTION:Please join us for Breakfast & Books… \nBook signing and author reading from On Being Jewish Now\, an intimate and hopeful collection of meaningful\, smart\, funny\, sad\, emotional\, and inspiring essays from today’s authors and advocates about what it means to be Jewish\, how life has changed since the attacks on October 7th\, 2023\, and the unique culture that brings this group together. \nMonday\, April 28th\n10 am – 12 pm \nBedford Books\n13 Court Road\nBedford\, NY
URL:https://www.shaaraytefila.org/event/bedford-books-event/
LOCATION:Bedford Books 13 Court Road Bedford\, NY\, 13 Court Road\, Bedford\, NY\, 10589
CATEGORIES:Community
ATTACH;FMTTYPE=image/jpeg:https://www.shaaraytefila.org/wp-content/uploads/2025/04/Onbeing-jewishcover.jpeg
END:VEVENT
BEGIN:VEVENT
DTSTART;TZID=America/New_York:20250428T080000
DTEND;TZID=America/New_York:20250428T170000
DTSTAMP:20260420T061208
CREATED:20250428T173821Z
LAST-MODIFIED:20250428T182306Z
UID:10001276-1745827200-1745859600@www.shaaraytefila.org
SUMMARY:Screening of October 8 – Monday\, April 28th\, 7 PM at the Bedford Playhouse
DESCRIPTION:Please join us for a special screening of this documentary about the rise in antisemitism after the horrific attacks on Israel. Presented in partnership with Temple Shaaray Tefila\, Chabad of Bedford\, End the Silence\, and Mt. Kisco Hebrew Congregation. Learn More and Order Tickets
URL:https://www.shaaraytefila.org/event/screening-of-october-8-monday-april-28th-7-pm-at-the-bedford-playhouse/
CATEGORIES:Community
END:VEVENT
BEGIN:VEVENT
DTSTART;TZID=America/New_York:20250424T190000
DTEND;TZID=America/New_York:20250424T210000
DTSTAMP:20260420T061208
CREATED:20250416T183727Z
LAST-MODIFIED:20250416T183727Z
UID:10001271-1745521200-1745528400@www.shaaraytefila.org
SUMMARY:Mah Jongg
DESCRIPTION:Join us for fun game of Mah Jongg in the JHC at 7-9pm.
URL:https://www.shaaraytefila.org/event/mah-jongg-2/
CATEGORIES:Community,Sisterhood
ATTACH;FMTTYPE=image/png:https://www.shaaraytefila.org/wp-content/uploads/2025/02/Mahjong.png
END:VEVENT
BEGIN:VEVENT
DTSTART;TZID=America/New_York:20250330T140000
DTEND;TZID=America/New_York:20250330T160000
DTSTAMP:20260420T061208
CREATED:20250303T192927Z
LAST-MODIFIED:20250320T192205Z
UID:10001001-1743343200-1743350400@www.shaaraytefila.org
SUMMARY:AJC Westchester/Fairfield Empowering Parents Summit
DESCRIPTION:Protecting Our Students\, Strengthening Our Voices\nSunday\, March 30th\, from 2:00-4:00 pm  \nTemple Shaaray Tefila of Westchester\, 89 Baldwin Road\, Bedford Corners\, NY.  \n Join us for the Northern Westchester AJC Westchester/Fairfield Empowering Parents Summit\, a vital program designed to equip parents of high school and college students with the knowledge\, strategies\, and resources to advocate for their children. Antisemitism is rising at an alarming rate in educational spaces\, from K-12 schools to college campuses. As parents\, we cannot afford to be passive bystanders—we must be informed\, prepared\, and proactive. \n\nLearn how to recognize and address antisemitism in schools and on campus\nGain expert insights on preparing your child for college—what to ask\, what to expect\, and where to find support\nDiscover ways to empower your child to be a confident advocate for themselves and their community\n\nThis event is specifically tailored for PARENTS of high school and college students\, but students are also welcome to attend. Together\, we can ensure that the next generation is ready to navigate campus life with confidence and resilience. \nJoin us. Be informed. Take action. \nRSVP HERE\nThere is a suggested donation of $36 to AJC for the program. \nDownload: Empowering Parents Summit Northern Westchester March 30 2025 PDF of the program
URL:https://www.shaaraytefila.org/event/ajc-westchester-fairfield-parent-summit/
LOCATION:Temple Shaaray Tefila – JHC
CATEGORIES:Community
ATTACH;FMTTYPE=image/jpeg:https://www.shaaraytefila.org/wp-content/uploads/2025/03/AJC-logo-image001-scaled.jpg
END:VEVENT
BEGIN:VEVENT
DTSTART;TZID=America/New_York:20250322T200000
DTEND;TZID=America/New_York:20250322T220000
DTSTAMP:20260420T061208
CREATED:20250122T215802Z
LAST-MODIFIED:20250122T215813Z
UID:10000862-1742673600-1742680800@www.shaaraytefila.org
SUMMARY:Frankenstein - at the Chappaqua Performing Arts Center
DESCRIPTION:Congregant Highlight: Michael Shapiro\nMichael Shapiro’s Frankenstein – The Movie Score will be performed at the Chappaqua Performing Arts Center (ChappPac) on Saturday\, March 22\, 2025. His work is internationally acclaimed\, and has been performed 65 times worldwide. \nDon’t miss this exciting opportunity to support one of our own!
URL:https://www.shaaraytefila.org/event/frankenstein-at-the-chappaqua-performing-arts-center/
CATEGORIES:Community
ATTACH;FMTTYPE=application/pdf:https://www.shaaraytefila.org/wp-content/uploads/2025/01/Frankenstein-pdf.pdf
END:VEVENT
BEGIN:VEVENT
DTSTART;TZID=America/New_York:20250321T110000
DTEND;TZID=America/New_York:20250321T130000
DTSTAMP:20260420T061208
CREATED:20250318T145258Z
LAST-MODIFIED:20250320T192128Z
UID:10001263-1742554800-1742562000@www.shaaraytefila.org
SUMMARY:Kidney Donation Awareness and Swabbing Event
DESCRIPTION:Please help a member of the broader Westchester Jewish community by getting a simple swab as a potential kidney donor. See the picture for details. \n 
URL:https://www.shaaraytefila.org/event/kidney-donation-awareness-and-swabbing-event/
LOCATION:Congregation Sons of Israel\, Briarcliff Manor\, 1666 Pleasantville Road\, Briarcliff Manor\, NY\, 10510\, United States
CATEGORIES:Community,Social Action
END:VEVENT
BEGIN:VEVENT
DTSTART;TZID=America/New_York:20250309T100000
DTEND;TZID=America/New_York:20250309T230000
DTSTAMP:20260420T061208
CREATED:20250117T160050Z
LAST-MODIFIED:20250117T160423Z
UID:10000859-1741514400-1741561200@www.shaaraytefila.org
SUMMARY:Cafe Shaaray  - When a Lie is not a Sin
DESCRIPTION:Join Rabbi Ross for a lively discussion during Religious School.  Teen lounge from 10am-11am.  Bagels and coffee will be served! \nAll are welcome! \n  \n 
URL:https://www.shaaraytefila.org/event/cafe-shaaray-when-a-lie-is-not-a-sin/
CATEGORIES:Community,Learning,Worship
ATTACH;FMTTYPE=image/png:https://www.shaaraytefila.org/wp-content/uploads/2025/01/CAFE-SHAARAY.png
END:VEVENT
BEGIN:VEVENT
DTSTART;TZID=America/New_York:20250119T140000
DTEND;TZID=America/New_York:20250119T140000
DTSTAMP:20260420T061208
CREATED:20250115T155512Z
LAST-MODIFIED:20250115T162458Z
UID:10000852-1737295200-1737295200@www.shaaraytefila.org
SUMMARY:A Celebration of Faith Communities at the Mount Kisco Public Library
DESCRIPTION:Enjoy the celebrations of Mount Kisco‘s 150th anniversary with events\, nostalgic photos\, and inspiring stories that unite our community and honor our rich history.\n\nThe first is a celebration of Faith Communities on Sunday\, 1/19 at 2pm in the public library (100 E. Main Street).\n\nMany anniversaries including Bet Torah’s 75th\, Lutheran Church’s 90th\, St. Mark’s 175th\, and UMC’s 200th!\n\nLooking forward to Temple Shaaray Tefila’s 50th next year!\n\nFaith Communities of Mount Kisco photography exhibition will be open during library hours through February 23rd.
URL:https://www.shaaraytefila.org/event/a-celebration-of-faith-communities-at-the-mount-kisco-public-library/
LOCATION:Mount Kisco Public Library
CATEGORIES:Community
ATTACH;FMTTYPE=image/jpeg:https://www.shaaraytefila.org/wp-content/uploads/2025/01/unnamed-2.jpg
END:VEVENT
BEGIN:VEVENT
DTSTART;TZID=America/New_York:20241215T160000
DTEND;TZID=America/New_York:20241215T183000
DTSTAMP:20260420T061208
CREATED:20241028T214822Z
LAST-MODIFIED:20241125T153842Z
UID:10000031-1734278400-1734287400@www.shaaraytefila.org
SUMMARY:Night of Light
DESCRIPTION:Sunday\, December 15th 4-6:30pm \nPlease join us for our annual special Hanukah celebration! We light up the night\, sing Hanukah songs\, light candles\, crafts\, face painters\, food and drink. RSVP HERE. \nWant to help? Click HERE
URL:https://www.shaaraytefila.org/event/night-of-light/
LOCATION:Temple Social Hall
CATEGORIES:Community
ATTACH;FMTTYPE=image/png:https://www.shaaraytefila.org/wp-content/uploads/2024/10/NEXT-1.png
END:VEVENT
BEGIN:VEVENT
DTSTART;TZID=America/New_York:20241205T130000
DTEND;TZID=America/New_York:20241205T150000
DTSTAMP:20260420T061208
CREATED:20241120T194858Z
LAST-MODIFIED:20241120T194858Z
UID:10000060-1733403600-1733410800@www.shaaraytefila.org
SUMMARY:Adults at Leisure
DESCRIPTION:Hester Street. A film by Joan Micklin Silver \nGitl and her son arrive on the Lower East side of New York in 1896 to join her husband\, Jake. While Jake\, who has job in a sweatshop and an English-speaking girlfriend\, has completely embraced America\, Gitl clings to her old country ways. Jake is embarrassed to be seen with her as he struggles to assimilate by shedding his ethnic heritage. Gitl finds a way to become victor instead of victim.
URL:https://www.shaaraytefila.org/event/adults-at-leisure/
CATEGORIES:Community
ATTACH;FMTTYPE=image/png:https://www.shaaraytefila.org/wp-content/uploads/2024/11/Screenshot-2024-11-19-at-1.22.08-PM.png
END:VEVENT
BEGIN:VEVENT
DTSTART;TZID=America/New_York:20241203T180000
DTEND;TZID=America/New_York:20241203T210000
DTSTAMP:20260420T061208
CREATED:20241120T193816Z
LAST-MODIFIED:20241125T154738Z
UID:10000059-1733248800-1733259600@www.shaaraytefila.org
SUMMARY:Margaritas & Menorahs
DESCRIPTION:Join us for an evening of cocktails\, creativity\, and fun! Create a beautiful keepsake glass menorah for your family’s Hanukkah celebrations\, or perhaps a gift for someone special. We look forward to being together for an evening of Margaritas and Menorahs! (The event includes all congregants 14+). More info and register HERE.
URL:https://www.shaaraytefila.org/event/margaritas-menorahs/
LOCATION:The Pottery Factory\, Mount Kisco
CATEGORIES:Community
ATTACH;FMTTYPE=image/png:https://www.shaaraytefila.org/wp-content/uploads/2024/11/Menorahs-and-Margaritas-200-x-250-px-1.png
END:VEVENT
BEGIN:VEVENT
DTSTART;TZID=America/New_York:20241202T190000
DTEND;TZID=America/New_York:20241202T190000
DTSTAMP:20260420T061208
CREATED:20241113T132247Z
LAST-MODIFIED:20241121T191832Z
UID:10000056-1733166000-1733166000@www.shaaraytefila.org
SUMMARY:Sisterhood Stretch & Balance Event
DESCRIPTION:*The Art of Relaxation and Mitzvot*\n Stretched & Balance Class JHC Monday Dec 2 @ 7pm\nCLICK FOR FLYER \nRSVP HERE \nIn this well-balanced class\, dynamic movement\, balance work and traditional stretches will increase your flexibilty and mobility\, improve recovery time and reduce muscle stiffness and soreness. \nInstructor\, Kathy Margiasso specializes in assisted stretch\, mobility and anti-aging. \nShe is an instructor at Lifetime Fitness in Chappaqua.
URL:https://www.shaaraytefila.org/event/sisterhood-stretch-balance-event/
CATEGORIES:Community
ATTACH;FMTTYPE=image/png:https://www.shaaraytefila.org/wp-content/uploads/2024/11/Screenshot-2024-11-04-at-5.15.20-PM.png
END:VEVENT
BEGIN:VEVENT
DTSTART;TZID=America/New_York:20241125T120000
DTEND;TZID=America/New_York:20241125T130000
DTSTAMP:20260420T061208
CREATED:20241007T212148Z
LAST-MODIFIED:20241007T212148Z
UID:10000026-1732536000-1732539600@www.shaaraytefila.org
SUMMARY:Rabbi Greenberg Forum
DESCRIPTION:12:00 noon – 1:00pm\nWeekly on Monday
URL:https://www.shaaraytefila.org/event/rabbi-greenberg-forum-7/
CATEGORIES:Community,Worship
ATTACH;FMTTYPE=image/png:https://www.shaaraytefila.org/wp-content/uploads/2019/08/Rabbi-David-Greenberg.png
END:VEVENT
BEGIN:VEVENT
DTSTART;TZID=America/New_York:20241118T120000
DTEND;TZID=America/New_York:20241118T130000
DTSTAMP:20260420T061208
CREATED:20241007T212125Z
LAST-MODIFIED:20241007T212125Z
UID:10000027-1731931200-1731934800@www.shaaraytefila.org
SUMMARY:Rabbi Greenberg Forum
DESCRIPTION:12:00 noon – 1:00pm\nWeekly on Monday
URL:https://www.shaaraytefila.org/event/rabbi-greenberg-forum-6/
CATEGORIES:Community,Worship
ATTACH;FMTTYPE=image/png:https://www.shaaraytefila.org/wp-content/uploads/2019/08/Rabbi-David-Greenberg.png
END:VEVENT
BEGIN:VEVENT
DTSTART;TZID=America/New_York:20241113T091500
DTEND;TZID=America/New_York:20241113T144500
DTSTAMP:20260420T061208
CREATED:20241110T084951Z
LAST-MODIFIED:20241110T084951Z
UID:10000032-1731489300-1731509100@www.shaaraytefila.org
SUMMARY:Shopping at Shaaray
DESCRIPTION:
URL:https://www.shaaraytefila.org/event/shopping-at-shaaray/
CATEGORIES:Community
ATTACH;FMTTYPE=image/jpeg:https://www.shaaraytefila.org/wp-content/uploads/2024/11/shopping-2024-cropped.jpg
END:VEVENT
BEGIN:VEVENT
DTSTART;TZID=America/New_York:20241111T120000
DTEND;TZID=America/New_York:20241111T130000
DTSTAMP:20260420T061208
CREATED:20241007T212107Z
LAST-MODIFIED:20241007T212107Z
UID:10000028-1731326400-1731330000@www.shaaraytefila.org
SUMMARY:Rabbi Greenberg Forum
DESCRIPTION:12:00 noon – 1:00pm\nWeekly on Monday
URL:https://www.shaaraytefila.org/event/rabbi-greenberg-forum-5/
CATEGORIES:Community,Worship
ATTACH;FMTTYPE=image/png:https://www.shaaraytefila.org/wp-content/uploads/2019/08/Rabbi-David-Greenberg.png
END:VEVENT
BEGIN:VEVENT
DTSTART;TZID=America/New_York:20241104T120000
DTEND;TZID=America/New_York:20241104T130000
DTSTAMP:20260420T061208
CREATED:20241007T212043Z
LAST-MODIFIED:20241007T212043Z
UID:10000029-1730721600-1730725200@www.shaaraytefila.org
SUMMARY:Rabbi Greenberg Forum
DESCRIPTION:12:00 noon – 1:00pm\nWeekly on Monday
URL:https://www.shaaraytefila.org/event/rabbi-greenberg-forum-4/
CATEGORIES:Community,Worship
ATTACH;FMTTYPE=image/png:https://www.shaaraytefila.org/wp-content/uploads/2019/08/Rabbi-David-Greenberg.png
END:VEVENT
BEGIN:VEVENT
DTSTART;TZID=America/New_York:20241028T120000
DTEND;TZID=America/New_York:20241028T130000
DTSTAMP:20260420T061208
CREATED:20241007T211932Z
LAST-MODIFIED:20241007T211932Z
UID:10000025-1730116800-1730120400@www.shaaraytefila.org
SUMMARY:Rabbi Greenberg Forum
DESCRIPTION:12:00 noon – 1:00pm\nWeekly on Monday
URL:https://www.shaaraytefila.org/event/rabbi-greenberg-forum-3/
CATEGORIES:Community,Worship
ATTACH;FMTTYPE=image/png:https://www.shaaraytefila.org/wp-content/uploads/2019/08/Rabbi-David-Greenberg.png
END:VEVENT
BEGIN:VEVENT
DTSTART;TZID=America/New_York:20241021T120000
DTEND;TZID=America/New_York:20241021T130000
DTSTAMP:20260420T061208
CREATED:20241007T211741Z
LAST-MODIFIED:20241007T211741Z
UID:10000024-1729512000-1729515600@www.shaaraytefila.org
SUMMARY:Rabbi Greenberg Forum
DESCRIPTION:12:00 noon – 1:00pm\nWeekly on Monday
URL:https://www.shaaraytefila.org/event/rabbi-greenberg-forum-2/
CATEGORIES:Community,Worship
ATTACH;FMTTYPE=image/png:https://www.shaaraytefila.org/wp-content/uploads/2019/08/Rabbi-David-Greenberg.png
END:VEVENT
BEGIN:VEVENT
DTSTART;TZID=America/New_York:20241016T180000
DTEND;TZID=America/New_York:20241016T190000
DTSTAMP:20260420T061208
CREATED:20241007T213612Z
LAST-MODIFIED:20241007T213612Z
UID:10000030-1729101600-1729105200@www.shaaraytefila.org
SUMMARY:Pot Luck Dinner
DESCRIPTION:
URL:https://www.shaaraytefila.org/event/pot-luck-dinner/
CATEGORIES:Community
ATTACH;FMTTYPE=image/jpeg:https://www.shaaraytefila.org/wp-content/uploads/2024/10/homemade-food-on-festive-table-2024-square.jpg
END:VEVENT
BEGIN:VEVENT
DTSTART;TZID=America/New_York:20241014T120000
DTEND;TZID=America/New_York:20241014T130000
DTSTAMP:20260420T061208
CREATED:20241007T211607Z
LAST-MODIFIED:20241007T211607Z
UID:10000023-1728907200-1728910800@www.shaaraytefila.org
SUMMARY:Rabbi Greenberg Forum
DESCRIPTION:12:00 noon – 1:00pm\nWeekly on Monday
URL:https://www.shaaraytefila.org/event/rabbi-greenberg-forum/
CATEGORIES:Community,Worship
ATTACH;FMTTYPE=image/png:https://www.shaaraytefila.org/wp-content/uploads/2019/08/Rabbi-David-Greenberg.png
END:VEVENT
BEGIN:VEVENT
DTSTART;TZID=America/New_York:20240927T180000
DTEND;TZID=America/New_York:20240927T190000
DTSTAMP:20260420T061208
CREATED:20240924T154734Z
LAST-MODIFIED:20240924T155855Z
UID:10000021-1727460000-1727463600@www.shaaraytefila.org
SUMMARY:Selichot Dinner
DESCRIPTION:When: Friday\, September 27⋅6:00 – 7:00pm
URL:https://www.shaaraytefila.org/event/selichot-dinner/
CATEGORIES:Community,Worship
ATTACH;FMTTYPE=image/jpeg:https://www.shaaraytefila.org/wp-content/uploads/2024/09/white-empty-plates.jpg
END:VEVENT
BEGIN:VEVENT
DTSTART;TZID=America/New_York:20240925T190000
DTEND;TZID=America/New_York:20240925T210000
DTSTAMP:20260420T061208
CREATED:20240924T154053Z
LAST-MODIFIED:20241114T172635Z
UID:10000020-1727290800-1727298000@www.shaaraytefila.org
SUMMARY:Choir Rehearsal #4 in JHC
DESCRIPTION:Choir Rehearsal #4 in JHC \nWhen: Wed\, September 25\, 7pm – 9pm
URL:https://www.shaaraytefila.org/event/choir-rehearsal-4-in-jhc/
CATEGORIES:Community
ATTACH;FMTTYPE=image/jpeg:https://www.shaaraytefila.org/wp-content/uploads/2024/09/choir-practice.jpg
END:VEVENT
END:VCALENDAR